BEGIN:VCALENDAR
VERSION:2.0
PRODID:-//Comrie - ECPv6.15.20//NONSGML v1.0//EN
CALSCALE:GREGORIAN
METHOD:PUBLISH
X-ORIGINAL-URL:https://www.comrie.org.uk
X-WR-CALDESC:Events for Comrie
REFRESH-INTERVAL;VALUE=DURATION:PT1H
X-Robots-Tag:noindex
X-PUBLISHED-TTL:PT1H
BEGIN:VTIMEZONE
TZID:Europe/London
BEGIN:DAYLIGHT
TZOFFSETFROM:+0000
TZOFFSETTO:+0100
TZNAME:BST
DTSTART:20230326T010000
END:DAYLIGHT
BEGIN:STANDARD
TZOFFSETFROM:+0100
TZOFFSETTO:+0000
TZNAME:GMT
DTSTART:20231029T010000
END:STANDARD
BEGIN:DAYLIGHT
TZOFFSETFROM:+0000
TZOFFSETTO:+0100
TZNAME:BST
DTSTART:20240331T010000
END:DAYLIGHT
BEGIN:STANDARD
TZOFFSETFROM:+0100
TZOFFSETTO:+0000
TZNAME:GMT
DTSTART:20241027T010000
END:STANDARD
BEGIN:DAYLIGHT
TZOFFSETFROM:+0000
TZOFFSETTO:+0100
TZNAME:BST
DTSTART:20250330T010000
END:DAYLIGHT
BEGIN:STANDARD
TZOFFSETFROM:+0100
TZOFFSETTO:+0000
TZNAME:GMT
DTSTART:20251026T010000
END:STANDARD
END:VTIMEZONE
BEGIN:VEVENT
DTSTART;TZID=Europe/London:20240414T133000
DTEND;TZID=Europe/London:20240414T170000
DTSTAMP:20260421T110342
CREATED:20240407T112956Z
LAST-MODIFIED:20240407T112956Z
UID:19780-1713101400-1713114000@www.comrie.org.uk
SUMMARY:Comrie Bowling Club Open Day
DESCRIPTION:Comrie Bowling Club is having its Open Day on Sunday 14th April. \n \n  \n 
URL:https://www.comrie.org.uk/event/comrie-bowling-club-open-day/
LOCATION:Comrie Bowling Club
END:VEVENT
END:VCALENDAR