BEGIN:VCALENDAR
VERSION:2.0
PRODID:-//Comrie - ECPv6.15.20//NONSGML v1.0//EN
CALSCALE:GREGORIAN
METHOD:PUBLISH
X-WR-CALNAME:Comrie
X-ORIGINAL-URL:https://www.comrie.org.uk
X-WR-CALDESC:Events for Comrie
REFRESH-INTERVAL;VALUE=DURATION:PT1H
X-Robots-Tag:noindex
X-PUBLISHED-TTL:PT1H
BEGIN:VTIMEZONE
TZID:Europe/London
BEGIN:DAYLIGHT
TZOFFSETFROM:+0000
TZOFFSETTO:+0100
TZNAME:BST
DTSTART:20230326T010000
END:DAYLIGHT
BEGIN:STANDARD
TZOFFSETFROM:+0100
TZOFFSETTO:+0000
TZNAME:GMT
DTSTART:20231029T010000
END:STANDARD
BEGIN:DAYLIGHT
TZOFFSETFROM:+0000
TZOFFSETTO:+0100
TZNAME:BST
DTSTART:20240331T010000
END:DAYLIGHT
BEGIN:STANDARD
TZOFFSETFROM:+0100
TZOFFSETTO:+0000
TZNAME:GMT
DTSTART:20241027T010000
END:STANDARD
BEGIN:DAYLIGHT
TZOFFSETFROM:+0000
TZOFFSETTO:+0100
TZNAME:BST
DTSTART:20250330T010000
END:DAYLIGHT
BEGIN:STANDARD
TZOFFSETFROM:+0100
TZOFFSETTO:+0000
TZNAME:GMT
DTSTART:20251026T010000
END:STANDARD
BEGIN:DAYLIGHT
TZOFFSETFROM:+0000
TZOFFSETTO:+0100
TZNAME:BST
DTSTART:20260329T010000
END:DAYLIGHT
BEGIN:STANDARD
TZOFFSETFROM:+0100
TZOFFSETTO:+0000
TZNAME:GMT
DTSTART:20261025T010000
END:STANDARD
END:VTIMEZONE
BEGIN:VEVENT
DTSTART;TZID=Europe/London:20240323T080000
DTEND;TZID=Europe/London:20240324T170000
DTSTAMP:20260420T203227
CREATED:20240126T143924Z
LAST-MODIFIED:20240126T143924Z
UID:19655-1711180800-1711299600@www.comrie.org.uk
SUMMARY:Clarty Paws Muddy Dog Run
DESCRIPTION:The  Clarty Paws Muddy Dog Run event is coming up soon so book your tickets now.\nThe Clarty Paws Challenge is a 2.5k\, 5k or 10k muddy dog run suitable for those who enjoy canicross\, running with dogs or just want a family fun day out.\nThe course includes the slip n slide\, pit of lost soles\, the pond dash and the dirty dawg forest and the doggy hill scramble this year.\nAll entrants will receive\n– a Clarty Paws T-Shirt\n– a bespoke Clarty Paws medal\n– a ‘dirty dog’ hot dog from the cafe\n– free admission to the park and zoo\n– before and after digital photos\n– event village\nSpectators are welcome.\nA special discounted park ticket is available for friends and family who want to visit the zoo on the day whilst you are running.\nSpectators go free and the cafe is open to all.\n\nThis is a fund raising event and all funds will go towards creating a new dog walking area with water stations\, dog poo bins\, fencing and landscaping.\nWhen complete\, it will be accessible from the cafe / main car park and open to everyone.\nIt will be a great day.\nhttps://bit.ly/AuchingarrichClartyPaws\nMissing Pets\, Perth and Kinross Scotland PADS Dogs Trust
URL:https://www.comrie.org.uk/event/clarty-paws-muddy-dog-run/
LOCATION:Auchingarrich
END:VEVENT
BEGIN:VEVENT
DTSTART;TZID=Europe/London:20240330T200000
DTEND;TZID=Europe/London:20240330T230000
DTSTAMP:20260420T203227
CREATED:20240329T131503Z
LAST-MODIFIED:20240329T131503Z
UID:19763-1711828800-1711839600@www.comrie.org.uk
SUMMARY:Made of Stone
DESCRIPTION:Made of Stone the Shane Meadows documentary about the Stone Roses followed by Ancblaster DJs. BYOB
URL:https://www.comrie.org.uk/event/made-of-stone/
LOCATION:Comrie Rural Hall
END:VEVENT
BEGIN:VEVENT
DTSTART;TZID=Europe/London:20240414T133000
DTEND;TZID=Europe/London:20240414T170000
DTSTAMP:20260420T203227
CREATED:20240407T112956Z
LAST-MODIFIED:20240407T112956Z
UID:19780-1713101400-1713114000@www.comrie.org.uk
SUMMARY:Comrie Bowling Club Open Day
DESCRIPTION:Comrie Bowling Club is having its Open Day on Sunday 14th April. \n \n  \n 
URL:https://www.comrie.org.uk/event/comrie-bowling-club-open-day/
LOCATION:Comrie Bowling Club
END:VEVENT
BEGIN:VEVENT
DTSTART;TZID=Europe/London:20240420T120000
DTEND;TZID=Europe/London:20240420T140000
DTSTAMP:20260420T203227
CREATED:20240415T215750Z
LAST-MODIFIED:20240415T215935Z
UID:19808-1713614400-1713621600@www.comrie.org.uk
SUMMARY:Comrie Golf Club Soup and Sandwich Lunch Saturday 20th April 12 to 2 pm
DESCRIPTION:Comrie Golf Club is having a soup and sandwich lunch in the White Church on Saturday\, April 20th\, from 12 p.m. until 2 p.m. \nAdults are £6 pounds each\, Under 12s £4 \nAll welcome. \nSoup and sandwich lunch poster2024
URL:https://www.comrie.org.uk/event/comrie-golf-club-soup-and-sandwich-lunch-saturday-20th-april-12-to-2-pm/
LOCATION:White Church Community Centre\, Drummond Street\, Comrie
END:VEVENT
BEGIN:VEVENT
DTSTART;TZID=Europe/London:20240519T150000
DTEND;TZID=Europe/London:20240519T220000
DTSTAMP:20260420T203227
CREATED:20240511T200631Z
LAST-MODIFIED:20240511T200631Z
UID:19893-1716130800-1716156000@www.comrie.org.uk
SUMMARY:Comrie Cinema Club
DESCRIPTION:Our next films are on Sunday May 19th. These will be the last till after the summer.\n\n\nAt 3pm we’re showing MIGRATION for the kids – which is FREE to all.\nA family of ducks decides to leave the safety of a New England pond for an adventurous trip to Jamaica. However\, their well-laid plans quickly go awry when they get lost and wind up in New York City.\n\n\nIn the evening at 7.30pm we’re showing the 2023 film ‘The Color Purple’ which is based on the Broadway musical. It’s the story of the classic book by Alice Walker.\nTickets £7 from Hansen’s Kitchen and Eventbrite (plus booking fee)
URL:https://www.comrie.org.uk/event/comrie-cinema-club-3/
LOCATION:Comrie Rural Hall
END:VEVENT
BEGIN:VEVENT
DTSTART;TZID=Europe/London:20240525T120000
DTEND;TZID=Europe/London:20240525T140000
DTSTAMP:20260420T203227
CREATED:20240511T194940Z
LAST-MODIFIED:20240511T195101Z
UID:19877-1716638400-1716645600@www.comrie.org.uk
SUMMARY:Comrie in Colour Plant Sale
DESCRIPTION:Comrie in Colour are having a plant sale on Sunday 25th May at Cultybraggan Camp
URL:https://www.comrie.org.uk/event/comrie-in-colour-plant-sale-2/
LOCATION:Cultybraggan Camp\, Comrie\, ph6 2hx
END:VEVENT
BEGIN:VEVENT
DTSTART;TZID=Europe/London:20240609T120000
DTEND;TZID=Europe/London:20240609T150000
DTSTAMP:20260420T203227
CREATED:20240609T085303Z
LAST-MODIFIED:20240609T085303Z
UID:19918-1717934400-1717945200@www.comrie.org.uk
SUMMARY:Comrie Parish Church Community Barbecue
DESCRIPTION:Join us on Sunday 9th June at Comrie Parish Church. Following our United Service and tea and coffee time we will be enjoying a barbecue in the church grounds. Bring the family\, bring a friend\, bring a blanket\, bring a bottle. We will be supplying the food.\n\n\nWe look forward to seeing you all there
URL:https://www.comrie.org.uk/event/comrie-parish-church-community-barbecue/
LOCATION:Comrie Parish Church\, Burrell Street\, Comrie\, PH6 2JP
END:VEVENT
BEGIN:VEVENT
DTSTART;TZID=Europe/London:20240612T140000
DTEND;TZID=Europe/London:20240612T153000
DTSTAMP:20260420T203227
CREATED:20240609T090130Z
LAST-MODIFIED:20240609T090130Z
UID:19922-1718200800-1718206200@www.comrie.org.uk
SUMMARY:Sing-a-Long
DESCRIPTION:Sing-a-long at the Parish Curch on the 12th June – All Welcome
URL:https://www.comrie.org.uk/event/sing-a-long-2/
LOCATION:Comrie Parish Church\, Burrell Street\, Comrie\, PH6 2JP
END:VEVENT
BEGIN:VEVENT
DTSTART;TZID=Europe/London:20240729T120000
DTEND;TZID=Europe/London:20240729T143000
DTSTAMP:20260420T203227
CREATED:20240705T062132Z
LAST-MODIFIED:20240705T062132Z
UID:19958-1722254400-1722263400@www.comrie.org.uk
SUMMARY:Basic Life Support and CPR skills training
DESCRIPTION:Crieff Fire Station are running Basic Life Support and CPR skills training for members of the public on the 29th June at Strathearn Community Campus. \n. \n 
URL:https://www.comrie.org.uk/event/basic-life-support-and-cpr-skills-training/
LOCATION:Strathearn Community Campus
END:VEVENT
BEGIN:VEVENT
DTSTART;TZID=Europe/London:20240821T183000
DTEND;TZID=Europe/London:20240821T210000
DTSTAMP:20260420T203227
CREATED:20240819T190256Z
LAST-MODIFIED:20240819T190256Z
UID:20000-1724265000-1724274000@www.comrie.org.uk
SUMMARY:Public Meeting Invergeldie Native Woodland Creation
DESCRIPTION:Tree Story and Oxygen Conservation are hosting a public meeting in the White Church on Wednesday\, August 21st\, at 6:30 p.m.\, concerning the proposed developments for the Invergeldie Estate. \nIf you would like further information\, please get in touch with Elanor Teel on 07437958559 or email elanor.teel@treestory.org.uk \n \n 
URL:https://www.comrie.org.uk/event/public-meeting-invergeldie-native-woodland-creation/
LOCATION:White Church Community Centre\, Drummond Street\, Comrie
END:VEVENT
BEGIN:VEVENT
DTSTART;TZID=Europe/London:20250213T190000
DTEND;TZID=Europe/London:20250213T210000
DTSTAMP:20260420T203227
CREATED:20241216T214755Z
LAST-MODIFIED:20241216T214755Z
UID:20090-1739473200-1739480400@www.comrie.org.uk
SUMMARY:Comrie and District Community Council Meeting
DESCRIPTION:The first meeting of 2025 will be held in the White Church on Thursday\, February 13th\, at 7 p.m.
URL:https://www.comrie.org.uk/event/comrie-and-district-community-council-meeting/
LOCATION:White Church Community Centre\, Drummond Street\, Comrie
END:VEVENT
BEGIN:VEVENT
DTSTART;TZID=Europe/London:20250329T120000
DTEND;TZID=Europe/London:20250329T140000
DTSTAMP:20260420T203227
CREATED:20250324T125227Z
LAST-MODIFIED:20250324T125227Z
UID:20138-1743249600-1743256800@www.comrie.org.uk
SUMMARY:Comrie Golf Club Soup and Sandwich Lunch
DESCRIPTION:Comrie Golf Club Ladies are hosting a soup and sandwich lunch in the White Church on Saturday\, March 29th\, from 12 pm to 2 pm. \nThere will be a baking stall and a tombola. A donation from the proceedings will go to the Legion Park.
URL:https://www.comrie.org.uk/event/comrie-golf-club-soup-and-sandwich-lunch/
LOCATION:White Church Community Centre\, Drummond Street\, Comrie
END:VEVENT
BEGIN:VEVENT
DTSTART;TZID=Europe/London:20250413T150000
DTEND;TZID=Europe/London:20250413T153000
DTSTAMP:20260420T203227
CREATED:20250324T130559Z
LAST-MODIFIED:20250324T130559Z
UID:20142-1744556400-1744558200@www.comrie.org.uk
SUMMARY:Comrie in Colour War Memorial Garden Ceremony
DESCRIPTION:Comrie in Colour is holding a ceremony in the War Memorial Garden on Sunday\, 13th April\, at 3 p.m. to celebrate the recent completion of the Comrie War Memorial Garden Upgrade Project. \nThe Reverend Craig Dobney will officiate at the ceremony.
URL:https://www.comrie.org.uk/event/comrie-in-colour-war-memorial-garden-ceremony/
LOCATION:War Memorial Garden\, Dalginross\, Comrie\, Perth and Kinross\, United Kingdom
END:VEVENT
BEGIN:VEVENT
DTSTART;VALUE=DATE:20251106
DTEND;VALUE=DATE:20251107
DTSTAMP:20260420T203227
CREATED:20250703T201256Z
LAST-MODIFIED:20250703T201256Z
UID:20175-1762387200-1762473599@www.comrie.org.uk
SUMMARY:Comrie and District Community Council Election
DESCRIPTION:
URL:https://www.comrie.org.uk/event/comrie-and-district-community-council-election/
END:VEVENT
END:VCALENDAR