BEGIN:VCALENDAR
VERSION:2.0
PRODID:-//Comrie - ECPv6.15.20//NONSGML v1.0//EN
CALSCALE:GREGORIAN
METHOD:PUBLISH
X-WR-CALNAME:Comrie
X-ORIGINAL-URL:https://www.comrie.org.uk
X-WR-CALDESC:Events for Comrie
REFRESH-INTERVAL;VALUE=DURATION:PT1H
X-Robots-Tag:noindex
X-PUBLISHED-TTL:PT1H
BEGIN:VTIMEZONE
TZID:Europe/London
BEGIN:DAYLIGHT
TZOFFSETFROM:+0000
TZOFFSETTO:+0100
TZNAME:BST
DTSTART:20180325T010000
END:DAYLIGHT
BEGIN:STANDARD
TZOFFSETFROM:+0100
TZOFFSETTO:+0000
TZNAME:GMT
DTSTART:20181028T010000
END:STANDARD
BEGIN:DAYLIGHT
TZOFFSETFROM:+0000
TZOFFSETTO:+0100
TZNAME:BST
DTSTART:20190331T010000
END:DAYLIGHT
BEGIN:STANDARD
TZOFFSETFROM:+0100
TZOFFSETTO:+0000
TZNAME:GMT
DTSTART:20191027T010000
END:STANDARD
BEGIN:DAYLIGHT
TZOFFSETFROM:+0000
TZOFFSETTO:+0100
TZNAME:BST
DTSTART:20200329T010000
END:DAYLIGHT
BEGIN:STANDARD
TZOFFSETFROM:+0100
TZOFFSETTO:+0000
TZNAME:GMT
DTSTART:20201025T010000
END:STANDARD
END:VTIMEZONE
BEGIN:VEVENT
DTSTART;TZID=Europe/London:20191109T100000
DTEND;TZID=Europe/London:20191109T160000
DTSTAMP:20260421T170346
CREATED:20191002T155232Z
LAST-MODIFIED:20191002T155232Z
UID:12717-1573293600-1573315200@www.comrie.org.uk
SUMMARY:Comrie Craft Fair
DESCRIPTION:[vc_row][vc_column][vc_column_text css=”.vc_custom_1570031543967{margin-bottom: 0px !important;}”]Admission is completely free \nFood and drinks will be available\, provided by the SWI[/vc_column_text][/vc_column][/vc_row]
URL:https://www.comrie.org.uk/event/comrie-craft-fair/
LOCATION:White Church Community Centre\, Drummond Street\, Comrie
END:VEVENT
BEGIN:VEVENT
DTSTART;VALUE=DATE:20191102
DTEND;VALUE=DATE:20191103
DTSTAMP:20260421T170346
CREATED:20191024T142808Z
LAST-MODIFIED:20191024T142808Z
UID:12872-1572652800-1572739199@www.comrie.org.uk
SUMMARY:Comrie's Blast in the Park
DESCRIPTION:[vc_row][vc_column][vc_column_text css=”.vc_custom_1571927281730{margin-bottom: 0px !important;}”]LOOK OUT FOR THE POSTER WITH TIMINGS – COMING SOON \nThe PTA in association with Blast Design are having the fireworks ‘Blast In The Park’ in Laggan Park\, Comrie on Saturday 2nd Nov. \nAll welcome and entry by donation for school and community groups fund raising[/vc_column_text][/vc_column][/vc_row]
URL:https://www.comrie.org.uk/event/comries-blast-in-the-park/
LOCATION:Laggan Park
END:VEVENT
BEGIN:VEVENT
DTSTART;TZID=Europe/London:20191029T180000
DTEND;TZID=Europe/London:20191029T190000
DTSTAMP:20260421T170346
CREATED:20191007T183704Z
LAST-MODIFIED:20191007T183704Z
UID:12743-1572372000-1572375600@www.comrie.org.uk
SUMMARY:Halloween Wreath Making Workshop
DESCRIPTION:[vc_row][vc_column][vc_column_text css=”.vc_custom_1570473415918{margin-bottom: 0px !important;}”]Fun wreath making workshop with Willow Works\, Tuesday 29th October: Wreath making workshop\, Rural Hall\, Comrie\, 6pm to 7pm. £12 text June on 07771875443\, message Willow Works\, Crieff or email june@junemcewan.biz \nWe will supply the willow\, greenery\, spooky add-ons and tools. Bring some decorations to suit your taste – bats\, ribbons\, fresh flowers\, spooky lights\, the sky’s the limit!! \nYou will learn how to make a natural wreath from willow\, decorate it and take home on the evening. \nChildren are welcome\, but must be aware of the scary tools and long willow rods and guardians will be expected to guard! There will be some willow items and various cards available to buy on the evening. \nTools\, (secateurs etc.) will be provided\, but if you have your own\, please bring them along as it will prevent the need for sharing! \nHow to pay:\nCheques to\nJune McEwan T/A The WORKS \nBACS to\nAccount Name\nJune McEwan T/A The WORKS\nAccount No: 0000 222 3\nSort Code; 30 – 25 – 87\nBank Address\nTSB High St. Crieff\, PH7 3AH \nPayPal\npaypal.me/JuneMcEwan/18[/vc_column_text][/vc_column][/vc_row]
URL:https://www.comrie.org.uk/event/halloween-wreath-making-workshop/
LOCATION:Comrie Rural Hall
END:VEVENT
BEGIN:VEVENT
DTSTART;TZID=Europe/London:20191026T100000
DTEND;TZID=Europe/London:20191027T160000
DTSTAMP:20260421T170346
CREATED:20191024T143517Z
LAST-MODIFIED:20191024T143517Z
UID:12880-1572084000-1572192000@www.comrie.org.uk
SUMMARY:Christmas Shopping at Tullybannocher
DESCRIPTION:[vc_row][vc_column][vc_column_text css=”.vc_custom_1571927711081{margin-bottom: 0px !important;}”]Come on to Tullybannocher and make a start to your Christmas Shopping with gorgeous goodies available in MoKa Pottery and Riverside Gifts\, spend £10 or more and enjoy a free tea or coffee in the cafe\, and be entered into our raffle. \nOver the weekend Tullybannocher Cafe will have a 2 course carvery for £12 per person along with the usual menu.[/vc_column_text][/vc_column][/vc_row]
URL:https://www.comrie.org.uk/event/christmas-shopping-at-tullybannocher/
END:VEVENT
BEGIN:VEVENT
DTSTART;TZID=Europe/London:20191023T190000
DTEND;TZID=Europe/London:20191023T230000
DTSTAMP:20260421T170346
CREATED:20191007T185006Z
LAST-MODIFIED:20191007T185006Z
UID:12762-1571857200-1571871600@www.comrie.org.uk
SUMMARY:BLASDA The Autumn Feast at Comrie Croft
DESCRIPTION:[vc_row][vc_column][vc_column_text css=”.vc_custom_1570474200304{margin-bottom: 0px !important;}”]A celebration of local food and drink\, with amazing Tomnah’a produce at the heart of it all. Menu will be published a little closer to the day itself\, please let us know if you have any dietary requirements in advance. \n£38 for canapés and 3 courses plus mocktails and Bigwig Brewery beer. BYOB. \nTickets in advance only from Comrie Croft and Hansen’s Kitchen.[/vc_column_text][/vc_column][/vc_row]
URL:https://www.comrie.org.uk/event/blasda-the-autumn-feast-at-comrie-croft/
LOCATION:Comrie Croft\, Comrie\, PH7 4JZ
END:VEVENT
BEGIN:VEVENT
DTSTART;TZID=Europe/London:20191020T193000
DTEND;TZID=Europe/London:20191020T220000
DTSTAMP:20260421T170346
CREATED:20190125T203556Z
LAST-MODIFIED:20190125T203556Z
UID:11096-1571599800-1571608800@www.comrie.org.uk
SUMMARY:Monthly Quiz at the White Church Community Centre
DESCRIPTION:The ever popular Monthly Quiz held at the White Church. \nTeams of 4 (£12 includes refreshments).\nBYOB.\n7.30 start with quiz master John Greer.\nEveryone welcome.
URL:https://www.comrie.org.uk/event/monthly-quiz-at-the-white-church-community-centre-6/
LOCATION:White Church Community Centre\, Drummond Street\, Comrie
END:VEVENT
BEGIN:VEVENT
DTSTART;TZID=Europe/London:20191020T110000
DTEND;TZID=Europe/London:20191020T160000
DTSTAMP:20260421T170346
CREATED:20190929T125329Z
LAST-MODIFIED:20190929T125329Z
UID:12659-1571569200-1571587200@www.comrie.org.uk
SUMMARY:Apple Day at Cultybraggan Camp - 20th October
DESCRIPTION:[vc_row][vc_column][vc_column_text css=”.vc_custom_1569761602187{margin-bottom: 0px !important;}”]Lot of fun for everyone. \nBuy fresh Apple Juice\nApples for sale\, cookers and eaters\nHome Baking\, Jams and Chutneys for sale\nLocal food producers\nBread\, Cheese\, Vegetables and Honey\nChildren’s Art\, Games and more[/vc_column_text][/vc_column][/vc_row]
URL:https://www.comrie.org.uk/event/apple-day-at-cultybraggan-camp-20th-october/
LOCATION:Cultybraggan Camp\, Comrie\, ph6 2hx
END:VEVENT
BEGIN:VEVENT
DTSTART;TZID=Europe/London:20191012T110000
DTEND;TZID=Europe/London:20191012T160000
DTSTAMP:20260421T170346
CREATED:20191001T185353Z
LAST-MODIFIED:20191001T185353Z
UID:12687-1570878000-1570896000@www.comrie.org.uk
SUMMARY:Culty Craft Fair
DESCRIPTION:[vc_row][vc_column][vc_column_text css=”.vc_custom_1569956023318{margin-bottom: 0px !important;}”]An Arts & Crafts Fair open to individuals\, non-profit organisations\, general vendors\, and local businesses. \nWhy not join us and bring your own craft stall/table to Culty craft fair? \nWe are looking to have over 30 stalls ranging from jewellery\, wrought iron work\, wooden crafts and many other handmade and artisan products.[/vc_column_text][/vc_column][/vc_row]
URL:https://www.comrie.org.uk/event/culty-craft-fair/
LOCATION:Cultybraggan Camp\, Comrie\, ph6 2hx
END:VEVENT
BEGIN:VEVENT
DTSTART;TZID=Europe/London:20191010T193000
DTEND;TZID=Europe/London:20191010T210000
DTSTAMP:20260421T170346
CREATED:20190205T105138Z
LAST-MODIFIED:20190205T105138Z
UID:11274-1570735800-1570741200@www.comrie.org.uk
SUMMARY:Comrie Community Council - Public Meeting
DESCRIPTION:The Community Council meet at the White Church the second Thursday of every month (except July & August) in the downstairs lounge at the White Church.  For more information on the CC please visit: https://www.comrie.org.uk/community-council/
URL:https://www.comrie.org.uk/event/comrie-community-council-public-meeting-3/
LOCATION:White Church Community Centre\, Drummond Street\, Comrie
END:VEVENT
BEGIN:VEVENT
DTSTART;TZID=Europe/London:20191009T140000
DTEND;TZID=Europe/London:20191009T153000
DTSTAMP:20260421T170346
CREATED:20190212T132000Z
LAST-MODIFIED:20190212T132017Z
UID:11341-1570629600-1570635000@www.comrie.org.uk
SUMMARY:Comrie Sing-a-Long
DESCRIPTION:Sing-a-long Wednesday.\n2.00-3.30pm\nComrie Parish Church.\nAll Welcome.
URL:https://www.comrie.org.uk/event/comrie-sing-a-long-9/
LOCATION:Comrie Parish Church Hall\, Burrell Street\, Comrie\, PH6 2JP
END:VEVENT
BEGIN:VEVENT
DTSTART;TZID=Europe/London:20190927T170000
DTEND;TZID=Europe/London:20190927T220000
DTSTAMP:20260421T170346
CREATED:20190920T094552Z
LAST-MODIFIED:20190920T094552Z
UID:12628-1569603600-1569621600@www.comrie.org.uk
SUMMARY:Mexican Night at the Annie
DESCRIPTION:[vc_row][vc_column][vc_column_text css=”.vc_custom_1568972730436{margin-bottom: 0px !important;}”]Delicious Mexican food & drink night\, so book your table with Hansen’s Kitchen in advance 01764 670253 \n#tacos #tequila #tastytacos #pubgrub\n#drinksandeats #craftbeer #pub #localpub #comrie #perthshire #traditionalpub #ancasterarms #Popup #localbeers #realbeer #familyfriendly #dogswelcome #popuppub #toasties #greatatmosphere[/vc_column_text][/vc_column][/vc_row]
URL:https://www.comrie.org.uk/event/mexican-night-at-the-annie/
LOCATION:Ancaster Arms\, Comrie\, PH6 2DW
END:VEVENT
BEGIN:VEVENT
DTSTART;TZID=Europe/London:20190915T193000
DTEND;TZID=Europe/London:20190915T220000
DTSTAMP:20260421T170346
CREATED:20190125T203450Z
LAST-MODIFIED:20190125T203450Z
UID:11094-1568575800-1568584800@www.comrie.org.uk
SUMMARY:Monthly Quiz at the White Church Community Centre
DESCRIPTION:The ever popular Monthly Quiz held at the White Church. \nTeams of 4 (£12 includes refreshments).\nBYOB.\n7.30 start with quiz master John Greer.\nEveryone welcome.
URL:https://www.comrie.org.uk/event/monthly-quiz-at-the-white-church-community-centre-5/
END:VEVENT
BEGIN:VEVENT
DTSTART;TZID=Europe/London:20190912T193000
DTEND;TZID=Europe/London:20190912T210000
DTSTAMP:20260421T170346
CREATED:20190205T105020Z
LAST-MODIFIED:20190205T105045Z
UID:11271-1568316600-1568322000@www.comrie.org.uk
SUMMARY:Comrie Community Council - Public Meeting
DESCRIPTION:The Community Council meet at the White Church the second Thursday of every month (except July & August) in the downstairs lounge at the White Church.  For more information on the CC please visit: https://www.comrie.org.uk/community-council/
URL:https://www.comrie.org.uk/event/11271/
LOCATION:White Church Community Centre\, Drummond Street\, Comrie
END:VEVENT
BEGIN:VEVENT
DTSTART;TZID=Europe/London:20190911T093000
DTEND;TZID=Europe/London:20190911T153000
DTSTAMP:20260421T170346
CREATED:20190212T131759Z
LAST-MODIFIED:20190212T131759Z
UID:11339-1568194200-1568215800@www.comrie.org.uk
SUMMARY:Comrie Sing-a-Long
DESCRIPTION:Sing-a-long Wednesday.\n2.00-3.30pm\nComrie Parish Church.\nAll Welcome.
URL:https://www.comrie.org.uk/event/comrie-sing-a-long-8/
LOCATION:Comrie Parish Church Hall\, Burrell Street\, Comrie\, PH6 2JP
END:VEVENT
BEGIN:VEVENT
DTSTART;TZID=Europe/London:20190907T193000
DTEND;TZID=Europe/London:20190907T223000
DTSTAMP:20260421T170346
CREATED:20190210T165535Z
LAST-MODIFIED:20190210T165535Z
UID:11304-1567884600-1567895400@www.comrie.org.uk
SUMMARY:Chris's Gigs Presents - Amy Papiranski Band
DESCRIPTION:Sept 7th  Amy Papiranski Band \nA going places young piano and fiddle playing singer with a voice of an angel.\nhttp://amypapiransky.com/wp/
URL:https://www.comrie.org.uk/event/chriss-gigs-presents-amy-papiranski-band/
LOCATION:White Church Community Centre\, Drummond Street\, Comrie
END:VEVENT
BEGIN:VEVENT
DTSTART;TZID=Europe/London:20190901T130000
DTEND;TZID=Europe/London:20190901T150000
DTSTAMP:20260421T170346
CREATED:20190821T071318Z
LAST-MODIFIED:20190821T071327Z
UID:12607-1567342800-1567350000@www.comrie.org.uk
SUMMARY:Comrie Petanque Club - Opening Day
DESCRIPTION:[vc_row][vc_column][vc_column_text css=”.vc_custom_1566371567072{margin-bottom: 0px !important;}”]Comrie Pétanque Club Opening Day will be on Sunday\n1st September at 1 pm. \nThe Comrie Pétanque Club would like to offer a very warm welcome to everyone in Comrie\, the surrounding areas and all visitors\, to come along and see the new Pétanque Piste which has been constructed at Comrie Golf Club\, Laggan Braes\, Comrie and to try out this fantastic sport. Membership forms will also be available on the day\, if you are not already a member and wish to join. \n\nThere will be bacon rolls\, tray bakes\, teas and coffee for sale in the Golf Club Clubhouse on the day and a raffle. \nWe look forward to seeing you all there. \nKind regards \nThe Committe (CPC)\nc/o Comrie Golf Club\, Laggan Braes\, Comrie \n\n[/vc_column_text][/vc_column][/vc_row]
URL:https://www.comrie.org.uk/event/comrie-petanque-club-opening-day/
LOCATION:Comrie Golf Club\, Laggan Braes\, Comrie\, United Kingdom
END:VEVENT
BEGIN:VEVENT
DTSTART;TZID=Europe/London:20190824T193000
DTEND;TZID=Europe/London:20190824T230000
DTSTAMP:20260421T170346
CREATED:20190821T070721Z
LAST-MODIFIED:20190821T070721Z
UID:12603-1566675000-1566687600@www.comrie.org.uk
SUMMARY:Countess of Fife - Live at the White Church
DESCRIPTION:[vc_row][vc_column][vc_column_text css=”.vc_custom_1566371232532{margin-bottom: 0px !important;}”]Get your dancing shoes and cowboy hats on ! \nFay Fife with her alt-country band The Countess Of Fife. Tickets are £15 and available from Hansens Delicatessen Comrie or on Eventbrite https://www.eventbrite.co.uk/e/the-countess-of-fife-tickets-65813019513?fbclid=IwAR3GDG2tje4j5LSRM-5Vx2ErbEzAI_tUnCwbp9vGguklSQqKcXx2xX4bL1Y[/vc_column_text][/vc_column][/vc_row]
URL:https://www.comrie.org.uk/event/countess-of-fife-live-at-the-white-church/
LOCATION:White Church Community Centre\, Drummond Street\, Comrie
END:VEVENT
BEGIN:VEVENT
DTSTART;TZID=Europe/London:20190818T193000
DTEND;TZID=Europe/London:20190818T220000
DTSTAMP:20260421T170346
CREATED:20190125T203351Z
LAST-MODIFIED:20190125T203351Z
UID:11092-1566156600-1566165600@www.comrie.org.uk
SUMMARY:Monthly Quiz at the White Church Community Centre
DESCRIPTION:The ever popular Monthly Quiz held at the White Church. \nTeams of 4 (£12 includes refreshments).\nBYOB.\n7.30 start with quiz master John Greer.\nEveryone welcome.
URL:https://www.comrie.org.uk/event/monthly-quiz-at-the-white-church-community-centre-4/
LOCATION:White Church Community Centre\, Drummond Street\, Comrie
END:VEVENT
BEGIN:VEVENT
DTSTART;TZID=Europe/London:20190814T140000
DTEND;TZID=Europe/London:20190814T153000
DTSTAMP:20260421T170346
CREATED:20190212T131621Z
LAST-MODIFIED:20190212T131621Z
UID:11337-1565791200-1565796600@www.comrie.org.uk
SUMMARY:Comrie Sing-a-Long
DESCRIPTION:Sing-a-long Wednesday.\n2.00-3.30pm\nComrie Parish Church.\nAll Welcome.
URL:https://www.comrie.org.uk/event/comrie-sing-a-long-7/
LOCATION:Comrie Parish Church Hall\, Burrell Street\, Comrie\, PH6 2JP
END:VEVENT
BEGIN:VEVENT
DTSTART;TZID=Europe/London:20190802T080000
DTEND;TZID=Europe/London:20190802T170000
DTSTAMP:20260421T170346
CREATED:20190505T142040Z
LAST-MODIFIED:20190505T142040Z
UID:12071-1564732800-1564765200@www.comrie.org.uk
SUMMARY:Ancaster Arms-Traditional Pub Pop-Up
DESCRIPTION:[vc_row][vc_column][vc_column_text css=”.vc_custom_1557066032395{margin-bottom: 0px !important;}”]Looking forward to opening during Comrie Fortnight (20th July-3rd August). Opening times and activities running are to be confirmed\, so we’ll add more details to this event shortly.[/vc_column_text][/vc_column][/vc_row]
URL:https://www.comrie.org.uk/event/ancaster-arms-traditional-pub-pop-up/
LOCATION:Comrie Parish Church Hall\, Burrell Street\, Comrie\, PH6 2JP
END:VEVENT
BEGIN:VEVENT
DTSTART;TZID=Europe/London:20190729T110000
DTEND;TZID=Europe/London:20190729T140000
DTSTAMP:20260421T170346
CREATED:20190720T104654Z
LAST-MODIFIED:20190720T104654Z
UID:12484-1564398000-1564408800@www.comrie.org.uk
SUMMARY:Pangolin Group - Tiger Day
DESCRIPTION:[vc_row][vc_column][vc_column_text css=”.vc_custom_1563619604509{margin-bottom: 0px !important;}”]The Pangolin Group are working on a new topic – Tiger Day – to be held 29th July 11am-2pm up at the Croft \nPlease go along to meet our young people and learn more about the plight of tigers in the wild[/vc_column_text][/vc_column][/vc_row]
URL:https://www.comrie.org.uk/event/pangolin-group-tiger-day/
LOCATION:Comrie Croft\, Comrie\, PH7 4JZ
END:VEVENT
BEGIN:VEVENT
DTSTART;TZID=Europe/London:20190720T140000
DTEND;TZID=Europe/London:20190803T220000
DTSTAMP:20260421T170346
CREATED:20190123T084003Z
LAST-MODIFIED:20190123T084027Z
UID:11058-1563631200-1564869600@www.comrie.org.uk
SUMMARY:Comrie Fortnight - 2 weeks of fun and frolics
DESCRIPTION:
URL:https://www.comrie.org.uk/event/comrie-fortnight-2-weeks-of-fun-and-frolics/
END:VEVENT
BEGIN:VEVENT
DTSTART;TZID=Europe/London:20190714T193000
DTEND;TZID=Europe/London:20190714T220000
DTSTAMP:20260421T170346
CREATED:20190125T203231Z
LAST-MODIFIED:20190125T203231Z
UID:11090-1563132600-1563141600@www.comrie.org.uk
SUMMARY:Monthly Quiz at the White Church Community Centre
DESCRIPTION:The ever popular Monthly Quiz held at the White Church. \nTeams of 4 (£12 includes refreshments).\nBYOB.\n7.30 start with quiz master John Greer.\nEveryone welcome.
URL:https://www.comrie.org.uk/event/monthly-quiz-at-the-white-church-community-centre-3/
LOCATION:White Church Community Centre\, Drummond Street\, Comrie
END:VEVENT
BEGIN:VEVENT
DTSTART;TZID=Europe/London:20190710T140000
DTEND;TZID=Europe/London:20190710T153000
DTSTAMP:20260421T170346
CREATED:20190212T131414Z
LAST-MODIFIED:20190212T131414Z
UID:11335-1562767200-1562772600@www.comrie.org.uk
SUMMARY:Comrie Sing-a-Long
DESCRIPTION:Sing-a-long Wednesday.\n2.00-3.30pm\nComrie Parish Church.\nAll Welcome.
URL:https://www.comrie.org.uk/event/comrie-sing-a-long-6/
LOCATION:Comrie Parish Church Hall\, Burrell Street\, Comrie\, PH6 2JP
END:VEVENT
BEGIN:VEVENT
DTSTART;TZID=Europe/London:20190629T183000
DTEND;TZID=Europe/London:20190629T193000
DTSTAMP:20260421T170346
CREATED:20190626T113650Z
LAST-MODIFIED:20190626T113650Z
UID:12309-1561833000-1561836600@www.comrie.org.uk
SUMMARY:Comrie Pipe Band - Canada Day Parade
DESCRIPTION:[vc_row][vc_column][vc_column_text css=”.vc_custom_1561549003955{margin-bottom: 0px !important;}”]Busy weekend for Comrie’s Pipe Band band coming up.\nSaturday night we’ve got our annual Canada Day Parade\, starting off from the Comrie Hotel at about 6.40pm \nThen on Sunday it’s over to Muthill to entertain the crowds at Gala Sunday.[/vc_column_text][/vc_column][/vc_row]
URL:https://www.comrie.org.uk/event/comrie-pipe-band-canada-day-parade/
END:VEVENT
BEGIN:VEVENT
DTSTART;VALUE=DATE:20190627
DTEND;VALUE=DATE:20190731
DTSTAMP:20260421T170346
CREATED:20190505T141808Z
LAST-MODIFIED:20190505T141808Z
UID:12069-1561593600-1564531199@www.comrie.org.uk
SUMMARY:Ancaster Arms-Traditional Pub Pop-up Weekend
DESCRIPTION:[vc_row][vc_column][vc_column_text css=”.vc_custom_1557065878671{margin-bottom: 0px !important;}”]Thurs-Sunday opening\, starting with LPs on Thursday night\, Burgers on Friday\, Pub-Games on Saturday and Roast lunch (prebook with Hansen’s Kitchen) followed by a Traditional Music Session from 3pm on Sunday.\nThe usual lovely selection of cask beers\, including a blonde for the lager drinker..perfect for those sunny summer days we’re expecting![/vc_column_text][/vc_column][/vc_row]
URL:https://www.comrie.org.uk/event/ancaster-arms-traditional-pub-pop-up-weekend/
END:VEVENT
BEGIN:VEVENT
DTSTART;TZID=Europe/London:20190622T140000
DTEND;TZID=Europe/London:20190622T170000
DTSTAMP:20260421T170346
CREATED:20190616T170443Z
LAST-MODIFIED:20190616T170457Z
UID:12226-1561212000-1561222800@www.comrie.org.uk
SUMMARY:Comrie Primary School Mid Summer Fair
DESCRIPTION:[vc_row][vc_column][vc_column_text css=”.vc_custom_1560704678267{margin-bottom: 0px !important;}”]Please support your PFA raise money for essential school funds by coming along to the Midsummer Fair. \nWhat’s Happening: Cream Tea\, Live Music\, selection of stalls\, Bouncy Castle\, Story Telling\, Coconut shy\, P5 – P7\, Face Painting\, Children’s Enterprise Stalls\, Plant Sale \nLocation: Comrie Parish Church Hall and Gardens Date: Saturday\, 22 June 2019 Time: 2 – 5pm[/vc_column_text][/vc_column][/vc_row]
URL:https://www.comrie.org.uk/event/comrie-primary-school-mid-summer-fair/
LOCATION:Comrie Parish Church Hall\, Burrell Street\, Comrie\, PH6 2JP
END:VEVENT
BEGIN:VEVENT
DTSTART;TZID=Europe/London:20190616T193000
DTEND;TZID=Europe/London:20190616T220000
DTSTAMP:20260421T170346
CREATED:20190125T203100Z
LAST-MODIFIED:20190125T203100Z
UID:11088-1560713400-1560722400@www.comrie.org.uk
SUMMARY:Monthly Quiz at the White Church Community Centre
DESCRIPTION:The ever popular Monthly Quiz held at the White Church. \nTeams of 4 (£12 includes refreshments).\nBYOB.\n7.30 start with quiz master John Greer.\nEveryone welcome.
URL:https://www.comrie.org.uk/event/monthly-quiz-at-the-white-church-community-centre-2/
LOCATION:White Church Community Centre\, Drummond Street\, Comrie
END:VEVENT
BEGIN:VEVENT
DTSTART;TZID=Europe/London:20190615T193000
DTEND;TZID=Europe/London:20190615T223000
DTSTAMP:20260421T170346
CREATED:20190210T165251Z
LAST-MODIFIED:20190210T165314Z
UID:11299-1560627000-1560637800@www.comrie.org.uk
SUMMARY:Chris's Gigs Presents - The Poozies
DESCRIPTION:June 15th The Poozies \nAll female\, high octane\, long established doyennes of the Scottish music scene.\nhttp://www.poozies.co.uk
URL:https://www.comrie.org.uk/event/11299/
LOCATION:White Church Community Centre\, Drummond Street\, Comrie
END:VEVENT
BEGIN:VEVENT
DTSTART;TZID=Europe/London:20190613T193000
DTEND;TZID=Europe/London:20190613T210000
DTSTAMP:20260421T170346
CREATED:20190205T104940Z
LAST-MODIFIED:20190205T104940Z
UID:11269-1560454200-1560459600@www.comrie.org.uk
SUMMARY:Comrie Community Council - Public Meeting
DESCRIPTION:The Community Council meet at the White Church the second Thursday of every month (except July & August) in the downstairs lounge at the White Church.  For more information on the CC please visit: https://www.comrie.org.uk/community-council/
URL:https://www.comrie.org.uk/event/comrie-community-council-public-meeting-2/
LOCATION:White Church Community Centre\, Drummond Street\, Comrie
END:VEVENT
END:VCALENDAR