BEGIN:VCALENDAR
VERSION:2.0
PRODID:-//Comrie - ECPv6.15.20//NONSGML v1.0//EN
CALSCALE:GREGORIAN
METHOD:PUBLISH
X-WR-CALNAME:Comrie
X-ORIGINAL-URL:https://www.comrie.org.uk
X-WR-CALDESC:Events for Comrie
REFRESH-INTERVAL;VALUE=DURATION:PT1H
X-Robots-Tag:noindex
X-PUBLISHED-TTL:PT1H
BEGIN:VTIMEZONE
TZID:Europe/London
BEGIN:DAYLIGHT
TZOFFSETFROM:+0000
TZOFFSETTO:+0100
TZNAME:BST
DTSTART:20180325T010000
END:DAYLIGHT
BEGIN:STANDARD
TZOFFSETFROM:+0100
TZOFFSETTO:+0000
TZNAME:GMT
DTSTART:20181028T010000
END:STANDARD
BEGIN:DAYLIGHT
TZOFFSETFROM:+0000
TZOFFSETTO:+0100
TZNAME:BST
DTSTART:20190331T010000
END:DAYLIGHT
BEGIN:STANDARD
TZOFFSETFROM:+0100
TZOFFSETTO:+0000
TZNAME:GMT
DTSTART:20191027T010000
END:STANDARD
BEGIN:DAYLIGHT
TZOFFSETFROM:+0000
TZOFFSETTO:+0100
TZNAME:BST
DTSTART:20200329T010000
END:DAYLIGHT
BEGIN:STANDARD
TZOFFSETFROM:+0100
TZOFFSETTO:+0000
TZNAME:GMT
DTSTART:20201025T010000
END:STANDARD
END:VTIMEZONE
BEGIN:VEVENT
DTSTART;TZID=Europe/London:20190512T100000
DTEND;TZID=Europe/London:20190512T120000
DTSTAMP:20260422T040526
CREATED:20190429T114414Z
LAST-MODIFIED:20190429T114414Z
UID:12001-1557655200-1557662400@www.comrie.org.uk
SUMMARY:Blossom Day at the Community Orchard
DESCRIPTION:[vc_row][vc_column][vc_column_text css=”.vc_custom_1556538241938{margin-bottom: 0px !important;}”]Come enjoy some fun amongst the blossom at the Community Orchard. \nBug Hunts \nHelp the Bees \nBlossom Hunts \nFamily Fun\, Apple Juice and Crafts \nA Bee & Blossom Parade will take place at 11.30am  through the fruit trees[/vc_column_text][/vc_column][/vc_row]
URL:https://www.comrie.org.uk/event/blossom-day-at-the-community-orchard/
LOCATION:Cultybraggan Camp\, Comrie\, ph6 2hx
END:VEVENT
BEGIN:VEVENT
DTSTART;TZID=Europe/London:20190511T193000
DTEND;TZID=Europe/London:20190511T223000
DTSTAMP:20260422T040526
CREATED:20190210T165157Z
LAST-MODIFIED:20190210T165343Z
UID:11297-1557603000-1557613800@www.comrie.org.uk
SUMMARY:Chris's Gigs Presents - Smok
DESCRIPTION:May 11th  Project Smok \nAward-winning musicians Ali Levack (Pipes & Whistles)\, Pablo Lafuente (Guitar) and Ewan Baird (Bodhrán).\nhttps://projectsmok.com
URL:https://www.comrie.org.uk/event/chriss-gigs-presents-2/
END:VEVENT
BEGIN:VEVENT
DTSTART;TZID=Europe/London:20190509T193000
DTEND;TZID=Europe/London:20190509T220000
DTSTAMP:20260422T040526
CREATED:20190331T171209Z
LAST-MODIFIED:20190331T171209Z
UID:11701-1557430200-1557439200@www.comrie.org.uk
SUMMARY:Live Music Gig- Gnoss
DESCRIPTION:[vc_row][vc_column][vc_column_text css=”.vc_custom_1554052320088{margin-bottom: 0px !important;}”]A dynamic four-piece of fiddle\, flute\, guitar and percussion\, Gnoss tackle energetic tune sets and driving folk song with a ‘maturity of ability many of a greater age will envy’ (The Living Tradition). \nAs current and former students at the Royal Conservatoire of Scotland\, Graham Rorie\, Aidan Moodie\, Connor Sinclair and Craig Baxter have been tipped as ‘ones to watch’ by Songlines magazine for their lively\, engaging and honest performances. \nForming as a duo in 2015\, Graham and Aidan picked up a prestigious Danny Kyle Award at Celtic Connections and reached the semi-finals of the BBC Radio 2 Young Folk Award 2016. \nSince expanding to a four-piece\, Gnoss have continued to delight at performances and festivals across the UK and Europe\, earning a nomination for Up and Coming Artist of the Year at the MG Alba Scots Trad Music Awards 2017. \nThey bring their show to Comrie as part of their tour to launch their Debut Album\, Drawn From Deep Water\, released on April 27th. \n“I was instantly impressed by their set of tunes played with obvious drive and youthful exuberance.” – FATEA 2017 \n“This band looks to be developing fast into a major player int he national and international Celtic music scene.” – DbDbD\, New York[/vc_column_text][/vc_column][/vc_row]
URL:https://www.comrie.org.uk/event/live-music-gig-gnoss/
LOCATION:White Church Community Centre\, Drummond Street\, Comrie
END:VEVENT
BEGIN:VEVENT
DTSTART;TZID=Europe/London:20190509T190000
DTEND;TZID=Europe/London:20190509T210000
DTSTAMP:20260422T040526
CREATED:20190205T104827Z
LAST-MODIFIED:20190507T092842Z
UID:11267-1557428400-1557435600@www.comrie.org.uk
SUMMARY:Community Council AGM and Public Meeting
DESCRIPTION:[vc_row][vc_column][vc_column_text css=”.vc_custom_1557221313112{margin-bottom: 0px !important;}”]CCC’s May meeting will be part AGM and part normal meeting. Due to this the meeting will start early at 7pm – All Welcome \nThe Community Council meet at the White Church the second Thursday of every month (except July & August) in the downstairs lounge at the White Church.  For more information on the CC please visit: https://www.comrie.org.uk/community-council/[/vc_column_text][/vc_column][/vc_row]
URL:https://www.comrie.org.uk/event/community-council-public-meeting-3/
LOCATION:White Church Community Centre\, Drummond Street\, Comrie
END:VEVENT
BEGIN:VEVENT
DTSTART;TZID=Europe/London:20190508T140000
DTEND;TZID=Europe/London:20190508T200000
DTSTAMP:20260422T040526
CREATED:20190420T094835Z
LAST-MODIFIED:20190420T094835Z
UID:11869-1557324000-1557345600@www.comrie.org.uk
SUMMARY:Community Drop-in Session - Comrie Flood Protection Scheme
DESCRIPTION:
URL:https://www.comrie.org.uk/event/community-drop-in-session-comrie-flood-protection-scheme/
LOCATION:White Church Community Centre\, Drummond Street\, Comrie
END:VEVENT
BEGIN:VEVENT
DTSTART;TZID=Europe/London:20190508T140000
DTEND;TZID=Europe/London:20190508T153000
DTSTAMP:20260422T040526
CREATED:20190212T131127Z
LAST-MODIFIED:20190212T131127Z
UID:11331-1557324000-1557329400@www.comrie.org.uk
SUMMARY:Comrie Sing-a-Long
DESCRIPTION:Sing-a-long Wednesday.\n2.00-3.30pm\nComrie Parish Church.\nAll Welcome.
URL:https://www.comrie.org.uk/event/comrie-sing-a-long-4/
LOCATION:Comrie Parish Church Hall\, Burrell Street\, Comrie\, PH6 2JP
END:VEVENT
BEGIN:VEVENT
DTSTART;TZID=Europe/London:20190504T190000
DTEND;TZID=Europe/London:20190504T200000
DTSTAMP:20260422T040526
CREATED:20190501T085419Z
LAST-MODIFIED:20190501T085419Z
UID:12026-1556996400-1557000000@www.comrie.org.uk
SUMMARY:Comrie Pipe Band Parade - 4th May
DESCRIPTION:[vc_row][vc_column][vc_column_text css=”.vc_custom_1556700839822{margin-bottom: 0px !important;}”]A wee reminder that Comrie Pipe Band will be holding a parade Saturday 4th May. \nStarting at the Comrie Hotel and marching up the street to play in Melville Square for 7pm. \nIt would be great if you could give generously as helpers pass through the crowd with collection buckets. The Pipe Band do the village proud and are fundraising to organise a band trip to France later in the year. \n.[/vc_column_text][/vc_column][/vc_row]
URL:https://www.comrie.org.uk/event/comrie-pipe-band-parade-4th-may/
END:VEVENT
BEGIN:VEVENT
DTSTART;TZID=Europe/London:20190430T140000
DTEND;TZID=Europe/London:20190430T200000
DTSTAMP:20260422T040526
CREATED:20190420T094716Z
LAST-MODIFIED:20190420T094716Z
UID:11867-1556632800-1556654400@www.comrie.org.uk
SUMMARY:Community Drop-in Sessions - Comrie Flood Protection Scheme
DESCRIPTION:
URL:https://www.comrie.org.uk/event/community-drop-in-sessions-comrie-flood-protection-scheme/
LOCATION:White Church Community Centre\, Drummond Street\, Comrie
END:VEVENT
BEGIN:VEVENT
DTSTART;TZID=Europe/London:20190427T100000
DTEND;TZID=Europe/London:20190427T160000
DTSTAMP:20260422T040526
CREATED:20190424T203729Z
LAST-MODIFIED:20190425T083634Z
UID:11957-1556359200-1556380800@www.comrie.org.uk
SUMMARY:Plant Sale
DESCRIPTION:[vc_row][vc_column][vc_column_text css=”.vc_custom_1556138243238{margin-bottom: 0px !important;}”]Comrie Allotments Association will be holding a Plan Sale on Saturday 27th April at Hut 106 at Cultybraggan Farm from 10am- First come first served[/vc_column_text][/vc_column][/vc_row]
URL:https://www.comrie.org.uk/event/plant-sale/
LOCATION:Cultybraggan Camp\, Comrie\, ph6 2hx
END:VEVENT
BEGIN:VEVENT
DTSTART;TZID=Europe/London:20190421T193000
DTEND;TZID=Europe/London:20190421T220000
DTSTAMP:20260422T040526
CREATED:20190125T202651Z
LAST-MODIFIED:20190125T202651Z
UID:11084-1555875000-1555884000@www.comrie.org.uk
SUMMARY:White Church Community Centre - Monthly Quiz
DESCRIPTION:The ever popular Monthly Quiz held at the White Church. \nTeams of 4 (£12 includes refreshments).\nBYOB.\n7.30 start with quiz master John Greer.\nEveryone welcome.
URL:https://www.comrie.org.uk/event/white-church-community-centre-monthly-quiz-2/
LOCATION:White Church Community Centre\, Drummond Street\, Comrie
END:VEVENT
BEGIN:VEVENT
DTSTART;TZID=Europe/London:20190420T120000
DTEND;TZID=Europe/London:20190420T140000
DTSTAMP:20260422T040526
CREATED:20190413T093840Z
LAST-MODIFIED:20190413T093840Z
UID:11769-1555761600-1555768800@www.comrie.org.uk
SUMMARY:A Bite and Blether Fundraiser
DESCRIPTION:[vc_row][vc_column][vc_column_text css=”.vc_custom_1555148312413{margin-bottom: 0px !important;}”]A Bite & Blether Fundraiser for our local community bus \nSoup\, filled roll\, sweet\, tea and coffee with goodies £4.00pp \nHome baking and bottle stall raffle \n \n[/vc_column_text][/vc_column][/vc_row]
URL:https://www.comrie.org.uk/event/a-bite-and-blether-fundraiser/
LOCATION:White Church Community Centre\, Drummond Street\, Comrie
END:VEVENT
BEGIN:VEVENT
DTSTART;VALUE=DATE:20190418
DTEND;VALUE=DATE:20190422
DTSTAMP:20260422T040526
CREATED:20190304T134117Z
LAST-MODIFIED:20190410T141527Z
UID:11515-1555545600-1555891199@www.comrie.org.uk
SUMMARY:Ancaster Arms - Traditional Family Friendly Pub Weekend
DESCRIPTION:[vc_row][vc_column][vc_column_text css=”.vc_custom_1551706868951{margin-bottom: 0px !important;}”]Traditional Family Friendly Pub Weekend.  With LP night on the Thursday. Sunday Roast Lunch and Trad/Folk music session at 3pm[/vc_column_text][/vc_column][/vc_row]
URL:https://www.comrie.org.uk/event/ancaster-arms-traditional-family-friendly-pub-weekend/
LOCATION:Ancaster Arms\, Comrie\, PH6 2DW
END:VEVENT
BEGIN:VEVENT
DTSTART;TZID=Europe/London:20190411T193000
DTEND;TZID=Europe/London:20190411T210000
DTSTAMP:20260422T040526
CREATED:20190205T104742Z
LAST-MODIFIED:20190205T104742Z
UID:11265-1555011000-1555016400@www.comrie.org.uk
SUMMARY:Community Council - Public Meeting
DESCRIPTION:The Community Council meet at the White Church the second Thursday of every month (except July & August) in the downstairs lounge at the White Church.  For more information on the CC please visit: https://www.comrie.org.uk/community-council/
URL:https://www.comrie.org.uk/event/community-council-public-meeting-2/
LOCATION:White Church Community Centre\, Drummond Street\, Comrie
END:VEVENT
BEGIN:VEVENT
DTSTART;TZID=Europe/London:20190410T140000
DTEND;TZID=Europe/London:20190410T153000
DTSTAMP:20260422T040526
CREATED:20190212T131035Z
LAST-MODIFIED:20190212T131035Z
UID:11329-1554904800-1554910200@www.comrie.org.uk
SUMMARY:Comrie Sing-a-Long
DESCRIPTION:Sing-a-long Wednesday.\n2.00-3.30pm\nComrie Parish Church.\nAll Welcome.
URL:https://www.comrie.org.uk/event/comrie-sing-a-long-3/
LOCATION:Comrie Parish Church Hall\, Burrell Street\, Comrie\, PH6 2JP
END:VEVENT
BEGIN:VEVENT
DTSTART;TZID=Europe/London:20190406T100000
DTEND;TZID=Europe/London:20190406T120000
DTSTAMP:20260422T040526
CREATED:20190321T085446Z
LAST-MODIFIED:20190321T085446Z
UID:11641-1554544800-1554552000@www.comrie.org.uk
SUMMARY:Coffee Morning Hosted by Comrie Bowling Club
DESCRIPTION:[vc_row][vc_column][vc_column_text css=”.vc_custom_1553158477160{margin-bottom: 0px !important;}”]Comrie Bowling Club are holding a Coffee Morning in the White Church on the 6th April\, 2019 from 10am to 12 noon\, Entry £2 and there will be a Raffle. All welcome.[/vc_column_text][/vc_column][/vc_row]
URL:https://www.comrie.org.uk/event/coffee-morning-hosted-by-comrie-bowling-club/
LOCATION:White Church Community Centre\, Drummond Street\, Comrie
END:VEVENT
BEGIN:VEVENT
DTSTART;TZID=Europe/London:20190406T073000
DTEND;TZID=Europe/London:20190406T223000
DTSTAMP:20260422T040526
CREATED:20190210T165046Z
LAST-MODIFIED:20190210T165419Z
UID:11295-1554535800-1554589800@www.comrie.org.uk
SUMMARY:Chris's Gigs Presents - Mairearad Green and Anna Massie
DESCRIPTION:April 6th Mairearad Green and Anna Massie \nMuch loved Scottish multi-instrumentalist duo with amazing music and fabulous craic.\nhttps://www.mairearadandanna.com \n 
URL:https://www.comrie.org.uk/event/chriss-gigs-presents/
LOCATION:White Church Community Centre\, Drummond Street\, Comrie
END:VEVENT
BEGIN:VEVENT
DTSTART;TZID=Europe/London:20190330T120000
DTEND;TZID=Europe/London:20190330T150000
DTSTAMP:20260422T040526
CREATED:20190320T095206Z
LAST-MODIFIED:20190320T095206Z
UID:11616-1553947200-1553958000@www.comrie.org.uk
SUMMARY:Comrie Croft Weddings - A Wee Nosey
DESCRIPTION:[vc_row][vc_column][vc_column_text css=”.vc_custom_1553075515248{margin-bottom: 0px !important;}”]Come along meet some local suppliers\, taste some amazing food\, get decoration ideas and see our awesome barn with all its new sparkly lights.\nMarch 30th – don’t miss out[/vc_column_text][/vc_column][/vc_row]
URL:https://www.comrie.org.uk/event/comrie-croft-weddings-a-wee-nosey/
LOCATION:Comrie Croft\, Comrie\, PH7 4JZ
END:VEVENT
BEGIN:VEVENT
DTSTART;TZID=Europe/London:20190330T120000
DTEND;TZID=Europe/London:20190330T140000
DTSTAMP:20260422T040526
CREATED:20190228T183331Z
LAST-MODIFIED:20190228T183331Z
UID:11489-1553947200-1553954400@www.comrie.org.uk
SUMMARY:Soup/Sandwich Lunch
DESCRIPTION:[vc_row][vc_column][vc_column_text css=”.vc_custom_1551378710948{margin-bottom: 0px !important;}”]Comrie Golf Club will be hosting a Soup/Sandwich Lunch at the White Church. \n£4 per person.\nUnder 12’s £1 \n[/vc_column_text][/vc_column][/vc_row]
URL:https://www.comrie.org.uk/event/soup-sandwich-lunch/
LOCATION:White Church Community Centre\, Drummond Street\, Comrie
END:VEVENT
BEGIN:VEVENT
DTSTART;VALUE=DATE:20190330
DTEND;VALUE=DATE:20190331
DTSTAMP:20260422T040526
CREATED:20190320T100641Z
LAST-MODIFIED:20190320T100641Z
UID:11632-1553904000-1553990399@www.comrie.org.uk
SUMMARY:Comrie Cinema & Events Club presents - Bohemian Rhapsody plus Ferdinand
DESCRIPTION:[vc_row][vc_column][vc_column_text css=”.vc_custom_1553076390190{margin-bottom: 0px !important;}”]Ferdinand will be shown in the afternoon for big kids and wee kids alike followed with Bohemian Rhapsody in the evening. \nWatch out for posters around the village![/vc_column_text][/vc_column][/vc_row]
URL:https://www.comrie.org.uk/event/comrie-cinema-events-club-presents-bohemian-rhapsody-plus-ferdinand/
LOCATION:White Church Community Centre\, Drummond Street\, Comrie
END:VEVENT
BEGIN:VEVENT
DTSTART;TZID=Europe/London:20190328T093000
DTEND;TZID=Europe/London:20190328T223000
DTSTAMP:20260422T040526
CREATED:20190325T162140Z
LAST-MODIFIED:20190325T162140Z
UID:11658-1553765400-1553812200@www.comrie.org.uk
SUMMARY:Daffodil Tea
DESCRIPTION:[vc_row][vc_column][vc_column_text css=”.vc_custom_1553530891866{margin-bottom: 0px !important;}”]NVITATION TO ALL.. \nComrie Primary School and Comrie Baby and Toddler Group would like to invite you all to attend a Community Daffodil Tea we are hosting on Thursday 28 March in the White Church from 9.30 – 10.30 am. \nThe children would like a chance to meet the wider community and also to say a thank you to all of you who have supported the school and PFA events over the year. \n\nSome of the children will be serving tea\, coffee and home baking and would like the chance to catch up \n\n.[/vc_column_text][/vc_column][/vc_row]
URL:https://www.comrie.org.uk/event/daffodil-tea/
LOCATION:White Church Community Centre\, Drummond Street\, Comrie
END:VEVENT
BEGIN:VEVENT
DTSTART;TZID=Europe/London:20190323T070000
DTEND;TZID=Europe/London:20190323T230000
DTSTAMP:20260422T040526
CREATED:20190304T133821Z
LAST-MODIFIED:20190304T133821Z
UID:11511-1553324400-1553382000@www.comrie.org.uk
SUMMARY:Comrie PFA - 90's Night Fundraiser
DESCRIPTION:
URL:https://www.comrie.org.uk/event/comrie-pfa-90s-night-fundraiser/
LOCATION:Ancaster Arms\, Comrie\, PH6 2DW
END:VEVENT
BEGIN:VEVENT
DTSTART;VALUE=DATE:20190321
DTEND;VALUE=DATE:20190322
DTSTAMP:20260422T040526
CREATED:20190304T133659Z
LAST-MODIFIED:20190304T133713Z
UID:11509-1553126400-1553212799@www.comrie.org.uk
SUMMARY:Charlotte Flower Workshop & Club
DESCRIPTION:[vc_row][vc_column][vc_column_text css=”.vc_custom_1551706612534{margin-bottom: 0px !important;}”]Charlotte Flower – Workshop in the afternoon then Chocolate Club in the evening.[/vc_column_text][/vc_column][/vc_row]
URL:https://www.comrie.org.uk/event/charlotte-flower-workshop-club/
LOCATION:Ancaster Arms\, Comrie\, PH6 2DW
END:VEVENT
BEGIN:VEVENT
DTSTART;TZID=Europe/London:20190317T193000
DTEND;TZID=Europe/London:20190317T220000
DTSTAMP:20260422T040526
CREATED:20190125T202547Z
LAST-MODIFIED:20190125T202547Z
UID:11082-1552851000-1552860000@www.comrie.org.uk
SUMMARY:White Church Community Centre - Monthly Quiz
DESCRIPTION:The ever popular Monthly Quiz held at the White Church. \nTeams of 4 (£12 includes refreshments).\nBYOB.\n7.30 start with quiz master John Greer.\nEveryone welcome.
URL:https://www.comrie.org.uk/event/white-church-community-centre-monthly-quiz/
LOCATION:White Church Community Centre\, Drummond Street\, Comrie
END:VEVENT
BEGIN:VEVENT
DTSTART;TZID=Europe/London:20190314T193000
DTEND;TZID=Europe/London:20190314T210000
DTSTAMP:20260422T040526
CREATED:20190205T104656Z
LAST-MODIFIED:20190205T104656Z
UID:11263-1552591800-1552597200@www.comrie.org.uk
SUMMARY:Community Council - Public Meeting
DESCRIPTION:The Community Council meet at the White Church the second Thursday of every month (except July & August) in the downstairs lounge at the White Church.  For more information on the CC please visit: https://www.comrie.org.uk/community-council/
URL:https://www.comrie.org.uk/event/community-council-public-meeting/
LOCATION:White Church Community Centre\, Drummond Street\, Comrie
END:VEVENT
BEGIN:VEVENT
DTSTART;TZID=Europe/London:20190314T120000
DTEND;TZID=Europe/London:20190314T140000
DTSTAMP:20260422T040526
CREATED:20190125T204411Z
LAST-MODIFIED:20190125T204411Z
UID:11108-1552564800-1552572000@www.comrie.org.uk
SUMMARY:Thursday Lunch Club
DESCRIPTION:The ever popular Thursday Lunch Club is a fund raiser for our Community Centre (owned and run by the community of Comrie).  Every week there are a selection of soups and puddings served along with a cheese of buttered bread roll\, coffee/tea and biscuits for £3.50.
URL:https://www.comrie.org.uk/event/thursday-lunch-club-10/
LOCATION:White Church Community Centre\, Drummond Street\, Comrie
END:VEVENT
BEGIN:VEVENT
DTSTART;TZID=Europe/London:20190314T110000
DTEND;TZID=Europe/London:20190317T230000
DTSTAMP:20260422T040526
CREATED:20190304T133536Z
LAST-MODIFIED:20190304T133536Z
UID:11507-1552561200-1552863600@www.comrie.org.uk
SUMMARY:Ancaster Arms - Pub Weekend
DESCRIPTION:[vc_row][vc_column][vc_column_text css=”.vc_custom_1551706525734{margin-bottom: 0px !important;}”]14-17th March – Traditional Family Friendly Pub Weekend.  With LP night on the Thursday. Sunday Roast Lunch and Trad/Folk music session at 3pm[/vc_column_text][/vc_column][/vc_row]
URL:https://www.comrie.org.uk/event/ancaster-arms-pub-weekend/
LOCATION:Ancaster Arms\, Comrie\, PH6 2DW
END:VEVENT
BEGIN:VEVENT
DTSTART;TZID=Europe/London:20190313T140000
DTEND;TZID=Europe/London:20190313T153000
DTSTAMP:20260422T040526
CREATED:20190212T130924Z
LAST-MODIFIED:20190212T130924Z
UID:11327-1552485600-1552491000@www.comrie.org.uk
SUMMARY:Comrie Sing-a-Long
DESCRIPTION:Sing-a-long Wednesday.\n2.00-3.30pm\nComrie Parish Church.\nAll Welcome. \n2nd Wednesday of every month
URL:https://www.comrie.org.uk/event/comrie-sing-a-long-2/
LOCATION:Comrie Parish Church Hall\, Burrell Street\, Comrie\, PH6 2JP
END:VEVENT
BEGIN:VEVENT
DTSTART;TZID=Europe/London:20190310T153000
DTEND;TZID=Europe/London:20190310T173000
DTSTAMP:20260422T040526
CREATED:20190222T124959Z
LAST-MODIFIED:20190222T124959Z
UID:11408-1552231800-1552239000@www.comrie.org.uk
SUMMARY:Comrie SWI presents 'Demain'
DESCRIPTION:We’re showing a film for the SWI energy efficiency project. It’s at the Croft and it’s free. Come along!
URL:https://www.comrie.org.uk/event/comrie-swi-presents-demain/
LOCATION:Comrie Croft\, Comrie\, PH7 4JZ
END:VEVENT
BEGIN:VEVENT
DTSTART;TZID=Europe/London:20190307T193000
DTEND;TZID=Europe/London:20190307T233000
DTSTAMP:20260422T040526
CREATED:20190307T105659Z
LAST-MODIFIED:20190307T105659Z
UID:11533-1551987000-1552001400@www.comrie.org.uk
SUMMARY:90's Night - School Fundraiser
DESCRIPTION:[vc_row][vc_column][vc_column_text css=”.vc_custom_1551956206324{margin-bottom: 0px !important;}”]£10 a ticket Dress up in the 90’s style if you like[/vc_column_text][/vc_column][/vc_row]
URL:https://www.comrie.org.uk/event/90s-night-school-fundraiser/
LOCATION:Ancaster Arms\, Comrie\, PH6 2DW
END:VEVENT
BEGIN:VEVENT
DTSTART;TZID=Europe/London:20190307T120000
DTEND;TZID=Europe/London:20190307T140000
DTSTAMP:20260422T040526
CREATED:20190125T204313Z
LAST-MODIFIED:20190125T204313Z
UID:11106-1551960000-1551967200@www.comrie.org.uk
SUMMARY:Thursday Lunch Club
DESCRIPTION:The ever popular Thursday Lunch Club is a fund raiser for our Community Centre (owned and run by the community of Comrie).  Every week there are a selection of soups and puddings served along with a cheese of buttered bread roll\, coffee/tea and biscuits for £3.50.
URL:https://www.comrie.org.uk/event/thursday-lunch-club-9/
LOCATION:White Church Community Centre\, Drummond Street\, Comrie
END:VEVENT
END:VCALENDAR