BEGIN:VCALENDAR
VERSION:2.0
PRODID:-//Comrie - ECPv6.15.20//NONSGML v1.0//EN
CALSCALE:GREGORIAN
METHOD:PUBLISH
X-WR-CALNAME:Comrie
X-ORIGINAL-URL:https://www.comrie.org.uk
X-WR-CALDESC:Events for Comrie
REFRESH-INTERVAL;VALUE=DURATION:PT1H
X-Robots-Tag:noindex
X-PUBLISHED-TTL:PT1H
BEGIN:VTIMEZONE
TZID:Europe/London
BEGIN:DAYLIGHT
TZOFFSETFROM:+0000
TZOFFSETTO:+0100
TZNAME:BST
DTSTART:20180325T010000
END:DAYLIGHT
BEGIN:STANDARD
TZOFFSETFROM:+0100
TZOFFSETTO:+0000
TZNAME:GMT
DTSTART:20181028T010000
END:STANDARD
BEGIN:DAYLIGHT
TZOFFSETFROM:+0000
TZOFFSETTO:+0100
TZNAME:BST
DTSTART:20190331T010000
END:DAYLIGHT
BEGIN:STANDARD
TZOFFSETFROM:+0100
TZOFFSETTO:+0000
TZNAME:GMT
DTSTART:20191027T010000
END:STANDARD
BEGIN:DAYLIGHT
TZOFFSETFROM:+0000
TZOFFSETTO:+0100
TZNAME:BST
DTSTART:20200329T010000
END:DAYLIGHT
BEGIN:STANDARD
TZOFFSETFROM:+0100
TZOFFSETTO:+0000
TZNAME:GMT
DTSTART:20201025T010000
END:STANDARD
END:VTIMEZONE
BEGIN:VEVENT
DTSTART;TZID=Europe/London:20190323T070000
DTEND;TZID=Europe/London:20190323T230000
DTSTAMP:20260423T124805
CREATED:20190304T133821Z
LAST-MODIFIED:20190304T133821Z
UID:11511-1553324400-1553382000@www.comrie.org.uk
SUMMARY:Comrie PFA - 90's Night Fundraiser
DESCRIPTION:
URL:https://www.comrie.org.uk/event/comrie-pfa-90s-night-fundraiser/
LOCATION:Ancaster Arms\, Comrie\, PH6 2DW
END:VEVENT
BEGIN:VEVENT
DTSTART;VALUE=DATE:20190321
DTEND;VALUE=DATE:20190322
DTSTAMP:20260423T124805
CREATED:20190304T133659Z
LAST-MODIFIED:20190304T133713Z
UID:11509-1553126400-1553212799@www.comrie.org.uk
SUMMARY:Charlotte Flower Workshop & Club
DESCRIPTION:[vc_row][vc_column][vc_column_text css=”.vc_custom_1551706612534{margin-bottom: 0px !important;}”]Charlotte Flower – Workshop in the afternoon then Chocolate Club in the evening.[/vc_column_text][/vc_column][/vc_row]
URL:https://www.comrie.org.uk/event/charlotte-flower-workshop-club/
LOCATION:Ancaster Arms\, Comrie\, PH6 2DW
END:VEVENT
BEGIN:VEVENT
DTSTART;TZID=Europe/London:20190317T193000
DTEND;TZID=Europe/London:20190317T220000
DTSTAMP:20260423T124805
CREATED:20190125T202547Z
LAST-MODIFIED:20190125T202547Z
UID:11082-1552851000-1552860000@www.comrie.org.uk
SUMMARY:White Church Community Centre - Monthly Quiz
DESCRIPTION:The ever popular Monthly Quiz held at the White Church. \nTeams of 4 (£12 includes refreshments).\nBYOB.\n7.30 start with quiz master John Greer.\nEveryone welcome.
URL:https://www.comrie.org.uk/event/white-church-community-centre-monthly-quiz/
LOCATION:White Church Community Centre\, Drummond Street\, Comrie
END:VEVENT
BEGIN:VEVENT
DTSTART;TZID=Europe/London:20190314T193000
DTEND;TZID=Europe/London:20190314T210000
DTSTAMP:20260423T124805
CREATED:20190205T104656Z
LAST-MODIFIED:20190205T104656Z
UID:11263-1552591800-1552597200@www.comrie.org.uk
SUMMARY:Community Council - Public Meeting
DESCRIPTION:The Community Council meet at the White Church the second Thursday of every month (except July & August) in the downstairs lounge at the White Church.  For more information on the CC please visit: https://www.comrie.org.uk/community-council/
URL:https://www.comrie.org.uk/event/community-council-public-meeting/
LOCATION:White Church Community Centre\, Drummond Street\, Comrie
END:VEVENT
BEGIN:VEVENT
DTSTART;TZID=Europe/London:20190314T120000
DTEND;TZID=Europe/London:20190314T140000
DTSTAMP:20260423T124805
CREATED:20190125T204411Z
LAST-MODIFIED:20190125T204411Z
UID:11108-1552564800-1552572000@www.comrie.org.uk
SUMMARY:Thursday Lunch Club
DESCRIPTION:The ever popular Thursday Lunch Club is a fund raiser for our Community Centre (owned and run by the community of Comrie).  Every week there are a selection of soups and puddings served along with a cheese of buttered bread roll\, coffee/tea and biscuits for £3.50.
URL:https://www.comrie.org.uk/event/thursday-lunch-club-10/
LOCATION:White Church Community Centre\, Drummond Street\, Comrie
END:VEVENT
BEGIN:VEVENT
DTSTART;TZID=Europe/London:20190314T110000
DTEND;TZID=Europe/London:20190317T230000
DTSTAMP:20260423T124805
CREATED:20190304T133536Z
LAST-MODIFIED:20190304T133536Z
UID:11507-1552561200-1552863600@www.comrie.org.uk
SUMMARY:Ancaster Arms - Pub Weekend
DESCRIPTION:[vc_row][vc_column][vc_column_text css=”.vc_custom_1551706525734{margin-bottom: 0px !important;}”]14-17th March – Traditional Family Friendly Pub Weekend.  With LP night on the Thursday. Sunday Roast Lunch and Trad/Folk music session at 3pm[/vc_column_text][/vc_column][/vc_row]
URL:https://www.comrie.org.uk/event/ancaster-arms-pub-weekend/
LOCATION:Ancaster Arms\, Comrie\, PH6 2DW
END:VEVENT
BEGIN:VEVENT
DTSTART;TZID=Europe/London:20190313T140000
DTEND;TZID=Europe/London:20190313T153000
DTSTAMP:20260423T124805
CREATED:20190212T130924Z
LAST-MODIFIED:20190212T130924Z
UID:11327-1552485600-1552491000@www.comrie.org.uk
SUMMARY:Comrie Sing-a-Long
DESCRIPTION:Sing-a-long Wednesday.\n2.00-3.30pm\nComrie Parish Church.\nAll Welcome. \n2nd Wednesday of every month
URL:https://www.comrie.org.uk/event/comrie-sing-a-long-2/
LOCATION:Comrie Parish Church Hall\, Burrell Street\, Comrie\, PH6 2JP
END:VEVENT
BEGIN:VEVENT
DTSTART;TZID=Europe/London:20190310T153000
DTEND;TZID=Europe/London:20190310T173000
DTSTAMP:20260423T124805
CREATED:20190222T124959Z
LAST-MODIFIED:20190222T124959Z
UID:11408-1552231800-1552239000@www.comrie.org.uk
SUMMARY:Comrie SWI presents 'Demain'
DESCRIPTION:We’re showing a film for the SWI energy efficiency project. It’s at the Croft and it’s free. Come along!
URL:https://www.comrie.org.uk/event/comrie-swi-presents-demain/
LOCATION:Comrie Croft\, Comrie\, PH7 4JZ
END:VEVENT
BEGIN:VEVENT
DTSTART;TZID=Europe/London:20190307T193000
DTEND;TZID=Europe/London:20190307T233000
DTSTAMP:20260423T124805
CREATED:20190307T105659Z
LAST-MODIFIED:20190307T105659Z
UID:11533-1551987000-1552001400@www.comrie.org.uk
SUMMARY:90's Night - School Fundraiser
DESCRIPTION:[vc_row][vc_column][vc_column_text css=”.vc_custom_1551956206324{margin-bottom: 0px !important;}”]£10 a ticket Dress up in the 90’s style if you like[/vc_column_text][/vc_column][/vc_row]
URL:https://www.comrie.org.uk/event/90s-night-school-fundraiser/
LOCATION:Ancaster Arms\, Comrie\, PH6 2DW
END:VEVENT
BEGIN:VEVENT
DTSTART;TZID=Europe/London:20190307T120000
DTEND;TZID=Europe/London:20190307T140000
DTSTAMP:20260423T124805
CREATED:20190125T204313Z
LAST-MODIFIED:20190125T204313Z
UID:11106-1551960000-1551967200@www.comrie.org.uk
SUMMARY:Thursday Lunch Club
DESCRIPTION:The ever popular Thursday Lunch Club is a fund raiser for our Community Centre (owned and run by the community of Comrie).  Every week there are a selection of soups and puddings served along with a cheese of buttered bread roll\, coffee/tea and biscuits for £3.50.
URL:https://www.comrie.org.uk/event/thursday-lunch-club-9/
LOCATION:White Church Community Centre\, Drummond Street\, Comrie
END:VEVENT
BEGIN:VEVENT
DTSTART;VALUE=DATE:20190304
DTEND;VALUE=DATE:20190305
DTSTAMP:20260423T124805
CREATED:20190304T134159Z
LAST-MODIFIED:20190304T134549Z
UID:11517-1551657600-1551743999@www.comrie.org.uk
SUMMARY:Italba Dinner
DESCRIPTION:
URL:https://www.comrie.org.uk/event/italba-dinner/
LOCATION:Ancaster Arms\, Comrie\, PH6 2DW
END:VEVENT
BEGIN:VEVENT
DTSTART;VALUE=DATE:20190304
DTEND;VALUE=DATE:20190305
DTSTAMP:20260423T124805
CREATED:20190304T133933Z
LAST-MODIFIED:20190304T133933Z
UID:11513-1551657600-1551743999@www.comrie.org.uk
SUMMARY:Mother's Day Afternoon Tea
DESCRIPTION:[vc_row][vc_column][vc_column_text css=”.vc_custom_1551706767828{margin-bottom: 0px !important;}”]Any enquiries speak to the staff at Hansen’s Deli[/vc_column_text][/vc_column][/vc_row]
URL:https://www.comrie.org.uk/event/mothers-day-afternoon-tea/
LOCATION:Ancaster Arms\, Comrie\, PH6 2DW
END:VEVENT
BEGIN:VEVENT
DTSTART;TZID=Europe/London:20190302T193000
DTEND;TZID=Europe/London:20190302T230000
DTSTAMP:20260423T124805
CREATED:20190226T155021Z
LAST-MODIFIED:20190226T155215Z
UID:11432-1551555000-1551567600@www.comrie.org.uk
SUMMARY:Brazilian Night - Ancaster Arms
DESCRIPTION:Saturday the 2nd March\, Ancaster Arms \nExactly what it says on the tin\, cocktails and snacks to begin\, grilled goodness to follow (vegans and vegetarians will be looked after too!)\, sunshine dessert\, music all night\, shake your tail feathers! \nSnacks \n\nPastel – fried veggie pastries\nCohxina – chicken croqutte\nBacalhau – salt cod fitters \nFrom the grill – Rib of beef / picanha / mini chorizo / chicken hearts\ncauliflower w/ arbol chile /\nSides – salad / hot sauce\, chimichurri\, coconut rice\, black bean stew/ pao de queijo – famous cheese breads(GF) \nDessert \nGuava\, Papaya\, fig and mango all coming from Brazil just now \nCaipirinhas (50ml shot cachaca)\nClassic £4.00\nPassion fruit £4.50\nMango £4.50\nBrazil Royale\, damson cachaca and fizz – £5.00\nBrahama 330ml bottle 4.8% – £2.00
URL:https://www.comrie.org.uk/event/brazilian-night-ancaster-arms/
LOCATION:Ancaster Arms\, Comrie\, PH6 2DW
END:VEVENT
BEGIN:VEVENT
DTSTART;TZID=Europe/London:20190301T190000
DTEND;TZID=Europe/London:20190301T220000
DTSTAMP:20260423T124805
CREATED:20190226T153949Z
LAST-MODIFIED:20190226T154259Z
UID:11422-1551466800-1551477600@www.comrie.org.uk
SUMMARY:Bingo Tea
DESCRIPTION:Comrie Primary School P7’s are holding a Bingo Tea in the White Church to raise funds for their Big Day Out. \nDoors open 6.45pm with Eyes Down at 7.30pm \nSandwiches\, Home Baking and Tea will be served and a Raffle with great prizes will be held too. \nAlways popular nights so get their early to get your seat!
URL:https://www.comrie.org.uk/event/bingo-tea/
LOCATION:White Church Community Centre\, Drummond Street\, Comrie
END:VEVENT
BEGIN:VEVENT
DTSTART;TZID=Europe/London:20190301T140000
DTEND;TZID=Europe/London:20190301T150000
DTSTAMP:20260423T124805
CREATED:20190220T233820Z
LAST-MODIFIED:20190220T233832Z
UID:11389-1551448800-1551452400@www.comrie.org.uk
SUMMARY:World Prayer Day
DESCRIPTION:The World Day of Prayer takes place on Friday 1st March. This is a global prayer movement\, led by women: the worship this year was made by the women of Slovenia.\nHere in Comrie\, it is the turn of the Episcopal Church\, St Serf’s\, across from the Riverside Caravan Park\, to host the service\, at 2pm\, with refreshments afterwards.\nAll are welcome.
URL:https://www.comrie.org.uk/event/world-prayer-day/
LOCATION:St Serf’s Church\, Comrie\, 85 Station Rd PH6 2EA\, Comrie\, Perthshire\, PH6 2EA\, United Kingdom
END:VEVENT
BEGIN:VEVENT
DTSTART;TZID=Europe/London:20190228T120000
DTEND;TZID=Europe/London:20190228T140000
DTSTAMP:20260423T124805
CREATED:20190125T204223Z
LAST-MODIFIED:20190125T204223Z
UID:11104-1551355200-1551362400@www.comrie.org.uk
SUMMARY:Thursday Lunch Club
DESCRIPTION:The ever popular Thursday Lunch Club is a fund raiser for our Community Centre (owned and run by the community of Comrie).  Every week there are a selection of soups and puddings served along with a cheese of buttered bread roll\, coffee/tea and biscuits for £3.50.
URL:https://www.comrie.org.uk/event/thursday-lunch-club-8/
LOCATION:White Church Community Centre\, Drummond Street\, Comrie
END:VEVENT
BEGIN:VEVENT
DTSTART;TZID=Europe/London:20190227T193000
DTEND;TZID=Europe/London:20190227T223000
DTSTAMP:20260423T124805
CREATED:20190220T232636Z
LAST-MODIFIED:20190220T232636Z
UID:11377-1551295800-1551306600@www.comrie.org.uk
SUMMARY:Royal Bar - Quiz Night
DESCRIPTION:Remember our monthly Pub Quiz continues next week on Wednesday 27th February at 7.30pm. Teams of four test their knowledge on a range of subjects from Sport to Music\, History to Culture. With a tasty snack at half time\, a raffle\, entry per table £16…great fun!
URL:https://www.comrie.org.uk/event/royal-bar-quiz-night/
LOCATION:Royal Hotel Bar\, Comrie
END:VEVENT
BEGIN:VEVENT
DTSTART;TZID=Europe/London:20190227T193000
DTEND;TZID=Europe/London:20190227T220000
DTSTAMP:20260423T124805
CREATED:20190226T153656Z
LAST-MODIFIED:20190226T153656Z
UID:11414-1551295800-1551304800@www.comrie.org.uk
SUMMARY:Royal Hotel Pub Quiz
DESCRIPTION:All ready for the Pub Quiz on Wednesday night?  \nCome and test your general knowledge? See you at 7.30pm.
URL:https://www.comrie.org.uk/event/royal-hotel-pub-quiz/
LOCATION:Royal Hotel Bar\, Comrie
END:VEVENT
BEGIN:VEVENT
DTSTART;TZID=Europe/London:20190223T200000
DTEND;TZID=Europe/London:20190223T230000
DTSTAMP:20260423T124805
CREATED:20190123T080741Z
LAST-MODIFIED:20190123T081034Z
UID:11036-1550952000-1550962800@www.comrie.org.uk
SUMMARY:Chris's Gigs Presents - Mike Vass with Support
DESCRIPTION:Chris’s Gigs is thrilled to be able to welcome Mike Vass\, one of Scotland’s foremost musicians to Comrie on 23rd February. Mike is bringing his remarkable new song cycle ‘Save His Calm’ on tour for the first time in February 2019 and we have secured a major coup in being included on the tour. \nMike wrote much of this music when he was living and travelling on a sailing boat and has drawn on many influences for inspiration. He describes the music as a bit ‘indy\, folky\, jazzy’ – but whatever the genre\, if it’s coming from Mike Vass\, it will be beautifully crafted and performed because he is frankly\, a genius. \nMike is a previous nominee in the Scottish Album of the Year (SAY) award and winner in the Scots Trad music awards composer of the year category. He is a creative force of nature on the Scottish music scene and is much in demand as a producer and collaborator. It’s more a question of who he HASN’T worked with than who he has! 2019 sees him back touring his own music for the first time in four years and this is not to be missed! \nSupport band to be announced. \nTickets £15 from Hansen’s Kitchen\, Comrie Post Office and eventbrite.co.uk \nDoors open 7.30pm.\nThe legendary White Church bar will be open.
URL:https://www.comrie.org.uk/event/chriss-gigs-presents-mike-vass/
END:VEVENT
BEGIN:VEVENT
DTSTART;TZID=Europe/London:20190221T120000
DTEND;TZID=Europe/London:20190221T140000
DTSTAMP:20260423T124805
CREATED:20190125T204139Z
LAST-MODIFIED:20190125T204139Z
UID:11102-1550750400-1550757600@www.comrie.org.uk
SUMMARY:Thursday Lunch Club
DESCRIPTION:The ever popular Thursday Lunch Club is a fund raiser for our Community Centre (owned and run by the community of Comrie).  Every week there are a selection of soups and puddings served along with a cheese of buttered bread roll\, coffee/tea and biscuits for £3.50.
URL:https://www.comrie.org.uk/event/thursday-lunch-club-7/
LOCATION:White Church Community Centre\, Drummond Street\, Comrie
END:VEVENT
BEGIN:VEVENT
DTSTART;TZID=Europe/London:20190221T120000
DTEND;TZID=Europe/London:20190221T140000
DTSTAMP:20260423T124805
CREATED:20190123T083314Z
LAST-MODIFIED:20190123T083314Z
UID:11054-1550750400-1550757600@www.comrie.org.uk
SUMMARY:Thursday Lunch Club
DESCRIPTION:The ever popular Thursday Lunch Club is a fund raiser for our Community Centre (owned and run by the community of Comrie).  Every week there are a selection of soups and puddings served along with a cheese of buttered bread roll\, coffee/tea and biscuits for £3.50.
URL:https://www.comrie.org.uk/event/thursday-lunch-club-5/
LOCATION:White Church Community Centre\, Drummond Street\, Comrie
END:VEVENT
BEGIN:VEVENT
DTSTART;TZID=Europe/London:20190217T193000
DTEND;TZID=Europe/London:20190217T220000
DTSTAMP:20260423T124805
CREATED:20190125T202433Z
LAST-MODIFIED:20190125T202433Z
UID:11080-1550431800-1550440800@www.comrie.org.uk
SUMMARY:White Church Community Centre - Monthly Quiz Night
DESCRIPTION:The ever popular Monthly Quiz held at the White Church. \nTeams of 4 (£12 includes refreshments).\nBYOB.\n7.30 start with quiz master John Greer.\nEveryone welcome.
URL:https://www.comrie.org.uk/event/white-church-community-centre-monthly-quiz-night/
LOCATION:White Church Community Centre\, Drummond Street\, Comrie
END:VEVENT
BEGIN:VEVENT
DTSTART;VALUE=DATE:20190216
DTEND;VALUE=DATE:20190217
DTSTAMP:20260423T124805
CREATED:20190131T110319Z
LAST-MODIFIED:20190131T110621Z
UID:11131-1550275200-1550361599@www.comrie.org.uk
SUMMARY:Comrie Cinema and Events Club Presents
DESCRIPTION:We’re showing the Giant Pear for the kids on Saturday 16th Feb at 3pm at the White Church. Tickets £3 on the door. BYO sweeties! \nIn the evening Nae Pasaran a Scottish Bafta winner will commence at 7.30pm
URL:https://www.comrie.org.uk/event/comrie-cinema-and-events-club-presents/
LOCATION:White Church Community Centre\, Drummond Street\, Comrie
END:VEVENT
BEGIN:VEVENT
DTSTART;TZID=Europe/London:20190214T193000
DTEND;TZID=Europe/London:20190214T210000
DTSTAMP:20260423T124805
CREATED:20190205T104531Z
LAST-MODIFIED:20190205T104605Z
UID:11260-1550172600-1550178000@www.comrie.org.uk
SUMMARY:Comrie Community Council - Public Meeting
DESCRIPTION:The Community Council meet at the White Church the second Thursday of every month (except July & August) in the downstairs lounge at the White Church.  For more information on the CC please visit: https://www.comrie.org.uk/community-council/ \n 
URL:https://www.comrie.org.uk/event/comrie-community-council-public-meeting/
LOCATION:White Church Community Centre\, Drummond Street\, Comrie
END:VEVENT
BEGIN:VEVENT
DTSTART;TZID=Europe/London:20190214T140000
DTEND;TZID=Europe/London:20190214T153000
DTSTAMP:20260423T124805
CREATED:20190212T130745Z
LAST-MODIFIED:20190212T130745Z
UID:11325-1550152800-1550158200@www.comrie.org.uk
SUMMARY:Comrie Sing-a-Long
DESCRIPTION:Sing-a-long Wednesday.\n2.00-3.30pm\nComrie Parish Church.\nAll Welcome. \n2nd Wednesday of every month
URL:https://www.comrie.org.uk/event/comrie-sing-a-long/
LOCATION:Comrie Parish Church Hall\, Burrell Street\, Comrie\, PH6 2JP
END:VEVENT
BEGIN:VEVENT
DTSTART;TZID=Europe/London:20190214T120000
DTEND;TZID=Europe/London:20190214T140000
DTSTAMP:20260423T124805
CREATED:20190123T083410Z
LAST-MODIFIED:20190125T204046Z
UID:11056-1550145600-1550152800@www.comrie.org.uk
SUMMARY:Thursday Lunch Club
DESCRIPTION:The ever popular Thursday Lunch Club is a fund raiser for our Community Centre (owned and run by the community of Comrie).  Every week there are a selection of soups and puddings served along with a cheese of buttered bread roll\, coffee/tea and biscuits for £3.50.
URL:https://www.comrie.org.uk/event/thursday-lunch-club-6/
LOCATION:White Church Community Centre\, Drummond Street\, Comrie
END:VEVENT
BEGIN:VEVENT
DTSTART;TZID=Europe/London:20190214T120000
DTEND;TZID=Europe/London:20190214T140000
DTSTAMP:20260423T124805
CREATED:20190123T083215Z
LAST-MODIFIED:20190123T083215Z
UID:11052-1550145600-1550152800@www.comrie.org.uk
SUMMARY:Thursday Lunch Club
DESCRIPTION:The ever popular Thursday Lunch Club is a fund raiser for our Community Centre (owned and run by the community of Comrie).  Every week there are a selection of soups and puddings served along with a cheese of buttered bread roll\, coffee/tea and biscuits for £3.50.
URL:https://www.comrie.org.uk/event/thursday-lunch-club-4/
LOCATION:White Church Community Centre\, Drummond Street\, Comrie
END:VEVENT
BEGIN:VEVENT
DTSTART;TZID=Europe/London:20190213T140000
DTEND;TZID=Europe/London:20190213T160000
DTSTAMP:20260423T124805
CREATED:20190201T170906Z
LAST-MODIFIED:20190201T170939Z
UID:11174-1550066400-1550073600@www.comrie.org.uk
SUMMARY:Wild Wednesday at Comrie Croft
DESCRIPTION:Come along to this family session for an afternoon full of fun. Become nature detectives in the Comrie Croft woods. \nDiscover what animals can be found here\, where they live\, what they eat and how they spend their days along with other fun activities. \nFamily sessions are suitable for all ages (must be at least one adult per 4 children) \nCost is £30 per family (1 or more adults and up to 4 children)\, cash only on the day please. Booking is essential via info@aquilaecologyscotland.co.uk
URL:https://www.comrie.org.uk/event/wild-wednesday/
LOCATION:Comrie Croft\, Comrie\, PH7 4JZ
END:VEVENT
BEGIN:VEVENT
DTSTART;TZID=Europe/London:20190210T150000
DTEND;TZID=Europe/London:20190210T170000
DTSTAMP:20260423T124805
CREATED:20190131T111503Z
LAST-MODIFIED:20190131T111627Z
UID:11140-1549810800-1549818000@www.comrie.org.uk
SUMMARY:Music Session at the Ancaster Arms - 10th February
DESCRIPTION:The next music session at the Ancaster in Comrie will be Sunday 10th Feb from 3pm.  Musicians welcome to join in and of course go along to listen and enjoy the music with a dram or a pint.
URL:https://www.comrie.org.uk/event/music-session-at-the-ancaster-arms-10th-february/
LOCATION:Ancaster Arms\, Comrie\, PH6 2DW
END:VEVENT
BEGIN:VEVENT
DTSTART;VALUE=DATE:20190208
DTEND;VALUE=DATE:20190209
DTSTAMP:20260423T124805
CREATED:20190205T104049Z
LAST-MODIFIED:20190205T104049Z
UID:11258-1549584000-1549670399@www.comrie.org.uk
SUMMARY:Friday Fizz at the Ancaster Arms
DESCRIPTION:Friday Fizz this Friday!! 💃🕺🥂 Ticketed event (10 pp from Hansen’s Kitchen)which includes glass of fizz on arrival\, delicious homemade (by Hansen’s) canapés throughout the evening and Sam the DJ is joining us on the wheels of steel\, playing some mellow tunes while you chat and enjoy canapés\, then later offering a few to shimmy to!\nWe’ll have a variety of sparkling wines to sample\, which can be purchased by the glass (you are of course welcome to buy other drinks from the bar)\nTickets are limited\, so please grab yours from Hansen’s Kitchen soon\, to avoid disappointment.
URL:https://www.comrie.org.uk/event/friday-fizz-at-the-ancaster-arms/
LOCATION:Ancaster Arms\, Comrie\, PH6 2DW
END:VEVENT
END:VCALENDAR