BEGIN:VCALENDAR
VERSION:2.0
PRODID:-//Comrie - ECPv6.15.20//NONSGML v1.0//EN
CALSCALE:GREGORIAN
METHOD:PUBLISH
X-WR-CALNAME:Comrie
X-ORIGINAL-URL:https://www.comrie.org.uk
X-WR-CALDESC:Events for Comrie
REFRESH-INTERVAL;VALUE=DURATION:PT1H
X-Robots-Tag:noindex
X-PUBLISHED-TTL:PT1H
BEGIN:VTIMEZONE
TZID:Europe/London
BEGIN:DAYLIGHT
TZOFFSETFROM:+0000
TZOFFSETTO:+0100
TZNAME:BST
DTSTART:20210328T010000
END:DAYLIGHT
BEGIN:STANDARD
TZOFFSETFROM:+0100
TZOFFSETTO:+0000
TZNAME:GMT
DTSTART:20211031T010000
END:STANDARD
BEGIN:DAYLIGHT
TZOFFSETFROM:+0000
TZOFFSETTO:+0100
TZNAME:BST
DTSTART:20220327T010000
END:DAYLIGHT
BEGIN:STANDARD
TZOFFSETFROM:+0100
TZOFFSETTO:+0000
TZNAME:GMT
DTSTART:20221030T010000
END:STANDARD
BEGIN:DAYLIGHT
TZOFFSETFROM:+0000
TZOFFSETTO:+0100
TZNAME:BST
DTSTART:20230326T010000
END:DAYLIGHT
BEGIN:STANDARD
TZOFFSETFROM:+0100
TZOFFSETTO:+0000
TZNAME:GMT
DTSTART:20231029T010000
END:STANDARD
BEGIN:DAYLIGHT
TZOFFSETFROM:+0000
TZOFFSETTO:+0100
TZNAME:BST
DTSTART:20240331T010000
END:DAYLIGHT
BEGIN:STANDARD
TZOFFSETFROM:+0100
TZOFFSETTO:+0000
TZNAME:GMT
DTSTART:20241027T010000
END:STANDARD
END:VTIMEZONE
BEGIN:VEVENT
DTSTART;TZID=Europe/London:20230414T193000
DTEND;TZID=Europe/London:20230414T220000
DTSTAMP:20260420T040531
CREATED:20230326T091427Z
LAST-MODIFIED:20230326T091427Z
UID:19029-1681500600-1681509600@www.comrie.org.uk
SUMMARY:Pub/Games Night at the White Church
DESCRIPTION:Pub/Games night at the White Church.\nDarts\, Pool\, Dominoes\, Cards and a bar!
URL:https://www.comrie.org.uk/event/pub-games-night-at-the-white-church-3/
LOCATION:White Church Community Centre\, Drummond Street\, Comrie
END:VEVENT
BEGIN:VEVENT
DTSTART;TZID=Europe/London:20230412T120000
DTEND;TZID=Europe/London:20230415T140000
DTSTAMP:20260420T040531
CREATED:20230412T104425Z
LAST-MODIFIED:20230412T104425Z
UID:19078-1681300800-1681567200@www.comrie.org.uk
SUMMARY:Comrie Golf Club Lunch
DESCRIPTION:Comrie Golf Club is hosting a LUNCH in the White Church on \nSaturday 15th April – 12 Noon till 2pm \nAdults £6 under 12s £4 \nSoup\, Sandwiches\, Cake and Tea\, Coffee or Juice \nFree guess the weight of the cake \nALL WELCOME \nA generous donation will be given to Scottish Charity Air Ambulance
URL:https://www.comrie.org.uk/event/comrie-golf-club-lunch/
LOCATION:White Church Community Centre\, Drummond Street\, Comrie
END:VEVENT
BEGIN:VEVENT
DTSTART;TZID=Europe/London:20230411T190000
DTEND;TZID=Europe/London:20230411T210000
DTSTAMP:20260420T040531
CREATED:20230326T104943Z
LAST-MODIFIED:20230326T195942Z
UID:19055-1681239600-1681246800@www.comrie.org.uk
SUMMARY:Comrie Development Trust AGM
DESCRIPTION:The Comrie Development Trust AGM is being held on the 11th April 2023 at 7pm. \nAll members of the community are welcome\, irrespective of whether you are a member of teh CDT or not. \nThis is a message from the chair of the CDT – Jeremy Spurway: \nIn summary –  finances are desperate; the Board needs revitalised; continued project delivery needs active working groups \nHopefully you’ll have seen that we co-published the ‘Comrie Housing Needs’ report in conjunction with the Community Council\, and now we need to press on with developing an informed strategy for how we address the issues that the report highlights. \nAlso\, in mid-January we signed a contract with STAR consultants – funded by PKC – to prepare a ‘Community Action Plan’ and to guide us through the required community consultation to inform this. STAR have extensive experience in this area (they pretty much wrote the book on it) and you can see examples of their work for neighbouring communities ( Crieff ). \nSince there is clearly overlap between these two projects\, and to avoid (or at least reduce) ‘consultation fatigue’\, it makes sense to run these two projects in parallel\, running joint public events where possible. \nFinancially\, we’re in a fix! As I alluded to before Christmas\, we face a critical shortage of in-hand funds\, particularly with respect to making repayments that are now due on loans that have funded our major development projects at the Camp. I have still to fully understand how we have come to be at this point\, but clearly the revenue we had anticipated from commercial hut rental\, event hosting\, heritage visitors\, and – more recently – the self-catering visitor accommodation has not created sufficient surplus (after operating costs) to service the payments on our debts. \nArguably\, we should have done as (all?) other charities do and actively seek benevolent donations from supporters of our causes. If we had done this from the outset we would’ve built a ‘central fighting fund’ with which to cushion our financial predicament. Instead\, our fund-raising has been project-focussed and we have found it difficult to ask for money to support running CDT administration and the Camp. Until now! \nWe have a five-point plan for tackling our situation\, but first I want to outline why I think we haven’t asked for donations for CDT before now. Despite huge initial support for purchase of Cultybraggan Camp\, our operation of the Camp is poorly perceived by a significant number of people. I believe that this is – in part at least – because we have not been good at highlighting the many benefits that the Camp affords\, its potential\, and\, importantly\, the many other positive projects that the Trust has enabled within the village. Our decision-making may not have been transparent (or\, at worst\, outwardly rational) which\, quite reasonably\, erodes faith in our competence. Furthermore\, there is a disconnect between the village\, the Trust membership\, the Board\, and the staff. I believe this is due to a lack of visibility and – at least in part – due to a misapprehension of the various roles. \nThe Trust is its members; it exists for the benefit of the village; on whose behalf the Board operates as a steering group and a focus for policy and strategy development\, of which the Chair is the mouthpiece and conduit to the staff who\, in turn\, provide continuity with respect to _day-to-day administration and operational delivery. The working groups are members\, whose volunteer effort provide the impetus and delivery for the majority of the Trust’s projects. \nThe plan  \n\nclarify the Trust’s role in the village – highlight the benefits delivered to date\, and the future potential;\nre-frame the Trust’s charitable purposes – focus on access to\, and delivery of community benefits;\nincrease the membership – make the Trust’s voice more representative\, recruit volunteers;\nrevitalise the Board – diversify the membership and close the skills gaps;\nmake our financial management more robust – only commit to serviceable debt\, and improve income forecasting.\n\nTo this end I’d like you to consider the revised charitable Purposes presented in the proposed Articles of Association – these don’t materially alter the areas in which we can work but they do clarify how we work\, so we’re hoping that this will attract new engagement. \nManagement strategy (or ‘Belt-tightening’) \nI’d like to take the opportunity\, after the formal business of the AGM\, to invite discussion of how we manage our asset (Cultybraggan) and CDT itself to enable existing and future projects to succeed. The key points to consider are\, I believe\, as follows: \n\nwe have failed to generate sufficient revenue to support the CEO role\, so we need to find another way to oversee and direct the development required to make CDT financially sustainable;\nas a charity\, with no cash\, we need to rely on volunteer effort\, or get better at sourcing funding;\nto reduce/avoid burn-out and the potential for omission or neglect\, we need to spread the management burden more widely;\nin addition to the project-focussed working groups\, we need to consider setting up management groups to tackle:\n\nFinance Operations\nCultybraggan Estate\n\n\nwe need to fill a number of key roles on the Board with fresh faces\, namely:\n\nChair\nCompany Secretary\nTreasurer\n\n\nwe also need to expand the breadth and depth of key competencies within the Board\, particularly with respect to financial management and business strategy development.\n\nFinally\, I found this note in a presentation from the EGM of 2016-10-25: \n“it has become clear that the Trust Board and Trust Working Groups need to be enhanced\, and additional volunteers are needed for a range of essential tasks.\nCurrent CDT Board Members are all motivated by a wish to see the work of the Trust extended towards village developments. But\, there is a general appreciation that the primary focus needs to be on Cultybraggan Camp as the main asset of the Trust\, and an asset which has great potential for development\, which will benefit the village in various ways. \nTrust Board Members believe that an enhanced board could make a major contribution to ensuring a successful development programme by: \n\nEnabling the Trust Board to become more fully representative of the different interest groups involved Cultybraggan Camp\, and committed to making the site a success;\nInvolving people with a range of relevant knowledge and experience directly in decision-making about CDT matters;\nCreating the possibility of sharing the workload of Board members across a larger group”\n\nEssentially\, with more support we can achieve more! \nWe look forward to seeing you in the White Church on April 11th \nbest wishes – Jeremy \nJeremy Spurway – Chair
URL:https://www.comrie.org.uk/event/comrie-development-trust-agm-2/
LOCATION:White Church Community Centre\, Drummond Street\, Comrie
END:VEVENT
BEGIN:VEVENT
DTSTART;TZID=Europe/London:20230408T120000
DTEND;TZID=Europe/London:20230408T140000
DTSTAMP:20260420T040531
CREATED:20230326T092709Z
LAST-MODIFIED:20230326T092709Z
UID:19042-1680955200-1680962400@www.comrie.org.uk
SUMMARY:Lunch in aid of the Coco Bus
DESCRIPTION:Home made soup and desserts\, plus a filled roll\, refreshments and other goodies\, will be on offer at the White Church on Saturday\, April 8\, when members of the Comrie Fortnight committee host a Bite ’n’ Blether Lunch.\nThe event\, which runs from noon to 2pm\, is raising funds for the well-used Comrie Community Bus – or CoCo Bus as it is affectionately known.\nComrie Fortnight chair James Stewart said: “It’s only £5 per person so come along and support the CoCo Bus. This is the first time we’ve had the annual fundraiser for the bus since before Covid\, so we are looking forward to seeing everyone along to enjoy a community lunch again with us. \n“It’s best to come early as this is normally a really popular event.”
URL:https://www.comrie.org.uk/event/lunch-in-aid-of-the-coco-bus/
LOCATION:White Church Community Centre\, Drummond Street\, Comrie
END:VEVENT
BEGIN:VEVENT
DTSTART;TZID=Europe/London:20230407T193000
DTEND;TZID=Europe/London:20230407T220000
DTSTAMP:20260420T040531
CREATED:20230326T091338Z
LAST-MODIFIED:20230326T091338Z
UID:19027-1680895800-1680904800@www.comrie.org.uk
SUMMARY:Pub/Games Night at the White Church
DESCRIPTION:Pub/Games night at the White Church. \nDarts\, Pool\, Dominoes\, Cards and a bar!
URL:https://www.comrie.org.uk/event/pub-games-night-at-the-white-church-2/
END:VEVENT
BEGIN:VEVENT
DTSTART;TZID=Europe/London:20230331T193000
DTEND;TZID=Europe/London:20230331T220000
DTSTAMP:20260420T040531
CREATED:20230326T090544Z
LAST-MODIFIED:20230326T090544Z
UID:19025-1680291000-1680300000@www.comrie.org.uk
SUMMARY:Pub/Games Night at the White Church
DESCRIPTION:Pub/Games night at the White Church. \nDarts\, Pool\, Dominoes\, Cards and a bar!
URL:https://www.comrie.org.uk/event/pub-games-night-at-the-white-church/
LOCATION:White Church Community Centre\, Drummond Street\, Comrie
END:VEVENT
BEGIN:VEVENT
DTSTART;TZID=Europe/London:20230331T193000
DTEND;TZID=Europe/London:20230331T213000
DTSTAMP:20260420T040531
CREATED:20230318T133536Z
LAST-MODIFIED:20230318T133649Z
UID:18932-1680291000-1680298200@www.comrie.org.uk
SUMMARY:Yvonne Lyon at the Rural Hall
DESCRIPTION:Yvonne Lyon\, one of Scotland’s best singer songwriters to perform in Comrie on Friday 31st March  \n\n Her most recent album Growing Wild is her tenth solo studio release\, and has been received with rave reviews.\n\nAs well as performing widely in her own right\, she has supported Eddi Reader throughout the UK\, performed with Beth Nielsen Chapman and has co-written with Boo Hewerdine. She has shared the stage with Patti Griffin\, Karine Polwart\, Karen Matheson\, Luka Bloom\, Steve Forbert\, IONA and Juliet Turner. Her memorable and emotive performances can’t help but draw and stir audiences. Her voice can be both fragile and intense and her songs consistently combine poignant lyrics with strong\, creative melodies. You can’t help but ‘feel’ at an Yvonne gig. \nShe has guested on live sessions with Whispering Bob Harris on his BBC Radio 2 show and she has recently found the time in her busy schedule to complete a Masters Degree in Songwriting and Performance from the University of the West of Scotland. \nTickets can be bought online here and from Hansen’s Kitchen. \nPlease note that this gig is on Friday 31st March
URL:https://www.comrie.org.uk/event/yvonne-lyon-at-the-rural-hall/
LOCATION:Comrie Rural Hall
END:VEVENT
BEGIN:VEVENT
DTSTART;TZID=Europe/London:20230325T100000
DTEND;TZID=Europe/London:20230325T100000
DTSTAMP:20260420T040531
CREATED:20230318T134018Z
LAST-MODIFIED:20230318T134044Z
UID:18936-1679738400-1679738400@www.comrie.org.uk
SUMMARY:Coffee Morning
DESCRIPTION:Comrie Bowling Club are holding a Coffee Morning Saturday 25th March 2023
URL:https://www.comrie.org.uk/event/coffee-morning/
LOCATION:White Church Community Centre\, Drummond Street\, Comrie
END:VEVENT
BEGIN:VEVENT
DTSTART;TZID=Europe/London:20230311T190000
DTEND;TZID=Europe/London:20230311T220000
DTSTAMP:20260420T040531
CREATED:20230219T142300Z
LAST-MODIFIED:20230219T142300Z
UID:18867-1678561200-1678572000@www.comrie.org.uk
SUMMARY:Comrie Cinema Club - The Banshees of Inisherin
DESCRIPTION:Coming to Comrie Cinema on Saturday March 11th we’re delighted to bring you:\n\n\n\n\n\nThe Banshees of Inisherin\, with a pre-film talk by historian Dr John Regan which will provide some historical context for the film.\nTalk at 7pm (please bring some cash as a donation to support the talk)\nFilm at 8pm. Tickets £6 from Hansen’s Kitchen.
URL:https://www.comrie.org.uk/event/comrie-cinema-club-the-banshees-of-inisherin/
LOCATION:Comrie Rural Hall
END:VEVENT
BEGIN:VEVENT
DTSTART;TZID=Europe/London:20230225T193000
DTEND;TZID=Europe/London:20230225T230000
DTSTAMP:20260420T040531
CREATED:20230219T140008Z
LAST-MODIFIED:20230219T140008Z
UID:18857-1677353400-1677366000@www.comrie.org.uk
SUMMARY:Pub/Games Night
DESCRIPTION:Pub/Games night at teh White Church. \nDarts\, Pool\, Dominoes\, Cards and a bar!
URL:https://www.comrie.org.uk/event/pub-games-night-2/
LOCATION:White Church Community Centre\, Drummond Street\, Comrie
END:VEVENT
BEGIN:VEVENT
DTSTART;TZID=Europe/London:20230219T150000
DTEND;TZID=Europe/London:20230311T170000
DTSTAMP:20260420T040531
CREATED:20230219T141933Z
LAST-MODIFIED:20230219T141933Z
UID:18864-1676818800-1678554000@www.comrie.org.uk
SUMMARY:Comrie Cinema Club - Childrens Film
DESCRIPTION:Coming to Comrie Cinema on Saturday March 11th we’re delighted to bring you:\n\n\nStrange World – a brilliant Disney animation which follows a family of explorers and their adventures.\n3pm Comrie Rural Hall. £3 on the door. Under 3s go free.\nTickets on the door.
URL:https://www.comrie.org.uk/event/comrie-cinema-club-childrens-film/
LOCATION:Comrie Rural Hall
END:VEVENT
BEGIN:VEVENT
DTSTART;TZID=Europe/London:20230211T193000
DTEND;TZID=Europe/London:20230211T220000
DTSTAMP:20260420T040531
CREATED:20230202T083945Z
LAST-MODIFIED:20230202T083945Z
UID:18841-1676143800-1676152800@www.comrie.org.uk
SUMMARY:Ryan Young
DESCRIPTION:Ryan Young is a fiddler and a musician of prodigious talent. He brings new and exciting ideas to traditional Scottish music\, receiving international praise for his spell-binding interpretations on the fiddle. \nRyan was nominated as Musician of the Year in the MG ALBA Scots Trad Music Awards 2022. \nRyan will be accompanied by David Foley who is a founding member of the great band Rura. David is a multi-instrumentalist\, composer and teacher from Glasgow. His instruments include the bodhran\, flute\, whistle and guitar.
URL:https://www.comrie.org.uk/event/ryan-young/
LOCATION:Comrie Rural Hall
END:VEVENT
BEGIN:VEVENT
DTSTART;TZID=Europe/London:20230204T190000
DTEND;TZID=Europe/London:20230204T210000
DTSTAMP:20260420T040531
CREATED:20230123T135741Z
LAST-MODIFIED:20230123T135741Z
UID:18825-1675537200-1675544400@www.comrie.org.uk
SUMMARY:Bowie
DESCRIPTION:Presented by Comrie Cinema Club – 7pm at the Rural Hall
URL:https://www.comrie.org.uk/event/bowie/
LOCATION:Comrie Rural Hall
END:VEVENT
BEGIN:VEVENT
DTSTART;TZID=Europe/London:20230204T150000
DTEND;TZID=Europe/London:20230204T170000
DTSTAMP:20260420T040531
CREATED:20230123T135544Z
LAST-MODIFIED:20230123T135544Z
UID:18823-1675522800-1675530000@www.comrie.org.uk
SUMMARY:Lyle Lyle Crocodile
DESCRIPTION:Presented by Comrie Cinema Club at the Rural Hall
URL:https://www.comrie.org.uk/event/lyle-lyle-crocodile/
LOCATION:Comrie Rural Hall
END:VEVENT
BEGIN:VEVENT
DTSTART;TZID=Europe/London:20230121T190000
DTEND;TZID=Europe/London:20230121T230000
DTSTAMP:20260420T040531
CREATED:20221201T162859Z
LAST-MODIFIED:20221201T162911Z
UID:18705-1674327600-1674342000@www.comrie.org.uk
SUMMARY:Comrie Pipe Band Burns Supper
DESCRIPTION:Dinner\, music and ceilidh with the Comrie Pipe Band at the White Church on teh 21st January 2023
URL:https://www.comrie.org.uk/event/comrie-pipe-band-burns-supper/
LOCATION:White Church Community Centre\, Drummond Street\, Comrie
END:VEVENT
BEGIN:VEVENT
DTSTART;TZID=Europe/London:20230114T150000
DTEND;TZID=Europe/London:20230114T220000
DTSTAMP:20260420T040531
CREATED:20221212T094323Z
LAST-MODIFIED:20221212T094323Z
UID:18739-1673708400-1673733600@www.comrie.org.uk
SUMMARY:Comrie Cinema Club
DESCRIPTION:Comrie Cinema is making a comeback in the New Year with a double bill on 14th Jan. Check the poster for details.
URL:https://www.comrie.org.uk/event/comrie-cinema-club/
LOCATION:Comrie Rural Hall
END:VEVENT
BEGIN:VEVENT
DTSTART;TZID=Europe/London:20230110T140000
DTEND;TZID=Europe/London:20230110T160000
DTSTAMP:20260420T040531
CREATED:20230109T095405Z
LAST-MODIFIED:20230109T095405Z
UID:18795-1673359200-1673366400@www.comrie.org.uk
SUMMARY:Comrie SWI Meeting - Tuesday 10th January
DESCRIPTION:The next Comrie SWI meeting is on Tuesday 10th January at 2pm In Comrie Rural Hall\n\n– Remake-Furishika wrapping\n– Bring a scarf or material\n– Comp: 3 x Shortbread fingers\n– Four lined poem : “Apologies to Rabbie Burns”\n\nAll Welcome\nInfo: Joyce 07771741983
URL:https://www.comrie.org.uk/event/comrie-swi-meeting-tuesday-10th-january/
LOCATION:Comrie Rural Hall
END:VEVENT
BEGIN:VEVENT
DTSTART;TZID=Europe/London:20221231T233000
DTEND;TZID=Europe/London:20230101T010000
DTSTAMP:20260420T040531
CREATED:20221115T092018Z
LAST-MODIFIED:20221228T164309Z
UID:18601-1672529400-1672534800@www.comrie.org.uk
SUMMARY:Flambeaux 2022
DESCRIPTION:The Flambeaux celebrations of 2020 and 2021 had to be cancelled due to Government covid restrictions. However\, in both years four secret flambeaux were paraded around the deserted streets of the village on Hogmanay to maintain the continuity of our centuries old tradition. So\, we are happy to announce the resumption of this year’s full Flambeaux parade. As a result of unavoidable expense and limited fund raising over the last two years we incurred a financial deficit\, so it is important that this year we make an effort to raise the funds necessary to continue this important and unique village tradition. We hope to raise a minimum of £4000 through the Just Giving web site\, the resumption of door to door collections by the Committee\, and donation buckets in the Post Office and Handy Shop. \nPlease help us to fund Comrie’s Flambeaux. \nDonate on  justgiving \n  \nTimetable:\n\n18:30:  Childrens Fancy Dress Competition at the White Church\n19:15:  Fireworks at the Boulevard\n23:30:  Adult Fancy Dress at Melville Square\n24:00:  Flameaux Parade.\n\n\n\n 
URL:https://www.comrie.org.uk/event/flambeaux-2022/
LOCATION:Melville Square
END:VEVENT
BEGIN:VEVENT
DTSTART;TZID=Europe/London:20221231T193000
DTEND;TZID=Europe/London:20221231T203000
DTSTAMP:20260420T040531
CREATED:20221228T163701Z
LAST-MODIFIED:20221228T163701Z
UID:18771-1672515000-1672518600@www.comrie.org.uk
SUMMARY:Flameaux - Childrens Fancy Dress and Fireworks
DESCRIPTION:Timetable:\n\n18:30:  Childrens Fancy Dress Competition at the White Church\n19:15:  Fireworks at the Boulevard
URL:https://www.comrie.org.uk/event/flameaux-childrens-fancy-dress-and-fireworks/
LOCATION:White Church Community Centre\, Drummond Street\, Comrie
END:VEVENT
BEGIN:VEVENT
DTSTART;TZID=Europe/London:20221224T193000
DTEND;TZID=Europe/London:20221224T203000
DTSTAMP:20260420T040531
CREATED:20221224T091404Z
LAST-MODIFIED:20221224T091601Z
UID:18757-1671910200-1671913800@www.comrie.org.uk
SUMMARY:White Church Christmas Eve Service
DESCRIPTION:7:30pm on Christmas Eve at the White Church
URL:https://www.comrie.org.uk/event/white-church-cristmas-eve-service/
LOCATION:White Church Community Centre\, Drummond Street\, Comrie
END:VEVENT
BEGIN:VEVENT
DTSTART;TZID=Europe/London:20221224T140000
DTEND;TZID=Europe/London:20221224T150000
DTSTAMP:20260420T040531
CREATED:20221212T105759Z
LAST-MODIFIED:20221212T105759Z
UID:18751-1671890400-1671894000@www.comrie.org.uk
SUMMARY:Carols in the Square
DESCRIPTION:The Comrie Parish singers will be singing carols in St Kessogs Square on Christmas Eve at 2pm.
URL:https://www.comrie.org.uk/event/carols-in-the-square/
LOCATION:St.Kessogs Square\, Drummond Street\, Comrie\, Perthshire\, United Kingdom
END:VEVENT
BEGIN:VEVENT
DTSTART;TZID=Europe/London:20221219T183000
DTEND;TZID=Europe/London:20221219T193000
DTSTAMP:20260420T040531
CREATED:20221224T091034Z
LAST-MODIFIED:20221224T091034Z
UID:18755-1671474600-1671478200@www.comrie.org.uk
SUMMARY:St Sref's Carol Service
DESCRIPTION: 
URL:https://www.comrie.org.uk/event/st-srefs-carol-service/
LOCATION:St Serf’s Church\, Comrie\, 85 Station Rd PH6 2EA\, Comrie\, Perthshire\, PH6 2EA\, United Kingdom
END:VEVENT
BEGIN:VEVENT
DTSTART;TZID=Europe/London:20221217T180000
DTEND;TZID=Europe/London:20221217T220000
DTSTAMP:20260420T040531
CREATED:20221115T115041Z
LAST-MODIFIED:20221115T115041Z
UID:18628-1671300000-1671314400@www.comrie.org.uk
SUMMARY:Christmas Party at the White Church
DESCRIPTION:The Comrie White Church – Comrie Community Centre Christmas party night will be the 17th of December. Join us for a 3 course meal from the award winning Nutritious and Delicious\, then dance the night away with D J Ash on the tunes!!\n£35/person with a glass of bubbly on arrival.\nContact Jaclyn on 01764 679001 or enquiries@comriewhite.co.uk\n\n\n\n\n  \n  \n  \n 
URL:https://www.comrie.org.uk/event/christmas-party-at-the-white-church/
LOCATION:White Church Community Centre\, Drummond Street\, Comrie
END:VEVENT
BEGIN:VEVENT
DTSTART;TZID=Europe/London:20221215T140000
DTEND;TZID=Europe/London:20221215T153000
DTSTAMP:20260420T040531
CREATED:20221212T093406Z
LAST-MODIFIED:20221212T093406Z
UID:18730-1671112800-1671118200@www.comrie.org.uk
SUMMARY:Christmas Event for PAs and Carers in Strathearn
DESCRIPTION:Personal Assistants and paid carers are invited to drop in\, have a cup of tea and a mince pie\, meet and mingle with each other and staff from Scoial Work\, SDS Unit\, Support Choices\, PKAVS and GrowBiz. \nThis event is a collaboration between Social Work and Support Choices\, with a view to connecting PAs and Carers who work under an Option 1.  When people are looking to employ PAs/carers\, its often hard to find them and the idea is to offer an event where people can come and say hi\, encourage some kind of co-ordinated approach\, and also to identify people working as PAs who might not already be on the radar.  Growbiz is coming along too in case there are people out there who would like to set up as carers but don’t know how\, and Lesley Monro will also be there from SDS unit.   \nPlease note that this event is for employed and self-employed PA’s and Carers working in the Strathearn area under Option 1 (i.e. not carers from care homes etc).
URL:https://www.comrie.org.uk/event/christmas-event-for-pas-and-carers-in-strathearn/
LOCATION:Duchlage Court\, Crieff
END:VEVENT
BEGIN:VEVENT
DTSTART;TZID=Europe/London:20221210T100000
DTEND;TZID=Europe/London:20221210T120000
DTSTAMP:20260420T040531
CREATED:20221129T092909Z
LAST-MODIFIED:20221129T092909Z
UID:18697-1670666400-1670673600@www.comrie.org.uk
SUMMARY:White Church Christmas Fair
DESCRIPTION:Saturday 10th December – 10:00 to 12:00
URL:https://www.comrie.org.uk/event/white-church-christmas-fair/
LOCATION:White Church Community Centre\, Drummond Street\, Comrie
END:VEVENT
BEGIN:VEVENT
DTSTART;TZID=Europe/London:20221203T183000
DTEND;TZID=Europe/London:20221203T210000
DTSTAMP:20260420T040531
CREATED:20221115T121530Z
LAST-MODIFIED:20221115T121530Z
UID:18643-1670092200-1670101200@www.comrie.org.uk
SUMMARY:Dracula the Panto
DESCRIPTION:Tickets for DRACULA THE PANTOMIME are now on sale!  \n 4 nights only… \n Wednesday 30th November to Saturday 3rd December \n At The White Church\, Comrie. \nGet your tickets from: \nHansen’s Kitchen\nComrie White Church – Comrie Community Centre\nStudio 52\nComrie Post Office \nYou can also buy tickets online… \nJust scan the QR code on our poster and you’ll be taken directly to our online box office.  \nWe look forward to seeing you there! (You would be bats to miss it!)
URL:https://www.comrie.org.uk/event/dracula-the-panto-4/
LOCATION:White Church Community Centre\, Drummond Street\, Comrie
END:VEVENT
BEGIN:VEVENT
DTSTART;TZID=Europe/London:20221202T183000
DTEND;TZID=Europe/London:20221202T213000
DTSTAMP:20260420T040531
CREATED:20221115T121338Z
LAST-MODIFIED:20221115T121338Z
UID:18641-1670005800-1670016600@www.comrie.org.uk
SUMMARY:Dracula the Panto
DESCRIPTION:Tickets for DRACULA THE PANTOMIME are now on sale!  \n 4 nights only… \n Wednesday 30th November to Saturday 3rd December \n At The White Church\, Comrie. \nGet your tickets from: \nHansen’s Kitchen\nComrie White Church – Comrie Community Centre\nStudio 52\nComrie Post Office \nYou can also buy tickets online… \nJust scan the QR code on our poster and you’ll be taken directly to our online box office.  \nWe look forward to seeing you there! (You would be bats to miss it!)
URL:https://www.comrie.org.uk/event/dracula-the-panto-3/
LOCATION:White Church Community Centre\, Drummond Street\, Comrie
END:VEVENT
BEGIN:VEVENT
DTSTART;TZID=Europe/London:20221201T183000
DTEND;TZID=Europe/London:20221201T210000
DTSTAMP:20260420T040531
CREATED:20221115T121119Z
LAST-MODIFIED:20221115T121119Z
UID:18639-1669919400-1669928400@www.comrie.org.uk
SUMMARY:Dracula the Panto
DESCRIPTION:Tickets for DRACULA THE PANTOMIME are now on sale!  \n 4 nights only… \n Wednesday 30th November to Saturday 3rd December \n At The White Church\, Comrie. \nGet your tickets from: \nHansen’s Kitchen\nComrie White Church – Comrie Community Centre\nStudio 52\nComrie Post Office \nYou can also buy tickets online… \nJust scan the QR code on our poster and you’ll be taken directly to our online box office.  \nWe look forward to seeing you there! (You would be bats to miss it!)
URL:https://www.comrie.org.uk/event/dracula-the-panto-2/
LOCATION:White Church Community Centre\, Drummond Street\, Comrie
END:VEVENT
BEGIN:VEVENT
DTSTART;TZID=Europe/London:20221201T170000
DTEND;TZID=Europe/London:20221201T200000
DTSTAMP:20260420T040531
CREATED:20221115T101755Z
LAST-MODIFIED:20221115T101755Z
UID:18607-1669914000-1669924800@www.comrie.org.uk
SUMMARY:Late Night Christmas Shopping
DESCRIPTION:Late night Christmas shopping returns on Thursday the 1st of December. \nAll the usual shops will be open together with some guest pop-up.  The library will also be open.
URL:https://www.comrie.org.uk/event/late-night-christmas-shopping/
LOCATION:Comrie
END:VEVENT
BEGIN:VEVENT
DTSTART;TZID=Europe/London:20221130T183000
DTEND;TZID=Europe/London:20221130T210000
DTSTAMP:20260420T040531
CREATED:20221115T120938Z
LAST-MODIFIED:20221115T120938Z
UID:18637-1669833000-1669842000@www.comrie.org.uk
SUMMARY:Dracula the Panto
DESCRIPTION:Tickets for DRACULA THE PANTOMIME are now on sale!  \n 4 nights only… \n Wednesday 30th November to Saturday 3rd December \n At The White Church\, Comrie. \nGet your tickets from: \nHansen’s Kitchen\nComrie White Church – Comrie Community Centre\nStudio 52\nComrie Post Office \nYou can also buy tickets online… \nJust scan the QR code on our poster and you’ll be taken directly to our online box office.  \nWe look forward to seeing you there! (You would be bats to miss it!)
URL:https://www.comrie.org.uk/event/dracula-the-panto/
LOCATION:White Church Community Centre\, Drummond Street\, Comrie
END:VEVENT
END:VCALENDAR