BEGIN:VCALENDAR
VERSION:2.0
PRODID:-//Comrie - ECPv6.15.20//NONSGML v1.0//EN
CALSCALE:GREGORIAN
METHOD:PUBLISH
X-WR-CALNAME:Comrie
X-ORIGINAL-URL:https://www.comrie.org.uk
X-WR-CALDESC:Events for Comrie
REFRESH-INTERVAL;VALUE=DURATION:PT1H
X-Robots-Tag:noindex
X-PUBLISHED-TTL:PT1H
BEGIN:VTIMEZONE
TZID:Europe/London
BEGIN:DAYLIGHT
TZOFFSETFROM:+0000
TZOFFSETTO:+0100
TZNAME:BST
DTSTART:20210328T010000
END:DAYLIGHT
BEGIN:STANDARD
TZOFFSETFROM:+0100
TZOFFSETTO:+0000
TZNAME:GMT
DTSTART:20211031T010000
END:STANDARD
BEGIN:DAYLIGHT
TZOFFSETFROM:+0000
TZOFFSETTO:+0100
TZNAME:BST
DTSTART:20220327T010000
END:DAYLIGHT
BEGIN:STANDARD
TZOFFSETFROM:+0100
TZOFFSETTO:+0000
TZNAME:GMT
DTSTART:20221030T010000
END:STANDARD
BEGIN:DAYLIGHT
TZOFFSETFROM:+0000
TZOFFSETTO:+0100
TZNAME:BST
DTSTART:20230326T010000
END:DAYLIGHT
BEGIN:STANDARD
TZOFFSETFROM:+0100
TZOFFSETTO:+0000
TZNAME:GMT
DTSTART:20231029T010000
END:STANDARD
END:VTIMEZONE
BEGIN:VEVENT
DTSTART;TZID=Europe/London:20221217T180000
DTEND;TZID=Europe/London:20221217T220000
DTSTAMP:20260419T192337
CREATED:20221115T115041Z
LAST-MODIFIED:20221115T115041Z
UID:18628-1671300000-1671314400@www.comrie.org.uk
SUMMARY:Christmas Party at the White Church
DESCRIPTION:The Comrie White Church – Comrie Community Centre Christmas party night will be the 17th of December. Join us for a 3 course meal from the award winning Nutritious and Delicious\, then dance the night away with D J Ash on the tunes!!\n£35/person with a glass of bubbly on arrival.\nContact Jaclyn on 01764 679001 or enquiries@comriewhite.co.uk\n\n\n\n\n  \n  \n  \n 
URL:https://www.comrie.org.uk/event/christmas-party-at-the-white-church/
LOCATION:White Church Community Centre\, Drummond Street\, Comrie
END:VEVENT
BEGIN:VEVENT
DTSTART;TZID=Europe/London:20221215T140000
DTEND;TZID=Europe/London:20221215T153000
DTSTAMP:20260419T192337
CREATED:20221212T093406Z
LAST-MODIFIED:20221212T093406Z
UID:18730-1671112800-1671118200@www.comrie.org.uk
SUMMARY:Christmas Event for PAs and Carers in Strathearn
DESCRIPTION:Personal Assistants and paid carers are invited to drop in\, have a cup of tea and a mince pie\, meet and mingle with each other and staff from Scoial Work\, SDS Unit\, Support Choices\, PKAVS and GrowBiz. \nThis event is a collaboration between Social Work and Support Choices\, with a view to connecting PAs and Carers who work under an Option 1.  When people are looking to employ PAs/carers\, its often hard to find them and the idea is to offer an event where people can come and say hi\, encourage some kind of co-ordinated approach\, and also to identify people working as PAs who might not already be on the radar.  Growbiz is coming along too in case there are people out there who would like to set up as carers but don’t know how\, and Lesley Monro will also be there from SDS unit.   \nPlease note that this event is for employed and self-employed PA’s and Carers working in the Strathearn area under Option 1 (i.e. not carers from care homes etc).
URL:https://www.comrie.org.uk/event/christmas-event-for-pas-and-carers-in-strathearn/
LOCATION:Duchlage Court\, Crieff
END:VEVENT
BEGIN:VEVENT
DTSTART;TZID=Europe/London:20221210T100000
DTEND;TZID=Europe/London:20221210T120000
DTSTAMP:20260419T192337
CREATED:20221129T092909Z
LAST-MODIFIED:20221129T092909Z
UID:18697-1670666400-1670673600@www.comrie.org.uk
SUMMARY:White Church Christmas Fair
DESCRIPTION:Saturday 10th December – 10:00 to 12:00
URL:https://www.comrie.org.uk/event/white-church-christmas-fair/
LOCATION:White Church Community Centre\, Drummond Street\, Comrie
END:VEVENT
BEGIN:VEVENT
DTSTART;TZID=Europe/London:20221203T183000
DTEND;TZID=Europe/London:20221203T210000
DTSTAMP:20260419T192337
CREATED:20221115T121530Z
LAST-MODIFIED:20221115T121530Z
UID:18643-1670092200-1670101200@www.comrie.org.uk
SUMMARY:Dracula the Panto
DESCRIPTION:Tickets for DRACULA THE PANTOMIME are now on sale!  \n 4 nights only… \n Wednesday 30th November to Saturday 3rd December \n At The White Church\, Comrie. \nGet your tickets from: \nHansen’s Kitchen\nComrie White Church – Comrie Community Centre\nStudio 52\nComrie Post Office \nYou can also buy tickets online… \nJust scan the QR code on our poster and you’ll be taken directly to our online box office.  \nWe look forward to seeing you there! (You would be bats to miss it!)
URL:https://www.comrie.org.uk/event/dracula-the-panto-4/
LOCATION:White Church Community Centre\, Drummond Street\, Comrie
END:VEVENT
BEGIN:VEVENT
DTSTART;TZID=Europe/London:20221202T183000
DTEND;TZID=Europe/London:20221202T213000
DTSTAMP:20260419T192337
CREATED:20221115T121338Z
LAST-MODIFIED:20221115T121338Z
UID:18641-1670005800-1670016600@www.comrie.org.uk
SUMMARY:Dracula the Panto
DESCRIPTION:Tickets for DRACULA THE PANTOMIME are now on sale!  \n 4 nights only… \n Wednesday 30th November to Saturday 3rd December \n At The White Church\, Comrie. \nGet your tickets from: \nHansen’s Kitchen\nComrie White Church – Comrie Community Centre\nStudio 52\nComrie Post Office \nYou can also buy tickets online… \nJust scan the QR code on our poster and you’ll be taken directly to our online box office.  \nWe look forward to seeing you there! (You would be bats to miss it!)
URL:https://www.comrie.org.uk/event/dracula-the-panto-3/
LOCATION:White Church Community Centre\, Drummond Street\, Comrie
END:VEVENT
BEGIN:VEVENT
DTSTART;TZID=Europe/London:20221201T183000
DTEND;TZID=Europe/London:20221201T210000
DTSTAMP:20260419T192337
CREATED:20221115T121119Z
LAST-MODIFIED:20221115T121119Z
UID:18639-1669919400-1669928400@www.comrie.org.uk
SUMMARY:Dracula the Panto
DESCRIPTION:Tickets for DRACULA THE PANTOMIME are now on sale!  \n 4 nights only… \n Wednesday 30th November to Saturday 3rd December \n At The White Church\, Comrie. \nGet your tickets from: \nHansen’s Kitchen\nComrie White Church – Comrie Community Centre\nStudio 52\nComrie Post Office \nYou can also buy tickets online… \nJust scan the QR code on our poster and you’ll be taken directly to our online box office.  \nWe look forward to seeing you there! (You would be bats to miss it!)
URL:https://www.comrie.org.uk/event/dracula-the-panto-2/
LOCATION:White Church Community Centre\, Drummond Street\, Comrie
END:VEVENT
BEGIN:VEVENT
DTSTART;TZID=Europe/London:20221201T170000
DTEND;TZID=Europe/London:20221201T200000
DTSTAMP:20260419T192337
CREATED:20221115T101755Z
LAST-MODIFIED:20221115T101755Z
UID:18607-1669914000-1669924800@www.comrie.org.uk
SUMMARY:Late Night Christmas Shopping
DESCRIPTION:Late night Christmas shopping returns on Thursday the 1st of December. \nAll the usual shops will be open together with some guest pop-up.  The library will also be open.
URL:https://www.comrie.org.uk/event/late-night-christmas-shopping/
LOCATION:Comrie
END:VEVENT
BEGIN:VEVENT
DTSTART;TZID=Europe/London:20221130T183000
DTEND;TZID=Europe/London:20221130T210000
DTSTAMP:20260419T192337
CREATED:20221115T120938Z
LAST-MODIFIED:20221115T120938Z
UID:18637-1669833000-1669842000@www.comrie.org.uk
SUMMARY:Dracula the Panto
DESCRIPTION:Tickets for DRACULA THE PANTOMIME are now on sale!  \n 4 nights only… \n Wednesday 30th November to Saturday 3rd December \n At The White Church\, Comrie. \nGet your tickets from: \nHansen’s Kitchen\nComrie White Church – Comrie Community Centre\nStudio 52\nComrie Post Office \nYou can also buy tickets online… \nJust scan the QR code on our poster and you’ll be taken directly to our online box office.  \nWe look forward to seeing you there! (You would be bats to miss it!)
URL:https://www.comrie.org.uk/event/dracula-the-panto/
LOCATION:White Church Community Centre\, Drummond Street\, Comrie
END:VEVENT
BEGIN:VEVENT
DTSTART;TZID=Europe/London:20221126T100000
DTEND;TZID=Europe/London:20221126T130000
DTSTAMP:20260419T192337
CREATED:20221027T073915Z
LAST-MODIFIED:20221027T073915Z
UID:18533-1669456800-1669467600@www.comrie.org.uk
SUMMARY:Christmas Fayre
DESCRIPTION:The Parish Church Christmas Fayre is fast approaching.\n\n\nSaturday 26th November\, from 10am\, Comrie Parish Church\n\n\nTo book your table call Norma on  01764 670412\n\n\nWe are holding our prices at last year’s rate of £10 per table.\n\n\nThis is an excellent way of making some extra money for the festive season.
URL:https://www.comrie.org.uk/event/christmas-fayre/
LOCATION:Comrie Parish Church Hall\, Burrell Street\, Comrie\, PH6 2JP
END:VEVENT
BEGIN:VEVENT
DTSTART;TZID=Europe/London:20221120T193000
DTEND;TZID=Europe/London:20221120T220000
DTSTAMP:20260419T192337
CREATED:20221117T102415Z
LAST-MODIFIED:20221117T102415Z
UID:18663-1668972600-1668981600@www.comrie.org.uk
SUMMARY:White Church Monthly Quiz
DESCRIPTION:Our monthly quiz will be held on Sunday 20th November. \nTable of 4 £12\, raffle and refreshments\, BYOB. \n 
URL:https://www.comrie.org.uk/event/white-church-monthly-quiz/
LOCATION:White Church Community Centre\, Drummond Street\, Comrie
END:VEVENT
BEGIN:VEVENT
DTSTART;TZID=Europe/London:20221120T140000
DTEND;TZID=Europe/London:20221120T180000
DTSTAMP:20260419T192337
CREATED:20221115T114303Z
LAST-MODIFIED:20221115T114303Z
UID:18624-1668952800-1668967200@www.comrie.org.uk
SUMMARY:Christmas  Marketta
DESCRIPTION:After popular demand the Christmas Marketta is back at Comrie Croft this year\, on Sunday 20th December \n\n\nLots of local artisans and a great opportunity to shop local and get some precious and meaningful gifts. Come along and enjoy the festive spirit\, eat good food and treat yourself to some mulled wine by a fire.
URL:https://www.comrie.org.uk/event/christmas-marketta/
LOCATION:Comrie Croft\, Comrie\, PH7 4JZ
END:VEVENT
BEGIN:VEVENT
DTSTART;TZID=Europe/London:20221119T133000
DTEND;TZID=Europe/London:20221119T180000
DTSTAMP:20260419T192337
CREATED:20221115T112702Z
LAST-MODIFIED:20221115T113455Z
UID:18617-1668864600-1668880800@www.comrie.org.uk
SUMMARY:Christmas Fair and Christmas Lights Switch On
DESCRIPTION:Christmas Fair at the White Church Saturday November 19th 2022\, followed by the Christmas lights switch on in St. Kessog’s Square. \nCome and meet Santa in his Grotto \nFree entry\, but tickets must be obtained in advance from Jaclyn at the White Church. \n\nLots of lovely stalls\nLocal produce and gifts\nChildren’s games and crafts.\n\n 
URL:https://www.comrie.org.uk/event/christmas-fair-and-lights/
LOCATION:White Church Community Centre\, Drummond Street\, Comrie
END:VEVENT
BEGIN:VEVENT
DTSTART;TZID=Europe/London:20221110T190000
DTEND;TZID=Europe/London:20221110T210000
DTSTAMP:20260419T192337
CREATED:20221110T112609Z
LAST-MODIFIED:20221110T112609Z
UID:18588-1668106800-1668114000@www.comrie.org.uk
SUMMARY:Community Council Meeting
DESCRIPTION:The next Comrie Community Council meeting will be held in the Royal Library of the Royal Hotel on Thursday the 10th November 2022 following on from our EGM which starts at 7.00 pm. \nAll members of the public are welcome. \n  \n  Agenda \n\nWelcome\nApologies\nPrevious Minutes\n\nMatters arising\nAcceptance\n\n\nPolice Report\nRelevant planning applications\nTreasurer’s Report\nRoad Matters\nSecretary’s relevant correspondence and update\nLegion Park\nComrie and Dundurn Parish Church\nOrg Emails\nBus route Tay Ave\nAffordable Housing\nWebsite\nGlascorrie Road Update\nDalginross Bridge /Payback team\nChristmas Lights\nCouncilor’s Reports\nA.O.C.B
URL:https://www.comrie.org.uk/event/community-council-meeting/
LOCATION:Royal Hotel – Library
END:VEVENT
BEGIN:VEVENT
DTSTART;TZID=Europe/London:20221106T193000
DTEND;TZID=Europe/London:20221106T230000
DTSTAMP:20260419T192337
CREATED:20221027T085958Z
LAST-MODIFIED:20221027T085958Z
UID:18562-1667763000-1667775600@www.comrie.org.uk
SUMMARY:Quiz Night
DESCRIPTION:Quiz in aid of Marie Curie at the White Church\nSunday 6th November 7.30. Refreshments\nTeams of 4 £12. BYOB
URL:https://www.comrie.org.uk/event/quiz-night/
LOCATION:White Church Community Centre\, Drummond Street\, Comrie
END:VEVENT
BEGIN:VEVENT
DTSTART;TZID=Europe/London:20221105T100000
DTEND;TZID=Europe/London:20221105T160000
DTSTAMP:20260419T192337
CREATED:20221027T085601Z
LAST-MODIFIED:20221027T085601Z
UID:18558-1667642400-1667664000@www.comrie.org.uk
SUMMARY:Scottish Craft Fair
DESCRIPTION:Scottish Craft Fair at the White Church
URL:https://www.comrie.org.uk/event/scottish-craft-fair/
LOCATION:White Church Community Centre\, Drummond Street\, Comrie
END:VEVENT
BEGIN:VEVENT
DTSTART;TZID=Europe/London:20221104T190000
DTEND;TZID=Europe/London:20221104T210000
DTSTAMP:20260419T192337
CREATED:20221028T090736Z
LAST-MODIFIED:20221028T090736Z
UID:18566-1667588400-1667595600@www.comrie.org.uk
SUMMARY:Blast in the Park - Fireworks and More
DESCRIPTION:Friday the 4th November is the annual fireworks display and bonfire. \nLaggan Park from 7 pm with a lantern procession behind the Pipe Band from Mellville Square at 6:30 pm.
URL:https://www.comrie.org.uk/event/blast-in-the-park-fireworks-and-more/
LOCATION:Laggan Park
END:VEVENT
BEGIN:VEVENT
DTSTART;TZID=Europe/London:20221028T180000
DTEND;TZID=Europe/London:20221028T230000
DTSTAMP:20260419T192337
CREATED:20221025T135259Z
LAST-MODIFIED:20221027T073128Z
UID:18530-1666980000-1666998000@www.comrie.org.uk
SUMMARY:Victorian Masquerade Buffet Banquet and Games
DESCRIPTION:The Men’s Shed are holding a Victorian Masquerade Buffet Banquet and Games night at the Parish Church Hall on Friday 28th October. \nTickets cost £20 and include  a buffet\, first drink and music. \nTickets are available from the Post Office\, the Handy Shop\, any shed member or from the shed Tuesday Wednesday Thursday Or Saturday.\n 
URL:https://www.comrie.org.uk/event/victorian-masquerade-buffet-banquet-and-games/
LOCATION:Comrie Parish Church Hall\, Burrell Street\, Comrie\, PH6 2JP
END:VEVENT
BEGIN:VEVENT
DTSTART;TZID=Europe/London:20221028T070000
DTEND;TZID=Europe/London:20221028T220000
DTSTAMP:20260419T192337
CREATED:20221011T080554Z
LAST-MODIFIED:20221011T080554Z
UID:18520-1666940400-1666994400@www.comrie.org.uk
SUMMARY:Comrie Pipe Band Bingo Tea
DESCRIPTION:The Comrie Pipe Band are holding a Bingo Tea and raffle on the 28th October to raise funds for their upcoming trip to the Galliate International Folk Festival next year. \n \n  \n 
URL:https://www.comrie.org.uk/event/comrie-pipe-band-bingo-tea/
LOCATION:White Church Community Centre\, Drummond Street\, Comrie
END:VEVENT
BEGIN:VEVENT
DTSTART;TZID=Europe/London:20221023T110000
DTEND;TZID=Europe/London:20221023T160000
DTSTAMP:20260419T192337
CREATED:20221006T054608Z
LAST-MODIFIED:20221006T054642Z
UID:18482-1666522800-1666540800@www.comrie.org.uk
SUMMARY:Community Orchard - Apple Day
DESCRIPTION:SUNDAY 23 OCTOBER – APPLE DAY\n\n\nEven more items than advertised – Strathearn cheese\, soup\, juggling workshop and Soundsphere singing trio
URL:https://www.comrie.org.uk/event/community-orchard-apple-day/
END:VEVENT
BEGIN:VEVENT
DTSTART;TZID=Europe/London:20221023T100000
DTEND;TZID=Europe/London:20221023T140000
DTSTAMP:20260419T192337
CREATED:20221006T054223Z
LAST-MODIFIED:20221006T054231Z
UID:18479-1666519200-1666533600@www.comrie.org.uk
SUMMARY:Car Boot Sale
DESCRIPTION:Cultybraggan Camp are holding a car boot sale on Apple Day\, Sunday 23rd October. £10 a pitch – to book\, contact susan.holoran@comriedevtrust.org.uk
URL:https://www.comrie.org.uk/event/car-boot-sale-2/
LOCATION:Cultybraggan Camp\, Comrie\, ph6 2hx
END:VEVENT
BEGIN:VEVENT
DTSTART;TZID=Europe/London:20221015T200000
DTEND;TZID=Europe/London:20221015T200000
DTSTAMP:20260419T192337
CREATED:20221011T073035Z
LAST-MODIFIED:20221011T073035Z
UID:18512-1665864000-1665864000@www.comrie.org.uk
SUMMARY:Charity Ceilidh
DESCRIPTION:A Right Royal Charity Birthday Ceilidh \nHelp raise funds for The Canmore Trust and the Killin Mountain Rescue Team
URL:https://www.comrie.org.uk/event/charity-ceilidh/
LOCATION:White Church Community Centre\, Drummond Street\, Comrie
END:VEVENT
BEGIN:VEVENT
DTSTART;TZID=Europe/London:20221011T100000
DTEND;TZID=Europe/London:20221011T120000
DTSTAMP:20260419T192337
CREATED:20221006T053715Z
LAST-MODIFIED:20221006T053715Z
UID:18476-1665482400-1665489600@www.comrie.org.uk
SUMMARY:Social Group for people with a visual impairment
DESCRIPTION:
URL:https://www.comrie.org.uk/event/social-group-for-people-with-a-visual-impairment-2/
LOCATION:Cameron Court
END:VEVENT
BEGIN:VEVENT
DTSTART;TZID=Europe/London:20221002T123000
DTEND;TZID=Europe/London:20221002T160000
DTSTAMP:20260419T192337
CREATED:20220908T160350Z
LAST-MODIFIED:20220908T160350Z
UID:18463-1664713800-1664726400@www.comrie.org.uk
SUMMARY:Hayride
DESCRIPTION:The traditional Hayride returns after an absence of a couple of years. \nIt starts at Legion Park at 12:30 sharp with a Tractor ride to the event field for a family fun afternoon. \nBurgers and ice cream will be available.
URL:https://www.comrie.org.uk/event/hayride/
LOCATION:Legion Park\, Comrie
END:VEVENT
BEGIN:VEVENT
DTSTART;TZID=Europe/London:20220914T120000
DTEND;TZID=Europe/London:20220914T140000
DTSTAMP:20260419T192337
CREATED:20220905T113536Z
LAST-MODIFIED:20220905T113536Z
UID:18420-1663156800-1663164000@www.comrie.org.uk
SUMMARY:100th Sing-a-long
DESCRIPTION:The 100th Sing-a-long is being held at Comrie Parish Church on the 14th September. \nIf you can\, wear a hat\, a facinator\, a pretty scarf\, a bright tie\, a cravat\, a sun hat/ bunnet even a nice brooch…..just something to enhance the photos….but please don’t worry if you can’t find anything……you are still as welcome as the ‘flowers in May’ \nFor further information or transport (Comrie only)\, please contact Mairi (number below)
URL:https://www.comrie.org.uk/event/100th-sing-a-long/
LOCATION:Comrie Parish Church\, Burrell Street\, Comrie\, PH6 2JP
END:VEVENT
BEGIN:VEVENT
DTSTART;TZID=Europe/London:20220913T100000
DTEND;TZID=Europe/London:20220913T140000
DTSTAMP:20260419T192337
CREATED:20220829T095843Z
LAST-MODIFIED:20220829T095843Z
UID:18389-1663063200-1663077600@www.comrie.org.uk
SUMMARY:Social Group for people with a visual impairment
DESCRIPTION:
URL:https://www.comrie.org.uk/event/social-group-for-people-with-a-visual-impairment/
LOCATION:Cameron Court
END:VEVENT
BEGIN:VEVENT
DTSTART;TZID=Europe/London:20220911T140000
DTEND;TZID=Europe/London:20220911T170000
DTSTAMP:20260419T192337
CREATED:20220829T163253Z
LAST-MODIFIED:20220829T163253Z
UID:18396-1662904800-1662915600@www.comrie.org.uk
SUMMARY:Strathearn Harriers Team Relay Event
DESCRIPTION:Strathearn Harriers are holding their annual team relay race in Comrie on Sunday 11th September and this year they are are\, for the first time holding a JUNIOR RACE. If you know any budding under 18 hill runners please let them know. The race starts at 3.00pm from Laggan Park\, Comrie. You need to be there by 2.30pm for registration. It is open to all under 18s\, no entry fee but donations welcome. The race will be approximately 2k and there will be a free BBQ and homebaking afterwards for all runners. \n\nThis is a four person team relay with legs of varying lengths and climbs. This year the race will be back in its full glory with prize giving\, free post race bbq and home baking\, spectators welcome.\n\n\nhttps://www.entrycentral.com/Strathearn_Harriers
URL:https://www.comrie.org.uk/event/strathearn-harriers-team-relay-event/
LOCATION:Laggan Park
ATTACH;FMTTYPE=image/png:https://www.comrie.org.uk/wp-content/uploads/2022/08/Strathearn-Harriers.png
END:VEVENT
BEGIN:VEVENT
DTSTART;TZID=Europe/London:20220829T190000
DTEND;TZID=Europe/London:20220829T210000
DTSTAMP:20260419T192337
CREATED:20220808T172533Z
LAST-MODIFIED:20220808T172533Z
UID:18330-1661799600-1661806800@www.comrie.org.uk
SUMMARY:Laggan Park Committee AGM - Monday 29th August
DESCRIPTION:LAGGAN PARK COMMITTEE….. AGM\nThe Royal Hotel Library\nMonday the 29th August at 7pm .
URL:https://www.comrie.org.uk/event/laggan-park-committee-agm-monday-29th-august/
LOCATION:Royal Hotel – Library
END:VEVENT
BEGIN:VEVENT
DTSTART;TZID=Europe/London:20220809T100000
DTEND;TZID=Europe/London:20220809T120000
DTSTAMP:20260419T192337
CREATED:20220725T094416Z
LAST-MODIFIED:20220725T094648Z
UID:18274-1660039200-1660046400@www.comrie.org.uk
SUMMARY:New Social Group for people with a visual impairment
DESCRIPTION: 
URL:https://www.comrie.org.uk/event/new-social-group-for-people-with-a-visual-impairment/
LOCATION:Cameron Court
END:VEVENT
BEGIN:VEVENT
DTSTART;TZID=Europe/London:20220806T130000
DTEND;TZID=Europe/London:20220806T223000
DTSTAMP:20260419T192337
CREATED:20220721T183542Z
LAST-MODIFIED:20220721T183542Z
UID:18265-1659790800-1659825000@www.comrie.org.uk
SUMMARY:Comrie Fortnight
DESCRIPTION:
URL:https://www.comrie.org.uk/event/comrie-fortnight-14/
END:VEVENT
BEGIN:VEVENT
DTSTART;TZID=Europe/London:20220805T130000
DTEND;TZID=Europe/London:20220805T170000
DTSTAMP:20260419T192337
CREATED:20220721T183046Z
LAST-MODIFIED:20220721T183046Z
UID:18263-1659704400-1659718800@www.comrie.org.uk
SUMMARY:Comrie Fortnight
DESCRIPTION:
URL:https://www.comrie.org.uk/event/comrie-fortnight-13/
END:VEVENT
END:VCALENDAR