BEGIN:VCALENDAR
VERSION:2.0
PRODID:-//Comrie - ECPv6.15.20//NONSGML v1.0//EN
CALSCALE:GREGORIAN
METHOD:PUBLISH
X-WR-CALNAME:Comrie
X-ORIGINAL-URL:https://www.comrie.org.uk
X-WR-CALDESC:Events for Comrie
REFRESH-INTERVAL;VALUE=DURATION:PT1H
X-Robots-Tag:noindex
X-PUBLISHED-TTL:PT1H
BEGIN:VTIMEZONE
TZID:Europe/London
BEGIN:DAYLIGHT
TZOFFSETFROM:+0000
TZOFFSETTO:+0100
TZNAME:BST
DTSTART:20210328T010000
END:DAYLIGHT
BEGIN:STANDARD
TZOFFSETFROM:+0100
TZOFFSETTO:+0000
TZNAME:GMT
DTSTART:20211031T010000
END:STANDARD
BEGIN:DAYLIGHT
TZOFFSETFROM:+0000
TZOFFSETTO:+0100
TZNAME:BST
DTSTART:20220327T010000
END:DAYLIGHT
BEGIN:STANDARD
TZOFFSETFROM:+0100
TZOFFSETTO:+0000
TZNAME:GMT
DTSTART:20221030T010000
END:STANDARD
BEGIN:DAYLIGHT
TZOFFSETFROM:+0000
TZOFFSETTO:+0100
TZNAME:BST
DTSTART:20230326T010000
END:DAYLIGHT
BEGIN:STANDARD
TZOFFSETFROM:+0100
TZOFFSETTO:+0000
TZNAME:GMT
DTSTART:20231029T010000
END:STANDARD
END:VTIMEZONE
BEGIN:VEVENT
DTSTART;TZID=Europe/London:20220829T190000
DTEND;TZID=Europe/London:20220829T210000
DTSTAMP:20260421T012552
CREATED:20220808T172533Z
LAST-MODIFIED:20220808T172533Z
UID:18330-1661799600-1661806800@www.comrie.org.uk
SUMMARY:Laggan Park Committee AGM - Monday 29th August
DESCRIPTION:LAGGAN PARK COMMITTEE….. AGM\nThe Royal Hotel Library\nMonday the 29th August at 7pm .
URL:https://www.comrie.org.uk/event/laggan-park-committee-agm-monday-29th-august/
LOCATION:Royal Hotel – Library
END:VEVENT
BEGIN:VEVENT
DTSTART;TZID=Europe/London:20220809T100000
DTEND;TZID=Europe/London:20220809T120000
DTSTAMP:20260421T012552
CREATED:20220725T094416Z
LAST-MODIFIED:20220725T094648Z
UID:18274-1660039200-1660046400@www.comrie.org.uk
SUMMARY:New Social Group for people with a visual impairment
DESCRIPTION: 
URL:https://www.comrie.org.uk/event/new-social-group-for-people-with-a-visual-impairment/
LOCATION:Cameron Court
END:VEVENT
BEGIN:VEVENT
DTSTART;TZID=Europe/London:20220806T130000
DTEND;TZID=Europe/London:20220806T223000
DTSTAMP:20260421T012552
CREATED:20220721T183542Z
LAST-MODIFIED:20220721T183542Z
UID:18265-1659790800-1659825000@www.comrie.org.uk
SUMMARY:Comrie Fortnight
DESCRIPTION:
URL:https://www.comrie.org.uk/event/comrie-fortnight-14/
END:VEVENT
BEGIN:VEVENT
DTSTART;TZID=Europe/London:20220805T130000
DTEND;TZID=Europe/London:20220805T170000
DTSTAMP:20260421T012552
CREATED:20220721T183046Z
LAST-MODIFIED:20220721T183046Z
UID:18263-1659704400-1659718800@www.comrie.org.uk
SUMMARY:Comrie Fortnight
DESCRIPTION:
URL:https://www.comrie.org.uk/event/comrie-fortnight-13/
END:VEVENT
BEGIN:VEVENT
DTSTART;TZID=Europe/London:20220804T093000
DTEND;TZID=Europe/London:20220804T190000
DTSTAMP:20260421T012552
CREATED:20220721T182454Z
LAST-MODIFIED:20220721T182454Z
UID:18261-1659605400-1659639600@www.comrie.org.uk
SUMMARY:Comrie Fortnight
DESCRIPTION:
URL:https://www.comrie.org.uk/event/comrie-fortnight-12/
LOCATION:Comrie
END:VEVENT
BEGIN:VEVENT
DTSTART;TZID=Europe/London:20220802T100000
DTEND;TZID=Europe/London:20220802T200000
DTSTAMP:20260421T012552
CREATED:20220721T182336Z
LAST-MODIFIED:20220721T182336Z
UID:18259-1659434400-1659470400@www.comrie.org.uk
SUMMARY:Comrie Fortnight
DESCRIPTION:
URL:https://www.comrie.org.uk/event/comrie-fortnight-11/
END:VEVENT
BEGIN:VEVENT
DTSTART;TZID=Europe/London:20220801T090000
DTEND;TZID=Europe/London:20220801T210000
DTSTAMP:20260421T012552
CREATED:20220721T181827Z
LAST-MODIFIED:20220721T182204Z
UID:18257-1659344400-1659387600@www.comrie.org.uk
SUMMARY:Comrie Fortnight
DESCRIPTION:
URL:https://www.comrie.org.uk/event/comrie-fortnight-10/
LOCATION:Comrie
END:VEVENT
BEGIN:VEVENT
DTSTART;TZID=Europe/London:20220731T090000
DTEND;TZID=Europe/London:20220731T200000
DTSTAMP:20260421T012552
CREATED:20220721T181715Z
LAST-MODIFIED:20220721T181715Z
UID:18255-1659258000-1659297600@www.comrie.org.uk
SUMMARY:Comrie Fortnight
DESCRIPTION:
URL:https://www.comrie.org.uk/event/comrie-fortnight-9/
LOCATION:Comrie
END:VEVENT
BEGIN:VEVENT
DTSTART;TZID=Europe/London:20220730T090000
DTEND;TZID=Europe/London:20220730T190000
DTSTAMP:20260421T012552
CREATED:20220721T181045Z
LAST-MODIFIED:20220721T181045Z
UID:18253-1659171600-1659207600@www.comrie.org.uk
SUMMARY:Comrie Fortnight
DESCRIPTION:
URL:https://www.comrie.org.uk/event/comrie-fortnight-8/
LOCATION:Comrie
END:VEVENT
BEGIN:VEVENT
DTSTART;TZID=Europe/London:20220729T080000
DTEND;TZID=Europe/London:20220729T190000
DTSTAMP:20260421T012552
CREATED:20220721T180609Z
LAST-MODIFIED:20220721T180626Z
UID:18250-1659081600-1659121200@www.comrie.org.uk
SUMMARY:Comrie Fortnight
DESCRIPTION:
URL:https://www.comrie.org.uk/event/comrie-fortnight-7/
LOCATION:Comrie
END:VEVENT
BEGIN:VEVENT
DTSTART;TZID=Europe/London:20220728T090000
DTEND;TZID=Europe/London:20220728T170000
DTSTAMP:20260421T012552
CREATED:20220721T180501Z
LAST-MODIFIED:20220721T180942Z
UID:18248-1658998800-1659027600@www.comrie.org.uk
SUMMARY:Comrie Fortnight
DESCRIPTION:
URL:https://www.comrie.org.uk/event/comrie-fortnight-6/
LOCATION:Comrie
END:VEVENT
BEGIN:VEVENT
DTSTART;TZID=Europe/London:20220727T103000
DTEND;TZID=Europe/London:20220727T203000
DTSTAMP:20260421T012552
CREATED:20220721T175719Z
LAST-MODIFIED:20220721T175719Z
UID:18246-1658917800-1658953800@www.comrie.org.uk
SUMMARY:Comrie Fortnight
DESCRIPTION:
URL:https://www.comrie.org.uk/event/comrie-fortnight-5/
LOCATION:Comrie
END:VEVENT
BEGIN:VEVENT
DTSTART;TZID=Europe/London:20220726T100000
DTEND;TZID=Europe/London:20220726T190000
DTSTAMP:20260421T012552
CREATED:20220721T175505Z
LAST-MODIFIED:20220721T175505Z
UID:18244-1658829600-1658862000@www.comrie.org.uk
SUMMARY:Comrie Fortnight
DESCRIPTION:
URL:https://www.comrie.org.uk/event/comrie-fortnight-4/
LOCATION:Comrie
END:VEVENT
BEGIN:VEVENT
DTSTART;TZID=Europe/London:20220725T113000
DTEND;TZID=Europe/London:20220725T190000
DTSTAMP:20260421T012552
CREATED:20220721T175328Z
LAST-MODIFIED:20220721T175328Z
UID:18242-1658748600-1658775600@www.comrie.org.uk
SUMMARY:Comrie Fortnight
DESCRIPTION:
URL:https://www.comrie.org.uk/event/comrie-fortnight-3/
END:VEVENT
BEGIN:VEVENT
DTSTART;TZID=Europe/London:20220724T133000
DTEND;TZID=Europe/London:20220724T220000
DTSTAMP:20260421T012552
CREATED:20220721T175130Z
LAST-MODIFIED:20220721T175130Z
UID:18240-1658669400-1658700000@www.comrie.org.uk
SUMMARY:Comrie Fortnight
DESCRIPTION:
URL:https://www.comrie.org.uk/event/comrie-fortnight-2/
LOCATION:Comrie
END:VEVENT
BEGIN:VEVENT
DTSTART;TZID=Europe/London:20220723T133000
DTEND;TZID=Europe/London:20220723T183000
DTSTAMP:20260421T012552
CREATED:20220721T175015Z
LAST-MODIFIED:20220721T175211Z
UID:18236-1658583000-1658601000@www.comrie.org.uk
SUMMARY:Comrie Fortnight
DESCRIPTION:
URL:https://www.comrie.org.uk/event/comrie-fortnight/
LOCATION:Comrie
END:VEVENT
BEGIN:VEVENT
DTSTART;TZID=Europe/London:20220702T150000
DTEND;TZID=Europe/London:20220702T153000
DTSTAMP:20260421T012552
CREATED:20220702T074939Z
LAST-MODIFIED:20220702T074939Z
UID:18137-1656774000-1656775800@www.comrie.org.uk
SUMMARY:Canada Day Parade
DESCRIPTION:To celebrate  Canada Day yesterday\, and our close association with Carleton Place in Ontario\, the Comrie Pipe Band will be parading from Comrie Hotel to the Royal at 3pm. \n \n  \n 
URL:https://www.comrie.org.uk/event/canada-day-parade/
LOCATION:Melville Square
END:VEVENT
BEGIN:VEVENT
DTSTART;TZID=Europe/London:20220618T100000
DTEND;TZID=Europe/London:20220618T140000
DTSTAMP:20260421T012552
CREATED:20220612T162759Z
LAST-MODIFIED:20220612T162759Z
UID:18079-1655546400-1655560800@www.comrie.org.uk
SUMMARY:Comrie Primary School & Nursery Summer Fair
DESCRIPTION:Comrie Primary School and Nursery Summer Fair in the school grounds on Saturday 18th June from 10-12.\n\n\nAll the money raised supports the school and nursery\,
URL:https://www.comrie.org.uk/event/comrie-primary-school-nursery-summer-fair/
LOCATION:Comrie Primary School
END:VEVENT
BEGIN:VEVENT
DTSTART;TZID=Europe/London:20220618T090000
DTEND;TZID=Europe/London:20220618T110000
DTSTAMP:20260421T012552
CREATED:20220612T170158Z
LAST-MODIFIED:20220612T170158Z
UID:18088-1655542800-1655550000@www.comrie.org.uk
SUMMARY:CHAS Plant Sale - Rescheduled 18th June
DESCRIPTION:Plant sale in aid of CHAS in St Kessogs Square.
URL:https://www.comrie.org.uk/event/chas-plant-sale-rescheduled-18th-june/
LOCATION:St.Kessogs Square\, Drummond Street\, Comrie\, Perthshire\, United Kingdom
END:VEVENT
BEGIN:VEVENT
DTSTART;TZID=Europe/London:20220612T090000
DTEND;TZID=Europe/London:20220612T120000
DTSTAMP:20260421T012552
CREATED:20220329T124050Z
LAST-MODIFIED:20220329T124050Z
UID:17827-1655024400-1655035200@www.comrie.org.uk
SUMMARY:Strathearn Marathon
DESCRIPTION:We’re sorry to hear that the Stirling Marathon isn’t going ahead… but don’t put that training to waste! Strathearn Marathon\, organised by runners for runners\, is open for entries\, £25 (£23 for SA members)\, taking you through gorgeous Perthshire scenery and back to a memorable finish at the historic Cultybraggan Camp. Come join us! Scotland’s top squirrel-themed marathon. You’d be nuts not to! https://www.entrycentral.com/Strathearn-Marathon \nBrought to you by Strathearn Harriers\, this is a marathon by runners for runners\, from the historic Cultybraggan Camp\, through gorgeous Perthshire scenery\, looping back to the Camp. And if you needed any more reason to be involved\, this is the TENTH running of our marathon. Set a reminder for noon on Sunday\, and get signed up. It’s £23 for Scottish Athletics members\, and £25 for non-SA members.
URL:https://www.comrie.org.uk/event/strathearn-marathon-2/
END:VEVENT
BEGIN:VEVENT
DTSTART;TZID=Europe/London:20220604T150000
DTEND;TZID=Europe/London:20220604T160000
DTSTAMP:20260421T012552
CREATED:20220518T145821Z
LAST-MODIFIED:20220518T145821Z
UID:17997-1654354800-1654358400@www.comrie.org.uk
SUMMARY:Queens Jubilee Celebrations Parade
DESCRIPTION:On Saturday 4th June\, the Comrie Pipe Band will be having a parade to celebrate the Queens Jubilee. \nMarching from Comrie Hotel to the Royal at 3pm. \n \n 
URL:https://www.comrie.org.uk/event/queens-jubilee-celebrations-parade/
END:VEVENT
BEGIN:VEVENT
DTSTART;TZID=Europe/London:20220521T100000
DTEND;TZID=Europe/London:20220521T140000
DTSTAMP:20260421T012552
CREATED:20220508T083952Z
LAST-MODIFIED:20220518T144235Z
UID:17958-1653127200-1653141600@www.comrie.org.uk
SUMMARY:Comrie in Colour - Plant Sale
DESCRIPTION:Comrie in Colour are having a plant sale at their Polytunnel at Cultybraggan Camp on the 21st May. \nCash sales only. \n \n 
URL:https://www.comrie.org.uk/event/comrie-in-colour-plant-sale/
LOCATION:Cultybraggan Camp\, Comrie\, ph6 2hx
END:VEVENT
BEGIN:VEVENT
DTSTART;TZID=Europe/London:20220515T193000
DTEND;TZID=Europe/London:20220515T220000
DTSTAMP:20260421T012552
CREATED:20220512T133232Z
LAST-MODIFIED:20220512T133232Z
UID:17985-1652643000-1652652000@www.comrie.org.uk
SUMMARY:White Church Quiz Night
DESCRIPTION:Our monthly quiz is this Sunday\, 15th May. \n£12 for team of 4\, raffle and refreshments\, BYOB. \nStarts 7.30.
URL:https://www.comrie.org.uk/event/white-church-quiz-night/
LOCATION:White Church Community Centre\, Drummond Street\, Comrie
END:VEVENT
BEGIN:VEVENT
DTSTART;TZID=Europe/London:20220514T193000
DTEND;TZID=Europe/London:20220514T210000
DTSTAMP:20260421T012552
CREATED:20220508T082149Z
LAST-MODIFIED:20220508T082149Z
UID:17956-1652556600-1652562000@www.comrie.org.uk
SUMMARY:Illustrated Talk and Book Signing
DESCRIPTION:A fascinating talk is lined up for us at the Rural Hall in Comrie on Saturday 14th May. \nAinslie Hepburn will revealing what it was like to be a Jewish German refugee working at Cultybraggan Camp in 1945. Herbert Sulzbach arrived in January\, just weeks after Feldwebel Wolfgang Rosterg had been murdered by fellow PoWs. Sulzbach helped to interrogate the Nazi prisoners and find those responsible. His letters to his wife give an intimate insight into his work and encounters at the camp.
URL:https://www.comrie.org.uk/event/illustrated-talk-and-book-signing/
LOCATION:Comrie Rural Hall
END:VEVENT
BEGIN:VEVENT
DTSTART;TZID=Europe/London:20220511T140000
DTEND;TZID=Europe/London:20220511T153000
DTSTAMP:20260421T012552
CREATED:20220508T090754Z
LAST-MODIFIED:20220508T090754Z
UID:17964-1652277600-1652283000@www.comrie.org.uk
SUMMARY:Comrie Sing-a-Long
DESCRIPTION:Comrie Sing-a-Long is on the 2nd Thursday of every month.
URL:https://www.comrie.org.uk/event/comrie-sing-a-long-10/
LOCATION:Comrie Parish Church\, Burrell Street\, Comrie\, PH6 2JP
END:VEVENT
BEGIN:VEVENT
DTSTART;TZID=Europe/London:20220409T130000
DTEND;TZID=Europe/London:20220409T160000
DTSTAMP:20260421T012552
CREATED:20220329T083640Z
LAST-MODIFIED:20220329T083640Z
UID:17802-1649509200-1649520000@www.comrie.org.uk
SUMMARY:Easter Fun Afternoon
DESCRIPTION:We are super excited to bring you some Easter Fun..\n\n\nCome along to Legion Park 9th April 1pm til 4pm.\n\n\nKeeps your eyes peels for more details on fun we have in store!
URL:https://www.comrie.org.uk/event/easter-fun-afternoon/
LOCATION:Legion Park\, Comrie
END:VEVENT
BEGIN:VEVENT
DTSTART;TZID=Europe/London:20220409T100000
DTEND;TZID=Europe/London:20220409T120000
DTSTAMP:20260421T012552
CREATED:20220408T074839Z
LAST-MODIFIED:20220408T074839Z
UID:17855-1649498400-1649505600@www.comrie.org.uk
SUMMARY:Comrie & Dundurn Parish Guild Daffodil Coffee Morning
DESCRIPTION:The Guild daffodil coffee morning is this Saturday.\n\n\n9th April\n\n\n10am – 12noon\n\n\nComrie Church Hall.
URL:https://www.comrie.org.uk/event/comrie-dundurn-parish-guild-daffodil-coffee-morning/
LOCATION:Comrie Parish Church Hall\, Burrell Street\, Comrie\, PH6 2JP
END:VEVENT
BEGIN:VEVENT
DTSTART;TZID=Europe/London:20220211T193000
DTEND;TZID=Europe/London:20220211T230000
DTSTAMP:20260421T012552
CREATED:20220205T103033Z
LAST-MODIFIED:20220205T103033Z
UID:17633-1644607800-1644620400@www.comrie.org.uk
SUMMARY:Games Night at the White Church
DESCRIPTION:
URL:https://www.comrie.org.uk/event/games-night-at-the-white-church/
LOCATION:White Church Community Centre\, Drummond Street\, Comrie
END:VEVENT
BEGIN:VEVENT
DTSTART;TZID=Europe/London:20220127T100000
DTEND;TZID=Europe/London:20220127T110000
DTSTAMP:20260421T012552
CREATED:20220121T172131Z
LAST-MODIFIED:20220121T172131Z
UID:17582-1643277600-1643281200@www.comrie.org.uk
SUMMARY:Comrie Parents and Toddlers AGM
DESCRIPTION:Toddlers AGM taking place on Thursday the 27th January\, starting at 10am.\n\n\nPlease come along as we need to chat about a few bits and bobs (including our main fundraiser- the duck race as part of Comrie Fortnight).\n\n\nSee you then!
URL:https://www.comrie.org.uk/event/comrie-parents-and-toddlers-agm/
LOCATION:White Church Community Centre\, Drummond Street\, Comrie
ATTACH;FMTTYPE=image/jpeg:https://www.comrie.org.uk/wp-content/uploads/2022/01/baby-toddler-group.jpg
END:VEVENT
BEGIN:VEVENT
DTSTART;TZID=Europe/London:20220112T183000
DTEND;TZID=Europe/London:20220112T203000
DTSTAMP:20260421T012552
CREATED:20220110T180437Z
LAST-MODIFIED:20220110T180437Z
UID:17476-1642012200-1642019400@www.comrie.org.uk
SUMMARY:Comrie Youth Club - White Church
DESCRIPTION:Hope you all had a lovely Christmas and a Happy New Year. \nThe Youth Club back on Wednesday 12th January 6.30-8.30. \nCould you please remember and bring your memberships too. \nLook forward to seeing as many as possible.
URL:https://www.comrie.org.uk/event/comrie-youth-club-white-church/
LOCATION:White Church Community Centre\, Drummond Street\, Comrie
END:VEVENT
END:VCALENDAR