BEGIN:VCALENDAR
VERSION:2.0
PRODID:-//Comrie - ECPv6.15.20//NONSGML v1.0//EN
CALSCALE:GREGORIAN
METHOD:PUBLISH
X-WR-CALNAME:Comrie
X-ORIGINAL-URL:https://www.comrie.org.uk
X-WR-CALDESC:Events for Comrie
REFRESH-INTERVAL;VALUE=DURATION:PT1H
X-Robots-Tag:noindex
X-PUBLISHED-TTL:PT1H
BEGIN:VTIMEZONE
TZID:Europe/London
BEGIN:DAYLIGHT
TZOFFSETFROM:+0000
TZOFFSETTO:+0100
TZNAME:BST
DTSTART:20180325T010000
END:DAYLIGHT
BEGIN:STANDARD
TZOFFSETFROM:+0100
TZOFFSETTO:+0000
TZNAME:GMT
DTSTART:20181028T010000
END:STANDARD
BEGIN:DAYLIGHT
TZOFFSETFROM:+0000
TZOFFSETTO:+0100
TZNAME:BST
DTSTART:20190331T010000
END:DAYLIGHT
BEGIN:STANDARD
TZOFFSETFROM:+0100
TZOFFSETTO:+0000
TZNAME:GMT
DTSTART:20191027T010000
END:STANDARD
BEGIN:DAYLIGHT
TZOFFSETFROM:+0000
TZOFFSETTO:+0100
TZNAME:BST
DTSTART:20200329T010000
END:DAYLIGHT
BEGIN:STANDARD
TZOFFSETFROM:+0100
TZOFFSETTO:+0000
TZNAME:GMT
DTSTART:20201025T010000
END:STANDARD
BEGIN:DAYLIGHT
TZOFFSETFROM:+0000
TZOFFSETTO:+0100
TZNAME:BST
DTSTART:20210328T010000
END:DAYLIGHT
BEGIN:STANDARD
TZOFFSETFROM:+0100
TZOFFSETTO:+0000
TZNAME:GMT
DTSTART:20211031T010000
END:STANDARD
END:VTIMEZONE
BEGIN:VEVENT
DTSTART;TZID=Europe/London:20200913T193000
DTEND;TZID=Europe/London:20200913T220000
DTSTAMP:20260420T011715
CREATED:20191212T075725Z
LAST-MODIFIED:20191212T075725Z
UID:13155-1600025400-1600034400@www.comrie.org.uk
SUMMARY:Monthly Quiz
DESCRIPTION:[vc_row][vc_column][vc_column_text css=”.vc_custom_1576137439265{margin-bottom: 0px !important;}”]The ever popular Monthly Quiz \nTeams of 4 (£12 includes refreshments).\nBYOB.\n7.30 start with quiz master John Greer.\nEveryone welcome. \n.[/vc_column_text][/vc_column][/vc_row]
URL:https://www.comrie.org.uk/event/monthly-quiz-9/
LOCATION:White Church Community Centre\, Drummond Street\, Comrie
END:VEVENT
BEGIN:VEVENT
DTSTART;TZID=Europe/London:20200910T190000
DTEND;TZID=Europe/London:20200910T210000
DTSTAMP:20260420T011715
CREATED:20200904T081048Z
LAST-MODIFIED:20200904T081048Z
UID:15045-1599764400-1599771600@www.comrie.org.uk
SUMMARY:Community Council Combined AGM and Monthly Meeting
DESCRIPTION:[vc_row][vc_column][vc_column_text css=”.vc_custom_1599206997857{margin-bottom: 0px !important;}”]Comrie Community Council will hold their AGM followed by it’s regular monthly meeting on Thursday 10th August at 7pm. \nThis will be a virtual meeting and will take place using ZOOM. If any member of the public would like to join the meeting they should intimate their wish to do so to the Secretary by email ( comriecommunitycouncil@outlook.com ). Requests to join should arrive with the Secretary no later than 12.00 noon on Wednesday 9thSeptember. A link to the meeting will then be sent back later in the day. \nPlease find a link to the Agenda: agenda-template[/vc_column_text][/vc_column][/vc_row]
URL:https://www.comrie.org.uk/event/community-council-combined-agm-and-monthly-meeting/
END:VEVENT
BEGIN:VEVENT
DTSTART;TZID=Europe/London:20200816T193000
DTEND;TZID=Europe/London:20200816T220000
DTSTAMP:20260420T011715
CREATED:20191212T075622Z
LAST-MODIFIED:20191212T075622Z
UID:13153-1597606200-1597615200@www.comrie.org.uk
SUMMARY:Monthly Quiz
DESCRIPTION:[vc_row][vc_column][vc_column_text css=”.vc_custom_1576137376934{margin-bottom: 0px !important;}”]The ever popular Monthly Quiz \nTeams of 4 (£12 includes refreshments).\nBYOB.\n7.30 start with quiz master John Greer.\nEveryone welcome.[/vc_column_text][/vc_column][/vc_row]
URL:https://www.comrie.org.uk/event/monthly-quiz-8/
LOCATION:White Church Community Centre\, Drummond Street\, Comrie
END:VEVENT
BEGIN:VEVENT
DTSTART;TZID=Europe/London:20200712T193000
DTEND;TZID=Europe/London:20200712T220000
DTSTAMP:20260420T011715
CREATED:20191212T075509Z
LAST-MODIFIED:20191212T075509Z
UID:13151-1594582200-1594591200@www.comrie.org.uk
SUMMARY:Monthly Quiz
DESCRIPTION:[vc_row][vc_column][vc_column_text css=”.vc_custom_1576137302880{margin-bottom: 0px !important;}”]The ever popular Monthly Quiz \nTeams of 4 (£12 includes refreshments).\nBYOB.\n7.30 start with quiz master John Greer.\nEveryone welcome.[/vc_column_text][/vc_column][/vc_row]
URL:https://www.comrie.org.uk/event/monthly-quiz-7/
END:VEVENT
BEGIN:VEVENT
DTSTART;TZID=Europe/London:20200614T193000
DTEND;TZID=Europe/London:20200614T220000
DTSTAMP:20260420T011715
CREATED:20191212T075404Z
LAST-MODIFIED:20191212T075404Z
UID:13149-1592163000-1592172000@www.comrie.org.uk
SUMMARY:Monthly Quiz
DESCRIPTION:[vc_row][vc_column][vc_column_text css=”.vc_custom_1576137230279{margin-bottom: 0px !important;}”]The ever popular Monthly Quiz \nTeams of 4 (£12 includes refreshments).\nBYOB.\n7.30 start with quiz master John Greer.\nEveryone welcome.[/vc_column_text][/vc_column][/vc_row]
URL:https://www.comrie.org.uk/event/monthly-quiz-6/
LOCATION:White Church Community Centre\, Drummond Street\, Comrie
END:VEVENT
BEGIN:VEVENT
DTSTART;TZID=Europe/London:20200419T193000
DTEND;TZID=Europe/London:20200419T220000
DTSTAMP:20260420T011715
CREATED:20191212T075132Z
LAST-MODIFIED:20200331T161435Z
UID:13145-1587324600-1587333600@www.comrie.org.uk
SUMMARY:Monthly Quiz - CANCELLED
DESCRIPTION:[vc_row][vc_column][vc_column_text css=”.vc_custom_1585670940923{margin-bottom: 0px !important;}”]Sadly due to the current restrictions of COVID-19 the Quiz has been cancelled[/vc_column_text][/vc_column][/vc_row]
URL:https://www.comrie.org.uk/event/monthly-quiz-4/
LOCATION:White Church Community Centre\, Drummond Street\, Comrie
END:VEVENT
BEGIN:VEVENT
DTSTART;TZID=Europe/London:20200315T193000
DTEND;TZID=Europe/London:20200315T220000
DTSTAMP:20260420T011715
CREATED:20191212T075008Z
LAST-MODIFIED:20191212T075008Z
UID:13143-1584300600-1584309600@www.comrie.org.uk
SUMMARY:Monthly Quiz
DESCRIPTION:[vc_row][vc_column][vc_column_text css=”.vc_custom_1576137001621{margin-bottom: 0px !important;}”]The ever popular Monthly Quiz \nTeams of 4 (£12 includes refreshments).\nBYOB.\n7.30 start with quiz master John Greer.\nEveryone welcome.[/vc_column_text][/vc_column][/vc_row]
URL:https://www.comrie.org.uk/event/monthly-quiz-3/
LOCATION:White Church Community Centre\, Drummond Street\, Comrie
END:VEVENT
BEGIN:VEVENT
DTSTART;TZID=Europe/London:20200314T073000
DTEND;TZID=Europe/London:20200314T223000
DTSTAMP:20260420T011715
CREATED:20200227T185456Z
LAST-MODIFIED:20200227T185456Z
UID:13502-1584171000-1584225000@www.comrie.org.uk
SUMMARY:Live Music Gig - American Bluegrass
DESCRIPTION:[vc_row][vc_column][vc_column_text css=”.vc_custom_1582829673806{margin-bottom: 0px !important;}”]Catch some authentic American bluegrass in Comrie. – https://mailchi.mp/58b9752ac462/catch-some-authentic-american-bluegrass-in-comrie[/vc_column_text][/vc_column][/vc_row]
URL:https://www.comrie.org.uk/event/live-music-gig-american-bluegrass/
LOCATION:Comrie Rural Hall
END:VEVENT
BEGIN:VEVENT
DTSTART;TZID=Europe/London:20200306T200000
DTEND;TZID=Europe/London:20200306T220000
DTSTAMP:20260420T011715
CREATED:20200213T204157Z
LAST-MODIFIED:20200213T204157Z
UID:13410-1583524800-1583532000@www.comrie.org.uk
SUMMARY:Silent Auction at Cultybraggan Camp
DESCRIPTION:[vc_row][vc_column][vc_column_text css=”.vc_custom_1581626506391{margin-bottom: 0px !important;}”]Silent Auction\nFRIDAY 6 MARCH 2020\nCULTYBRAGGAN CAMP\, COMRIE\, PH6 2AB\nHut 41\nAuction starts: 18.00 hrs\nAuction finishes: 22.00 hrs\nFree entry\nComrie Development Trust are holding their first silent auction with some fantastic and unusual auction lots. Come along and bid for signed sports memorabilia\, events gift vouchers\, WW1 and WW2 original memorabilia\, artwork and much more.…something to interest everyone![/vc_column_text][/vc_column][/vc_row]
URL:https://www.comrie.org.uk/event/silent-auction-at-cultybraggan-camp/
LOCATION:Cultybraggan Camp\, Comrie\, ph6 2hx
END:VEVENT
BEGIN:VEVENT
DTSTART;TZID=Europe/London:20200306T190000
DTEND;TZID=Europe/London:20200306T220000
DTSTAMP:20260420T011715
CREATED:20200117T111524Z
LAST-MODIFIED:20200117T111524Z
UID:13274-1583521200-1583532000@www.comrie.org.uk
SUMMARY:Cultybraggan Silent Auction
DESCRIPTION:
URL:https://www.comrie.org.uk/event/cultybraggan-silent-auction/
LOCATION:Cultybraggan Camp\, Comrie\, ph6 2hx
END:VEVENT
BEGIN:VEVENT
DTSTART;VALUE=DATE:20200229
DTEND;VALUE=DATE:20200301
DTSTAMP:20260420T011715
CREATED:20200213T203552Z
LAST-MODIFIED:20200213T203552Z
UID:13404-1582934400-1583020799@www.comrie.org.uk
SUMMARY:Comrie Cinema & Events Club - Movie Day
DESCRIPTION:[vc_row][vc_column][vc_column_text css=”.vc_custom_1581626137044{margin-bottom: 0px !important;}”]Following our wonderfully successful film festival\, we’re moving on to our next screenings on Saturday 29th Feb.\nWe have the wonderful 2019 Lion King for your (and your kids’) enjoyment. You don’t have to bring a child but you can if you want to. 3.30pm at the Rural Hall. £3 on the door. \nIn the evening at 7.30 we will be showing Read Between the Lies with Helen Mirren and Ian McKellen. What’s not to like? We’ll also be back to cabaret style so feel free to bring the wine! Tickets £6 are in Hansen’s Kitchen.[/vc_column_text][/vc_column][/vc_row]
URL:https://www.comrie.org.uk/event/comrie-cinema-events-club-movie-day/
LOCATION:Comrie Rural Hall
END:VEVENT
BEGIN:VEVENT
DTSTART;TZID=Europe/London:20200225T190000
DTEND;TZID=Europe/London:20200225T220000
DTSTAMP:20260420T011715
CREATED:20200117T113724Z
LAST-MODIFIED:20200117T113724Z
UID:13284-1582657200-1582668000@www.comrie.org.uk
SUMMARY:SWI Whist Drive
DESCRIPTION:[vc_row][vc_column][vc_column_text css=”.vc_custom_1579261037753{margin-bottom: 0px !important;}”]SWI Whist drive in Rural hall\nOn Tuesday 25th February at 7pm\nCome along and join a table of four.\nIf you would like to host a table please contact Joyce 670635. \n£4 includes light supper. \nRaffle.\nHostesses play for free.[/vc_column_text][/vc_column][/vc_row]
URL:https://www.comrie.org.uk/event/swi-whist-drive/
LOCATION:Comrie Rural Hall
END:VEVENT
BEGIN:VEVENT
DTSTART;VALUE=DATE:20200222
DTEND;VALUE=DATE:20200223
DTSTAMP:20260420T011715
CREATED:20200127T160930Z
LAST-MODIFIED:20200127T160930Z
UID:13328-1582329600-1582415999@www.comrie.org.uk
SUMMARY:Fund Raiser for ME Research with The Erratics
DESCRIPTION:
URL:https://www.comrie.org.uk/event/fund-raiser-for-me-research-with-the-erratics/
LOCATION:Ancaster Arms\, Comrie\, PH6 2DW
END:VEVENT
BEGIN:VEVENT
DTSTART;TZID=Europe/London:20200221T193000
DTEND;TZID=Europe/London:20200221T230000
DTSTAMP:20260420T011715
CREATED:20200207T225204Z
LAST-MODIFIED:20200207T225204Z
UID:13332-1582313400-1582326000@www.comrie.org.uk
SUMMARY:Alpine Cheese Fest
DESCRIPTION:[vc_row][vc_column][vc_column_text css=”.vc_custom_1581115911822{margin-bottom: 0px !important;}”]Whether you’re just back from a trip to the slopes or you’ve missed out on your annual trip to the alps this evening is sure to make happy memories of melty cheese\, meats\, pickles and dunking bread come flooding back. £18.50 per person. Reserve your place with the Hansen’s Kitchen Team.[/vc_column_text][/vc_column][/vc_row]
URL:https://www.comrie.org.uk/event/alpine-cheese-fest/
LOCATION:Ancaster Arms\, Comrie\, PH6 2DW
END:VEVENT
BEGIN:VEVENT
DTSTART;TZID=Europe/London:20200216T193000
DTEND;TZID=Europe/London:20200216T220000
DTSTAMP:20260420T011715
CREATED:20191212T074805Z
LAST-MODIFIED:20191212T074835Z
UID:13141-1581881400-1581890400@www.comrie.org.uk
SUMMARY:Monthly Quiz
DESCRIPTION:[vc_row][vc_column][vc_column_text css=”.vc_custom_1576136860019{margin-bottom: 0px !important;}”]The ever popular Monthly Quiz \nTeams of 4 (£12 includes refreshments).\nBYOB.\n7.30 start with quiz master John Greer.\nEveryone welcome.[/vc_column_text][/vc_column][/vc_row]
URL:https://www.comrie.org.uk/event/monthly-quiz-2/
LOCATION:White Church Community Centre\, Drummond Street\, Comrie
END:VEVENT
BEGIN:VEVENT
DTSTART;TZID=Europe/London:20200215T200000
DTEND;TZID=Europe/London:20200215T233000
DTSTAMP:20260420T011715
CREATED:20200117T100646Z
LAST-MODIFIED:20200117T100646Z
UID:13248-1581796800-1581809400@www.comrie.org.uk
SUMMARY:Valentines Ceilidh
DESCRIPTION:[vc_row][vc_column][vc_column_text css=”.vc_custom_1579255599608{margin-bottom: 0px !important;}”]Looking for something a bit different this Valentines……..\nThen come and dance the night away with your partner to the sound of Fiobha Ceilidh and Tay Pipes. \nTickets on sale here at the White Church\, or from Fiobha@gmail.com. £12.50 for a night of great Scottish music and dancing. Licensed Bar.[/vc_column_text][/vc_column][/vc_row]
URL:https://www.comrie.org.uk/event/valentines-ceilidh/
LOCATION:White Church Community Centre\, Drummond Street\, Comrie
END:VEVENT
BEGIN:VEVENT
DTSTART;TZID=Europe/London:20200206T190000
DTEND;TZID=Europe/London:20200206T210000
DTSTAMP:20260420T011715
CREATED:20200117T115344Z
LAST-MODIFIED:20200117T115344Z
UID:13303-1581015600-1581022800@www.comrie.org.uk
SUMMARY:Comrie Pipeband AGM
DESCRIPTION:[vc_row][vc_column][vc_column_text css=”.vc_custom_1579262017978{margin-bottom: 0px !important;}”]ALL WELCOME[/vc_column_text][/vc_column][/vc_row]
URL:https://www.comrie.org.uk/event/comrie-pipeband-agm/
LOCATION:Comrie Parish Church Hall\, Burrell Street\, Comrie\, PH6 2JP
END:VEVENT
BEGIN:VEVENT
DTSTART;TZID=Europe/London:20200202T110000
DTEND;TZID=Europe/London:20200202T150000
DTSTAMP:20260420T011715
CREATED:20200127T160651Z
LAST-MODIFIED:20200127T160651Z
UID:13326-1580641200-1580655600@www.comrie.org.uk
SUMMARY:Community Orchard Work Day
DESCRIPTION:[vc_row][vc_column][vc_column_text css=”.vc_custom_1580141203660{margin-bottom: 0px !important;}”]Next SUNDAY 2nd February is our monthly Work Day – 11 am till 3 pm. at Cultybraggan Camp.\nCome and join us. We shall be continuing the annual pruning of the apple and pear trees\,\nas well as mulching the soft fruit and adding manure around the trees.\nCome clad in warm clothing and have sturdy footwear. Bring a snack lunch.\nVisitors always welcome.[/vc_column_text][/vc_column][/vc_row]
URL:https://www.comrie.org.uk/event/community-orchard-work-day-2/
LOCATION:Cultybraggan Camp\, Comrie\, ph6 2hx
END:VEVENT
BEGIN:VEVENT
DTSTART;VALUE=DATE:20200201
DTEND;VALUE=DATE:20200203
DTSTAMP:20260420T011715
CREATED:20200113T134513Z
LAST-MODIFIED:20200113T134513Z
UID:13236-1580515200-1580687999@www.comrie.org.uk
SUMMARY:Comrie Film Festival
DESCRIPTION:[vc_row][vc_column][vc_column_text css=”.vc_custom_1578923104537{margin-bottom: 0px !important;}”]Comrie Cinema Club is delighted to present our 4th Film Festival which will take place over the weekend of 1st and 2nd February. Our theme this year is North\, South\, East\, West and Beyond\, and will feature 10 films over two days with surprise guests\, Q&As\, plus a Saturday night feast (cost is extra) and to cap it all\, a classic silent movie with live piano accompaniment. Click on the facebook link for information. \nThe weekend ticket where you can come and go as you like costs £15 in advance from here or Hansen’s Kitchen in Comrie. Individual films cost £5\, payable on the door. The children’s film on Sunday is free. \nThe feast costs £12 in advance from Hansen’s Kitchen in Comrie\, or £15 on the night. \nThe Film Festival programme is in print and you can collect a copy from Hansen’s or the White Church\, Comrie Croft or other venues round the village. We’re very proud of it![/vc_column_text][/vc_column][/vc_row]
URL:https://www.comrie.org.uk/event/comrie-film-festival/
LOCATION:Comrie Parish Church Hall\, Burrell Street\, Comrie\, PH6 2JP
END:VEVENT
BEGIN:VEVENT
DTSTART;TZID=Europe/London:20200131T190000
DTEND;TZID=Europe/London:20200131T220000
DTSTAMP:20260420T011715
CREATED:20200120T194645Z
LAST-MODIFIED:20200120T194645Z
UID:13316-1580497200-1580508000@www.comrie.org.uk
SUMMARY:Comrie Bowling Club Prize Bingo
DESCRIPTION:[vc_row][vc_column][vc_column_text css=”.vc_custom_1579549596048{margin-bottom: 0px !important;}”]Doors Open 7pm \nEyes Down 7.30pm \nCome along for a fun evening \nRefreshments & Raffle[/vc_column_text][/vc_column][/vc_row]
URL:https://www.comrie.org.uk/event/comrie-bowling-club-prize-bingo/
LOCATION:White Church Community Centre\, Drummond Street\, Comrie
END:VEVENT
BEGIN:VEVENT
DTSTART;TZID=Europe/London:20200119T193000
DTEND;TZID=Europe/London:20200119T220000
DTSTAMP:20260420T011715
CREATED:20191212T074625Z
LAST-MODIFIED:20191212T074625Z
UID:13139-1579462200-1579471200@www.comrie.org.uk
SUMMARY:Monthly Quiz
DESCRIPTION:[vc_row][vc_column][vc_column_text css=”.vc_custom_1576136775525{margin-bottom: 0px !important;}”]The ever popular Monthly Quiz \nTeams of 4 (£12 includes refreshments).\nBYOB.\n7.30 start with quiz master John Greer.\nEveryone welcome.[/vc_column_text][/vc_column][/vc_row]
URL:https://www.comrie.org.uk/event/monthly-quiz/
LOCATION:White Church Community Centre\, Drummond Street\, Comrie
END:VEVENT
BEGIN:VEVENT
DTSTART;TZID=Europe/London:20200111T143000
DTEND;TZID=Europe/London:20200111T220000
DTSTAMP:20260420T011715
CREATED:20200109T102318Z
LAST-MODIFIED:20200109T102318Z
UID:13208-1578753000-1578780000@www.comrie.org.uk
SUMMARY:Laurel & Hardy Day
DESCRIPTION:[vc_row][vc_column][vc_column_text css=”.vc_custom_1578565387239{margin-bottom: 0px !important;}”]Well that’s another fine mess you’ve got us into! \nWe’re having a Laurel and Hardy Day and you’re all invited to come along and enjoy the old and the new versions of Stan and Ollie. Dressing the part is optional but we’d be thrilled if you come along in your bowler hats\, your moustaches and your suits and wing collars. \nThe afternoon showing starts at 2.30pm and costs £3 on the door. We’ll be showing two black and white classics – the Music Box followed by Swiss Miss. We’ll have an interval when you can buy ice-cream from our usherette. Otherwise it’s BYO sweeties. \nThe evening showing is at 7.30 with the award winning Stan and Ollie starring Steve Coogan and John C Reilly. Tickets are £6 from Hansen’s and there may be some on the door. BYOB if you like.[/vc_column_text][/vc_column][/vc_row]
URL:https://www.comrie.org.uk/event/laurel-hardy-day/
LOCATION:Comrie Rural Hall
END:VEVENT
BEGIN:VEVENT
DTSTART;VALUE=DATE:20200110
DTEND;VALUE=DATE:20200111
DTSTAMP:20260420T011715
CREATED:20200109T103756Z
LAST-MODIFIED:20200109T103756Z
UID:13224-1578614400-1578700799@www.comrie.org.uk
SUMMARY:Friday Fizz at the Royal Hotel
DESCRIPTION:[vc_row][vc_column][vc_column_text css=”.vc_custom_1578566261756{margin-bottom: 0px !important;}”]Beat the January blues with our Friday Fizz Offer!! \nDon’t worry the weekend is nearly here!! Why not start it with a bang…a glass of Fizz & a selection of Chef Gerard’s delicious canapés?!! £9.95 per person.[/vc_column_text][/vc_column][/vc_row]
URL:https://www.comrie.org.uk/event/friday-fizz-at-the-royal-hotel/
END:VEVENT
BEGIN:VEVENT
DTSTART;TZID=Europe/London:20200105T150000
DTEND;TZID=Europe/London:20200105T163000
DTSTAMP:20260420T011715
CREATED:20191202T092157Z
LAST-MODIFIED:20191202T092157Z
UID:13059-1578236400-1578241800@www.comrie.org.uk
SUMMARY:Comrie Community Orchard Work Day and Wassailing
DESCRIPTION:[vc_row][vc_column][vc_column_text css=”.vc_custom_1575278495320{margin-bottom: 0px !important;}”]Work goes on at the Orchard …… taking care of the trees.\nDate for your diary – Sunday 5 January. 3 pm.\nCome and join the Muthill Community Choir and members of Earnsong in WASSAILING – blessing the trees for the coming year.[/vc_column_text][/vc_column][/vc_row]
URL:https://www.comrie.org.uk/event/comrie-community-orchard-work-day-and-wassailing/
LOCATION:Cultybraggan Camp\, Comrie\, ph6 2hx
END:VEVENT
BEGIN:VEVENT
DTSTART;TZID=Europe/London:20191215T143000
DTEND;TZID=Europe/London:20191215T180000
DTSTAMP:20260420T011715
CREATED:20191205T190239Z
LAST-MODIFIED:20191205T190239Z
UID:13079-1576420200-1576432800@www.comrie.org.uk
SUMMARY:Afternoon Tea with Bev at the Ancaster Arms
DESCRIPTION:[vc_row][vc_column][vc_column_text css=”.vc_custom_1575572550655{margin-bottom: 0px !important;}”]Join Bev from The Scottish Tea Factory as she walks you through some of her favourite teas (including a brand new one recently created on her trip to Myanmar) which will be paired with savoury delights from Hansen’s Kitchen. \nSpend the rest of the session chatting with friends over scones and sweet treats. £15 per person. You can even add on a glass of fizz or a cheeky G&T if you fancy![/vc_column_text][/vc_column][/vc_row]
URL:https://www.comrie.org.uk/event/afternoon-tea-with-bev-at-the-ancaster-arms/
END:VEVENT
BEGIN:VEVENT
DTSTART;TZID=Europe/London:20191214T190000
DTEND;TZID=Europe/London:20191214T233000
DTSTAMP:20260420T011715
CREATED:20191127T083505Z
LAST-MODIFIED:20191127T083505Z
UID:13017-1576350000-1576366200@www.comrie.org.uk
SUMMARY:White Church Christmas Party Night
DESCRIPTION:[vc_row][vc_column][vc_column_text css=”.vc_custom_1574843696363{margin-bottom: 0px !important;}”]The White Church are hosting their annual Christmas party night on Saturday 14th December. \nThe night will start with a three course meal\, then dance the night away with Jimmyz Discoz.\nThe price is £25 per person\nAny questions or if you would like to book then please contact Jaclyn on 01764 670001 or pop into the office.[/vc_column_text][/vc_column][/vc_row]
URL:https://www.comrie.org.uk/event/white-church-christmas-party-night/
LOCATION:White Church Community Centre\, Drummond Street\, Comrie
END:VEVENT
BEGIN:VEVENT
DTSTART;TZID=Europe/London:20191214T170000
DTEND;TZID=Europe/London:20191214T220000
DTSTAMP:20260420T011715
CREATED:20191205T190031Z
LAST-MODIFIED:20191205T190031Z
UID:13077-1576342800-1576360800@www.comrie.org.uk
SUMMARY:Traditional Pub Night at the Ancaster Arms
DESCRIPTION:[vc_row][vc_column][vc_column_text css=”.vc_custom_1575572425252{margin-bottom: 0px !important;}”]Locally crafted beers and a wide selection of Scottish gins are just a sample of what will be on offer.[/vc_column_text][/vc_column][/vc_row]
URL:https://www.comrie.org.uk/event/traditional-pub-night-at-the-ancaster-arms/
LOCATION:Ancaster Arms\, Comrie\, PH6 2DW
END:VEVENT
BEGIN:VEVENT
DTSTART;TZID=Europe/London:20191213T190000
DTEND;TZID=Europe/London:20191213T233000
DTSTAMP:20260420T011715
CREATED:20191205T185906Z
LAST-MODIFIED:20191205T185906Z
UID:13075-1576263600-1576279800@www.comrie.org.uk
SUMMARY:Beats and Bubbles at the Ancaster Arms
DESCRIPTION:[vc_row][vc_column][vc_column_text css=”.vc_custom_1575572317785{margin-bottom: 0px !important;}”]Join us for a glass of fizz\, scrumptious canapés and funky tunes. Tickets £10 from Hansen’s Kitchen.[/vc_column_text][/vc_column][/vc_row]
URL:https://www.comrie.org.uk/event/beats-and-bubbles-at-the-ancaster-arms/
LOCATION:Ancaster Arms\, Comrie\, PH6 2DW
END:VEVENT
BEGIN:VEVENT
DTSTART;TZID=Europe/London:20191212T193000
DTEND;TZID=Europe/London:20191212T210000
DTSTAMP:20260420T011715
CREATED:20190205T105322Z
LAST-MODIFIED:20190205T105322Z
UID:11278-1576179000-1576184400@www.comrie.org.uk
SUMMARY:Comrie Community Council - Public Meeting
DESCRIPTION:The Community Council meet at the White Church the second Thursday of every month (except July & August) in the downstairs lounge at the White Church.  For more information on the CC please visit: https://www.comrie.org.uk/community-council/
URL:https://www.comrie.org.uk/event/comrie-community-council-public-meeting-5/
LOCATION:White Church Community Centre\, Drummond Street\, Comrie
END:VEVENT
BEGIN:VEVENT
DTSTART;TZID=Europe/London:20191212T173000
DTEND;TZID=Europe/London:20191212T233000
DTSTAMP:20260420T011715
CREATED:20191205T185648Z
LAST-MODIFIED:20191205T185648Z
UID:13073-1576171800-1576193400@www.comrie.org.uk
SUMMARY:Election Night Pop Up at the Ancaster Arms
DESCRIPTION:[vc_row][vc_column][vc_column_text css=”.vc_custom_1575572182777{margin-bottom: 0px !important;}”]On your way home from work why not pop in for a pint after casting your vote and enjoy some LP albums as we await the election results.[/vc_column_text][/vc_column][/vc_row]
URL:https://www.comrie.org.uk/event/election-night-pop-up-at-the-ancaster-arms/
LOCATION:Ancaster Arms\, Comrie\, PH6 2DW
END:VEVENT
END:VCALENDAR