BEGIN:VCALENDAR
VERSION:2.0
PRODID:-//Comrie - ECPv6.15.20//NONSGML v1.0//EN
CALSCALE:GREGORIAN
METHOD:PUBLISH
X-WR-CALNAME:Comrie
X-ORIGINAL-URL:https://www.comrie.org.uk
X-WR-CALDESC:Events for Comrie
REFRESH-INTERVAL;VALUE=DURATION:PT1H
X-Robots-Tag:noindex
X-PUBLISHED-TTL:PT1H
BEGIN:VTIMEZONE
TZID:Europe/London
BEGIN:DAYLIGHT
TZOFFSETFROM:+0000
TZOFFSETTO:+0100
TZNAME:BST
DTSTART:20180325T010000
END:DAYLIGHT
BEGIN:STANDARD
TZOFFSETFROM:+0100
TZOFFSETTO:+0000
TZNAME:GMT
DTSTART:20181028T010000
END:STANDARD
BEGIN:DAYLIGHT
TZOFFSETFROM:+0000
TZOFFSETTO:+0100
TZNAME:BST
DTSTART:20190331T010000
END:DAYLIGHT
BEGIN:STANDARD
TZOFFSETFROM:+0100
TZOFFSETTO:+0000
TZNAME:GMT
DTSTART:20191027T010000
END:STANDARD
BEGIN:DAYLIGHT
TZOFFSETFROM:+0000
TZOFFSETTO:+0100
TZNAME:BST
DTSTART:20200329T010000
END:DAYLIGHT
BEGIN:STANDARD
TZOFFSETFROM:+0100
TZOFFSETTO:+0000
TZNAME:GMT
DTSTART:20201025T010000
END:STANDARD
BEGIN:DAYLIGHT
TZOFFSETFROM:+0000
TZOFFSETTO:+0100
TZNAME:BST
DTSTART:20210328T010000
END:DAYLIGHT
BEGIN:STANDARD
TZOFFSETFROM:+0100
TZOFFSETTO:+0000
TZNAME:GMT
DTSTART:20211031T010000
END:STANDARD
END:VTIMEZONE
BEGIN:VEVENT
DTSTART;TZID=Europe/London:20200131T190000
DTEND;TZID=Europe/London:20200131T220000
DTSTAMP:20260421T113309
CREATED:20200120T194645Z
LAST-MODIFIED:20200120T194645Z
UID:13316-1580497200-1580508000@www.comrie.org.uk
SUMMARY:Comrie Bowling Club Prize Bingo
DESCRIPTION:[vc_row][vc_column][vc_column_text css=”.vc_custom_1579549596048{margin-bottom: 0px !important;}”]Doors Open 7pm \nEyes Down 7.30pm \nCome along for a fun evening \nRefreshments & Raffle[/vc_column_text][/vc_column][/vc_row]
URL:https://www.comrie.org.uk/event/comrie-bowling-club-prize-bingo/
LOCATION:White Church Community Centre\, Drummond Street\, Comrie
END:VEVENT
BEGIN:VEVENT
DTSTART;TZID=Europe/London:20200119T193000
DTEND;TZID=Europe/London:20200119T220000
DTSTAMP:20260421T113309
CREATED:20191212T074625Z
LAST-MODIFIED:20191212T074625Z
UID:13139-1579462200-1579471200@www.comrie.org.uk
SUMMARY:Monthly Quiz
DESCRIPTION:[vc_row][vc_column][vc_column_text css=”.vc_custom_1576136775525{margin-bottom: 0px !important;}”]The ever popular Monthly Quiz \nTeams of 4 (£12 includes refreshments).\nBYOB.\n7.30 start with quiz master John Greer.\nEveryone welcome.[/vc_column_text][/vc_column][/vc_row]
URL:https://www.comrie.org.uk/event/monthly-quiz/
LOCATION:White Church Community Centre\, Drummond Street\, Comrie
END:VEVENT
BEGIN:VEVENT
DTSTART;TZID=Europe/London:20200111T143000
DTEND;TZID=Europe/London:20200111T220000
DTSTAMP:20260421T113309
CREATED:20200109T102318Z
LAST-MODIFIED:20200109T102318Z
UID:13208-1578753000-1578780000@www.comrie.org.uk
SUMMARY:Laurel & Hardy Day
DESCRIPTION:[vc_row][vc_column][vc_column_text css=”.vc_custom_1578565387239{margin-bottom: 0px !important;}”]Well that’s another fine mess you’ve got us into! \nWe’re having a Laurel and Hardy Day and you’re all invited to come along and enjoy the old and the new versions of Stan and Ollie. Dressing the part is optional but we’d be thrilled if you come along in your bowler hats\, your moustaches and your suits and wing collars. \nThe afternoon showing starts at 2.30pm and costs £3 on the door. We’ll be showing two black and white classics – the Music Box followed by Swiss Miss. We’ll have an interval when you can buy ice-cream from our usherette. Otherwise it’s BYO sweeties. \nThe evening showing is at 7.30 with the award winning Stan and Ollie starring Steve Coogan and John C Reilly. Tickets are £6 from Hansen’s and there may be some on the door. BYOB if you like.[/vc_column_text][/vc_column][/vc_row]
URL:https://www.comrie.org.uk/event/laurel-hardy-day/
LOCATION:Comrie Rural Hall
END:VEVENT
BEGIN:VEVENT
DTSTART;VALUE=DATE:20200110
DTEND;VALUE=DATE:20200111
DTSTAMP:20260421T113309
CREATED:20200109T103756Z
LAST-MODIFIED:20200109T103756Z
UID:13224-1578614400-1578700799@www.comrie.org.uk
SUMMARY:Friday Fizz at the Royal Hotel
DESCRIPTION:[vc_row][vc_column][vc_column_text css=”.vc_custom_1578566261756{margin-bottom: 0px !important;}”]Beat the January blues with our Friday Fizz Offer!! \nDon’t worry the weekend is nearly here!! Why not start it with a bang…a glass of Fizz & a selection of Chef Gerard’s delicious canapés?!! £9.95 per person.[/vc_column_text][/vc_column][/vc_row]
URL:https://www.comrie.org.uk/event/friday-fizz-at-the-royal-hotel/
END:VEVENT
BEGIN:VEVENT
DTSTART;TZID=Europe/London:20200105T150000
DTEND;TZID=Europe/London:20200105T163000
DTSTAMP:20260421T113309
CREATED:20191202T092157Z
LAST-MODIFIED:20191202T092157Z
UID:13059-1578236400-1578241800@www.comrie.org.uk
SUMMARY:Comrie Community Orchard Work Day and Wassailing
DESCRIPTION:[vc_row][vc_column][vc_column_text css=”.vc_custom_1575278495320{margin-bottom: 0px !important;}”]Work goes on at the Orchard …… taking care of the trees.\nDate for your diary – Sunday 5 January. 3 pm.\nCome and join the Muthill Community Choir and members of Earnsong in WASSAILING – blessing the trees for the coming year.[/vc_column_text][/vc_column][/vc_row]
URL:https://www.comrie.org.uk/event/comrie-community-orchard-work-day-and-wassailing/
LOCATION:Cultybraggan Camp\, Comrie\, ph6 2hx
END:VEVENT
BEGIN:VEVENT
DTSTART;TZID=Europe/London:20191215T143000
DTEND;TZID=Europe/London:20191215T180000
DTSTAMP:20260421T113309
CREATED:20191205T190239Z
LAST-MODIFIED:20191205T190239Z
UID:13079-1576420200-1576432800@www.comrie.org.uk
SUMMARY:Afternoon Tea with Bev at the Ancaster Arms
DESCRIPTION:[vc_row][vc_column][vc_column_text css=”.vc_custom_1575572550655{margin-bottom: 0px !important;}”]Join Bev from The Scottish Tea Factory as she walks you through some of her favourite teas (including a brand new one recently created on her trip to Myanmar) which will be paired with savoury delights from Hansen’s Kitchen. \nSpend the rest of the session chatting with friends over scones and sweet treats. £15 per person. You can even add on a glass of fizz or a cheeky G&T if you fancy![/vc_column_text][/vc_column][/vc_row]
URL:https://www.comrie.org.uk/event/afternoon-tea-with-bev-at-the-ancaster-arms/
END:VEVENT
BEGIN:VEVENT
DTSTART;TZID=Europe/London:20191214T190000
DTEND;TZID=Europe/London:20191214T233000
DTSTAMP:20260421T113309
CREATED:20191127T083505Z
LAST-MODIFIED:20191127T083505Z
UID:13017-1576350000-1576366200@www.comrie.org.uk
SUMMARY:White Church Christmas Party Night
DESCRIPTION:[vc_row][vc_column][vc_column_text css=”.vc_custom_1574843696363{margin-bottom: 0px !important;}”]The White Church are hosting their annual Christmas party night on Saturday 14th December. \nThe night will start with a three course meal\, then dance the night away with Jimmyz Discoz.\nThe price is £25 per person\nAny questions or if you would like to book then please contact Jaclyn on 01764 670001 or pop into the office.[/vc_column_text][/vc_column][/vc_row]
URL:https://www.comrie.org.uk/event/white-church-christmas-party-night/
LOCATION:White Church Community Centre\, Drummond Street\, Comrie
END:VEVENT
BEGIN:VEVENT
DTSTART;TZID=Europe/London:20191214T170000
DTEND;TZID=Europe/London:20191214T220000
DTSTAMP:20260421T113309
CREATED:20191205T190031Z
LAST-MODIFIED:20191205T190031Z
UID:13077-1576342800-1576360800@www.comrie.org.uk
SUMMARY:Traditional Pub Night at the Ancaster Arms
DESCRIPTION:[vc_row][vc_column][vc_column_text css=”.vc_custom_1575572425252{margin-bottom: 0px !important;}”]Locally crafted beers and a wide selection of Scottish gins are just a sample of what will be on offer.[/vc_column_text][/vc_column][/vc_row]
URL:https://www.comrie.org.uk/event/traditional-pub-night-at-the-ancaster-arms/
LOCATION:Ancaster Arms\, Comrie\, PH6 2DW
END:VEVENT
BEGIN:VEVENT
DTSTART;TZID=Europe/London:20191213T190000
DTEND;TZID=Europe/London:20191213T233000
DTSTAMP:20260421T113309
CREATED:20191205T185906Z
LAST-MODIFIED:20191205T185906Z
UID:13075-1576263600-1576279800@www.comrie.org.uk
SUMMARY:Beats and Bubbles at the Ancaster Arms
DESCRIPTION:[vc_row][vc_column][vc_column_text css=”.vc_custom_1575572317785{margin-bottom: 0px !important;}”]Join us for a glass of fizz\, scrumptious canapés and funky tunes. Tickets £10 from Hansen’s Kitchen.[/vc_column_text][/vc_column][/vc_row]
URL:https://www.comrie.org.uk/event/beats-and-bubbles-at-the-ancaster-arms/
LOCATION:Ancaster Arms\, Comrie\, PH6 2DW
END:VEVENT
BEGIN:VEVENT
DTSTART;TZID=Europe/London:20191212T193000
DTEND;TZID=Europe/London:20191212T210000
DTSTAMP:20260421T113309
CREATED:20190205T105322Z
LAST-MODIFIED:20190205T105322Z
UID:11278-1576179000-1576184400@www.comrie.org.uk
SUMMARY:Comrie Community Council - Public Meeting
DESCRIPTION:The Community Council meet at the White Church the second Thursday of every month (except July & August) in the downstairs lounge at the White Church.  For more information on the CC please visit: https://www.comrie.org.uk/community-council/
URL:https://www.comrie.org.uk/event/comrie-community-council-public-meeting-5/
LOCATION:White Church Community Centre\, Drummond Street\, Comrie
END:VEVENT
BEGIN:VEVENT
DTSTART;TZID=Europe/London:20191212T173000
DTEND;TZID=Europe/London:20191212T233000
DTSTAMP:20260421T113309
CREATED:20191205T185648Z
LAST-MODIFIED:20191205T185648Z
UID:13073-1576171800-1576193400@www.comrie.org.uk
SUMMARY:Election Night Pop Up at the Ancaster Arms
DESCRIPTION:[vc_row][vc_column][vc_column_text css=”.vc_custom_1575572182777{margin-bottom: 0px !important;}”]On your way home from work why not pop in for a pint after casting your vote and enjoy some LP albums as we await the election results.[/vc_column_text][/vc_column][/vc_row]
URL:https://www.comrie.org.uk/event/election-night-pop-up-at-the-ancaster-arms/
LOCATION:Ancaster Arms\, Comrie\, PH6 2DW
END:VEVENT
BEGIN:VEVENT
DTSTART;TZID=Europe/London:20191211T093000
DTEND;TZID=Europe/London:20191211T153000
DTSTAMP:20260421T113309
CREATED:20190212T132316Z
LAST-MODIFIED:20190212T132316Z
UID:11345-1576056600-1576078200@www.comrie.org.uk
SUMMARY:Comrie-a-Long
DESCRIPTION:Sing-a-long Wednesday.\n2.00-3.30pm\nComrie Parish Church.\nAll Welcome.
URL:https://www.comrie.org.uk/event/comrie-a-long-2/
LOCATION:Comrie Parish Church Hall\, Burrell Street\, Comrie\, PH6 2JP
END:VEVENT
BEGIN:VEVENT
DTSTART;TZID=Europe/London:20191208T193000
DTEND;TZID=Europe/London:20191208T220000
DTSTAMP:20260421T113309
CREATED:20190125T203816Z
LAST-MODIFIED:20190125T203816Z
UID:11100-1575833400-1575842400@www.comrie.org.uk
SUMMARY:Monthly Quiz at the White Church Community Centre
DESCRIPTION:The ever popular Monthly Quiz holds the last one for this year at the White Church. \nTeams of 4 (£12 includes refreshments).\nBYOB.\n7.30 start with quiz master John Greer.\nEveryone welcome.
URL:https://www.comrie.org.uk/event/monthly-quiz-at-the-white-church-community-centre-8/
LOCATION:White Church Community Centre\, Drummond Street\, Comrie
END:VEVENT
BEGIN:VEVENT
DTSTART;TZID=Europe/London:20191207T100000
DTEND;TZID=Europe/London:20191207T120000
DTSTAMP:20260421T113309
CREATED:20191205T190547Z
LAST-MODIFIED:20191205T190547Z
UID:13081-1575712800-1575720000@www.comrie.org.uk
SUMMARY:Comrie Primary School Christmas Fair
DESCRIPTION:[vc_row][vc_column][vc_column_text css=”.vc_custom_1575572733300{margin-bottom: 0px !important;}”]Comrie Primary School Christmas Fair is on this Saturday at The Parish Church…10am – 12pm \nPop along to do your shopping and support your Primary School \n\n\n\n\n\n\n\n\n\n[/vc_column_text][/vc_column][/vc_row]
URL:https://www.comrie.org.uk/event/comrie-primary-school-christmas-fair/
END:VEVENT
BEGIN:VEVENT
DTSTART;TZID=Europe/London:20191204T190000
DTEND;TZID=Europe/London:20191207T213000
DTSTAMP:20260421T113309
CREATED:20191127T090851Z
LAST-MODIFIED:20191127T090851Z
UID:13044-1575486000-1575754200@www.comrie.org.uk
SUMMARY:Comrie Drama presents Scrooge
DESCRIPTION:[vc_row][vc_column][vc_column_text css=”.vc_custom_1574845725149{margin-bottom: 0px !important;}”]Tickets available at the White Church or Hansen’s Deli[/vc_column_text][/vc_column][/vc_row]
URL:https://www.comrie.org.uk/event/comrie-drama-presents-scrooge/
LOCATION:White Church Community Centre\, Drummond Street\, Comrie
END:VEVENT
BEGIN:VEVENT
DTSTART;TZID=Europe/London:20191201T110000
DTEND;TZID=Europe/London:20191201T150000
DTSTAMP:20260421T113309
CREATED:20191127T083755Z
LAST-MODIFIED:20191127T083755Z
UID:13019-1575198000-1575212400@www.comrie.org.uk
SUMMARY:Community Orchard - Work Day
DESCRIPTION:[vc_row][vc_column][vc_column_text css=”.vc_custom_1574843867690{margin-bottom: 0px !important;}”]This Sunday\, 1st December\, is our monthly Work Day\, 11 am till 3 pm. \nWinter work to be done around the orchard\, to help our trees produce fruit again next year.\n \nDo come and join us. Dress in your gardening gear\, with sturdy boots and gloves.\nSunday does promise to be a dry day!!\n \nVolunteers and visitors very welcome.[/vc_column_text][/vc_column][/vc_row]
URL:https://www.comrie.org.uk/event/community-orchard-work-day/
LOCATION:Cultybraggan Camp\, Comrie\, ph6 2hx
END:VEVENT
BEGIN:VEVENT
DTSTART;TZID=Europe/London:20191130T100000
DTEND;TZID=Europe/London:20191130T120000
DTSTAMP:20260421T113309
CREATED:20191127T084600Z
LAST-MODIFIED:20191127T084600Z
UID:13027-1575108000-1575115200@www.comrie.org.uk
SUMMARY:Comrie Parish Church Christmas Fayre
DESCRIPTION:[vc_row][vc_column][vc_column_text css=”.vc_custom_1574844331125{margin-bottom: 0px !important;}”]Comrie Parish Church Christmas Fayre …\nSaturday 30th November 10am to 12 noon .. \nCome along and join us in the Church on Saturday for tea/coffee and some delicious mince pies etc. Then have a wander round the lovely stalls which will be there. \nLooking forward to seeing you on Saturday[/vc_column_text][/vc_column][/vc_row]
URL:https://www.comrie.org.uk/event/comrie-parish-church-christmas-fayre/
END:VEVENT
BEGIN:VEVENT
DTSTART;TZID=Europe/London:20191129T190000
DTEND;TZID=Europe/London:20191129T210000
DTSTAMP:20260421T113309
CREATED:20191108T151248Z
LAST-MODIFIED:20191108T151349Z
UID:12960-1575054000-1575061200@www.comrie.org.uk
SUMMARY:Wine Tasting and Festive Nibbles at Hansen's Deli
DESCRIPTION:[vc_row][vc_column][vc_column_text css=”.vc_custom_1573226023346{margin-bottom: 0px !important;}”]Our always popular Christmas Wine Tasting and Festive Nibbles evening is back this year on Friday 29th Nov. \nWith special offers available on the evening only\, tickets go fast and are now on sale in the Deli… don’t delay\, pick yours up today 🎟🍷🥂🧀🎄[/vc_column_text][/vc_column][/vc_row]
URL:https://www.comrie.org.uk/event/wine-tasting-and-festive-nibbles-at-hansens-deli/
LOCATION:Hansen’s Deli
END:VEVENT
BEGIN:VEVENT
DTSTART;TZID=Europe/London:20191123T193000
DTEND;TZID=Europe/London:20191123T223000
DTSTAMP:20260421T113309
CREATED:20190210T165815Z
LAST-MODIFIED:20190210T165815Z
UID:11308-1574537400-1574548200@www.comrie.org.uk
SUMMARY:Chris's Gigs Presents - Shooglenifty
DESCRIPTION:Nov 23rd  Shooglenifty \nThe originators of Acid Croft with their own full on style of ‘folk’ music.\nhttps://www.shooglenifty.com
URL:https://www.comrie.org.uk/event/chriss-gigs-presents-shooglenifty/
LOCATION:White Church Community Centre\, Drummond Street\, Comrie
END:VEVENT
BEGIN:VEVENT
DTSTART;TZID=Europe/London:20191121T140000
DTEND;TZID=Europe/London:20191121T200000
DTSTAMP:20260421T113309
CREATED:20191108T152530Z
LAST-MODIFIED:20191108T152543Z
UID:12976-1574344800-1574366400@www.comrie.org.uk
SUMMARY:Comrie Christmas Shopping Evening
DESCRIPTION:
URL:https://www.comrie.org.uk/event/comrie-christmas-shopping-evening/
END:VEVENT
BEGIN:VEVENT
DTSTART;TZID=Europe/London:20191120T203000
DTEND;TZID=Europe/London:20191120T223000
DTSTAMP:20260421T113309
CREATED:20191001T190610Z
LAST-MODIFIED:20191001T190610Z
UID:12693-1574281800-1574289000@www.comrie.org.uk
SUMMARY:Ancaster Arms - Slow Music Session
DESCRIPTION:[vc_row][vc_column][vc_column_text css=”.vc_custom_1569956760277{margin-bottom: 0px !important;}”]Slow Session from 8.30pm \nCome and learn/listen to new tunes with some friendly faces. Enjoy relaxed music playing\, where the speed of play may be slower\, to be inclusive for beginner musicians. \nBring your instrument/voice or just come and support your friends. \nDelicious craft beers\, wines\, spirits\, soft drinks\, tea&coffee… plus pub-snacks and sourdough toasties will be served from 5.30pm onwards  😋\n#wednesdayslowsession\n#slowmusicsession #craftbeer #pub #localpub #comrie #perthshire #ancasterarms #realbeer #drinksandeats #toasties #musicsession #familyfriendly #dogswelcome #popuppub #greatatmosphere[/vc_column_text][/vc_column][/vc_row]
URL:https://www.comrie.org.uk/event/ancaster-arms-slow-music-session/
LOCATION:Ancaster Arms\, Comrie\, PH6 2DW
END:VEVENT
BEGIN:VEVENT
DTSTART;TZID=Europe/London:20191120T073000
DTEND;TZID=Europe/London:20191120T213000
DTSTAMP:20260421T113309
CREATED:20191117T150013Z
LAST-MODIFIED:20191117T150013Z
UID:12991-1574235000-1574285400@www.comrie.org.uk
SUMMARY:Meet Your SNP MP Candidate - John Nicholson
DESCRIPTION:[vc_row][vc_column][vc_column_text css=”.vc_custom_1574002772236{margin-bottom: 0px !important;}”]Strathearn SNP are hosting a public meeting with SNP candidate for Ochil and South Perthshire John Nicolson. \nThe meeting will take place on Wednesday 20th November\, in the Rural Hall\, doors open at 7pm for a 7:30pm start. \nAll Welcome[/vc_column_text][/vc_column][/vc_row]
URL:https://www.comrie.org.uk/event/meet-your-snp-mp-candidate-john-nicholson/
LOCATION:Comrie Rural Hall
END:VEVENT
BEGIN:VEVENT
DTSTART;TZID=Europe/London:20191117T193000
DTEND;TZID=Europe/London:20191117T220000
DTSTAMP:20260421T113309
CREATED:20190125T203707Z
LAST-MODIFIED:20190125T203707Z
UID:11098-1574019000-1574028000@www.comrie.org.uk
SUMMARY:Monthly Quiz at the White Church Community Centre
DESCRIPTION:The ever popular Monthly Quiz held at the White Church. \nTeams of 4 (£12 includes refreshments).\nBYOB.\n7.30 start with quiz master John Greer.\nEveryone welcome.
URL:https://www.comrie.org.uk/event/monthly-quiz-at-the-white-church-community-centre-7/
LOCATION:White Church Community Centre\, Drummond Street\, Comrie
END:VEVENT
BEGIN:VEVENT
DTSTART;TZID=Europe/London:20191117T140000
DTEND;TZID=Europe/London:20191117T180000
DTSTAMP:20260421T113309
CREATED:20191018T092542Z
LAST-MODIFIED:20191018T092542Z
UID:12840-1573999200-1574013600@www.comrie.org.uk
SUMMARY:Conscious Christmas Cheer at Comrie Croft
DESCRIPTION:[vc_row][vc_column][vc_column_text css=”.vc_custom_1571390722664{margin-bottom: 0px !important;}”]Come and join us at our Marketta for some Concious Christmas cheer this year! \nAlongside some wonderful local Makers\, we’ll have mulled wine\, kids craft workshops\, story telling\, spoon carving and wreath making workshops (booking necessary!)\, a DIY textile repair station and lots of sparkly lights! \n17th November 2pm-6pm \nWe look forward to seeing you there ♥[/vc_column_text][/vc_column][/vc_row]
URL:https://www.comrie.org.uk/event/conscious-christmas-cheer-at-comrie-croft/
LOCATION:Comrie Croft\, Comrie\, PH7 4JZ
END:VEVENT
BEGIN:VEVENT
DTSTART;TZID=Europe/London:20191116T120000
DTEND;TZID=Europe/London:20191116T150000
DTSTAMP:20260421T113309
CREATED:20191103T104527Z
LAST-MODIFIED:20191103T104527Z
UID:12926-1573905600-1573916400@www.comrie.org.uk
SUMMARY:Comrie Croft Cosy Winter Nosy
DESCRIPTION:[vc_row][vc_column][vc_column_text css=”.vc_custom_1572777916554{margin-bottom: 0px !important;}”]Marshmallow toasting \nLive Music \nFree Entry \nTasters\nLocal Artists and Crafters\nPhotobooth\nFlowers from “Tomnaha” grown here on site\nFood and drinks available from the airstream trailer “Bonnie Mountian”[/vc_column_text][/vc_column][/vc_row]
URL:https://www.comrie.org.uk/event/comrie-croft-cosy-winter-nosy/
LOCATION:Comrie Croft\, Comrie\, PH7 4JZ
END:VEVENT
BEGIN:VEVENT
DTSTART;TZID=Europe/London:20191114T193000
DTEND;TZID=Europe/London:20191114T210000
DTSTAMP:20260421T113309
CREATED:20190205T105227Z
LAST-MODIFIED:20190205T105227Z
UID:11276-1573759800-1573765200@www.comrie.org.uk
SUMMARY:Comrie Community Council - Public Meeting
DESCRIPTION:The Community Council meet at the White Church the second Thursday of every month (except July & August) in the downstairs lounge at the White Church.  For more information on the CC please visit: https://www.comrie.org.uk/community-council/
URL:https://www.comrie.org.uk/event/comrie-community-council-public-meeting-4/
END:VEVENT
BEGIN:VEVENT
DTSTART;TZID=Europe/London:20191112T093000
DTEND;TZID=Europe/London:20191112T153000
DTSTAMP:20260421T113309
CREATED:20190212T132150Z
LAST-MODIFIED:20190212T132150Z
UID:11343-1573551000-1573572600@www.comrie.org.uk
SUMMARY:Comrie-a-Long
DESCRIPTION:Sing-a-long Wednesday.\n2.00-3.30pm\nComrie Parish Church.\nAll Welcome.
URL:https://www.comrie.org.uk/event/comrie-a-long/
LOCATION:Comrie Parish Church Hall\, Burrell Street\, Comrie\, PH6 2JP
END:VEVENT
BEGIN:VEVENT
DTSTART;TZID=Europe/London:20191109T100000
DTEND;TZID=Europe/London:20191109T160000
DTSTAMP:20260421T113309
CREATED:20191002T155232Z
LAST-MODIFIED:20191002T155232Z
UID:12717-1573293600-1573315200@www.comrie.org.uk
SUMMARY:Comrie Craft Fair
DESCRIPTION:[vc_row][vc_column][vc_column_text css=”.vc_custom_1570031543967{margin-bottom: 0px !important;}”]Admission is completely free \nFood and drinks will be available\, provided by the SWI[/vc_column_text][/vc_column][/vc_row]
URL:https://www.comrie.org.uk/event/comrie-craft-fair/
LOCATION:White Church Community Centre\, Drummond Street\, Comrie
END:VEVENT
BEGIN:VEVENT
DTSTART;VALUE=DATE:20191102
DTEND;VALUE=DATE:20191103
DTSTAMP:20260421T113309
CREATED:20191024T142808Z
LAST-MODIFIED:20191024T142808Z
UID:12872-1572652800-1572739199@www.comrie.org.uk
SUMMARY:Comrie's Blast in the Park
DESCRIPTION:[vc_row][vc_column][vc_column_text css=”.vc_custom_1571927281730{margin-bottom: 0px !important;}”]LOOK OUT FOR THE POSTER WITH TIMINGS – COMING SOON \nThe PTA in association with Blast Design are having the fireworks ‘Blast In The Park’ in Laggan Park\, Comrie on Saturday 2nd Nov. \nAll welcome and entry by donation for school and community groups fund raising[/vc_column_text][/vc_column][/vc_row]
URL:https://www.comrie.org.uk/event/comries-blast-in-the-park/
LOCATION:Laggan Park
END:VEVENT
BEGIN:VEVENT
DTSTART;TZID=Europe/London:20191029T180000
DTEND;TZID=Europe/London:20191029T190000
DTSTAMP:20260421T113309
CREATED:20191007T183704Z
LAST-MODIFIED:20191007T183704Z
UID:12743-1572372000-1572375600@www.comrie.org.uk
SUMMARY:Halloween Wreath Making Workshop
DESCRIPTION:[vc_row][vc_column][vc_column_text css=”.vc_custom_1570473415918{margin-bottom: 0px !important;}”]Fun wreath making workshop with Willow Works\, Tuesday 29th October: Wreath making workshop\, Rural Hall\, Comrie\, 6pm to 7pm. £12 text June on 07771875443\, message Willow Works\, Crieff or email june@junemcewan.biz \nWe will supply the willow\, greenery\, spooky add-ons and tools. Bring some decorations to suit your taste – bats\, ribbons\, fresh flowers\, spooky lights\, the sky’s the limit!! \nYou will learn how to make a natural wreath from willow\, decorate it and take home on the evening. \nChildren are welcome\, but must be aware of the scary tools and long willow rods and guardians will be expected to guard! There will be some willow items and various cards available to buy on the evening. \nTools\, (secateurs etc.) will be provided\, but if you have your own\, please bring them along as it will prevent the need for sharing! \nHow to pay:\nCheques to\nJune McEwan T/A The WORKS \nBACS to\nAccount Name\nJune McEwan T/A The WORKS\nAccount No: 0000 222 3\nSort Code; 30 – 25 – 87\nBank Address\nTSB High St. Crieff\, PH7 3AH \nPayPal\npaypal.me/JuneMcEwan/18[/vc_column_text][/vc_column][/vc_row]
URL:https://www.comrie.org.uk/event/halloween-wreath-making-workshop/
LOCATION:Comrie Rural Hall
END:VEVENT
END:VCALENDAR